BEGIN:VCALENDAR
VERSION:2.0
PRODID:-//Rocky View Roller Derby - ECPv6.15.10//NONSGML v1.0//EN
CALSCALE:GREGORIAN
METHOD:PUBLISH
X-WR-CALNAME:Rocky View Roller Derby
X-ORIGINAL-URL:https://rvrollerderby.com
X-WR-CALDESC:Events for Rocky View Roller Derby
REFRESH-INTERVAL;VALUE=DURATION:PT1H
X-Robots-Tag:noindex
X-PUBLISHED-TTL:PT1H
BEGIN:VTIMEZONE
TZID:America/Edmonton
BEGIN:DAYLIGHT
TZOFFSETFROM:-0700
TZOFFSETTO:-0600
TZNAME:MDT
DTSTART:20190310T090000
END:DAYLIGHT
BEGIN:STANDARD
TZOFFSETFROM:-0600
TZOFFSETTO:-0700
TZNAME:MST
DTSTART:20191103T080000
END:STANDARD
BEGIN:DAYLIGHT
TZOFFSETFROM:-0700
TZOFFSETTO:-0600
TZNAME:MDT
DTSTART:20200308T090000
END:DAYLIGHT
BEGIN:STANDARD
TZOFFSETFROM:-0600
TZOFFSETTO:-0700
TZNAME:MST
DTSTART:20201101T080000
END:STANDARD
BEGIN:DAYLIGHT
TZOFFSETFROM:-0700
TZOFFSETTO:-0600
TZNAME:MDT
DTSTART:20210314T090000
END:DAYLIGHT
BEGIN:STANDARD
TZOFFSETFROM:-0600
TZOFFSETTO:-0700
TZNAME:MST
DTSTART:20211107T080000
END:STANDARD
END:VTIMEZONE
BEGIN:VTIMEZONE
TZID:America/Toronto
BEGIN:DAYLIGHT
TZOFFSETFROM:-0500
TZOFFSETTO:-0400
TZNAME:EDT
DTSTART:20190310T070000
END:DAYLIGHT
BEGIN:STANDARD
TZOFFSETFROM:-0400
TZOFFSETTO:-0500
TZNAME:EST
DTSTART:20191103T060000
END:STANDARD
BEGIN:DAYLIGHT
TZOFFSETFROM:-0500
TZOFFSETTO:-0400
TZNAME:EDT
DTSTART:20200308T070000
END:DAYLIGHT
BEGIN:STANDARD
TZOFFSETFROM:-0400
TZOFFSETTO:-0500
TZNAME:EST
DTSTART:20201101T060000
END:STANDARD
BEGIN:DAYLIGHT
TZOFFSETFROM:-0500
TZOFFSETTO:-0400
TZNAME:EDT
DTSTART:20210314T070000
END:DAYLIGHT
BEGIN:STANDARD
TZOFFSETFROM:-0400
TZOFFSETTO:-0500
TZNAME:EST
DTSTART:20211107T060000
END:STANDARD
END:VTIMEZONE
BEGIN:VEVENT
DTSTART;TZID=America/Edmonton:20200909T193000
DTEND;TZID=America/Edmonton:20200909T213000
DTSTAMP:20260423T170853
CREATED:20191220T192936Z
LAST-MODIFIED:20191220T192936Z
UID:2922-1599679800-1599687000@rvrollerderby.com
SUMMARY:Rocky View Rollers Practice
DESCRIPTION:This practice is for bench-marked skaters. Quiet Riot will focus more on game play and strategy at these practices. Don’t forget to bring running shoes for dry land warm-ups.
URL:https://rvrollerderby.com/event/rocky-view-rollers-practice-64/
LOCATION:Kings Court Church\, 2964 Kingsview Blvd SE\, Airdrie\, Alberta\, T4A 0C9\, Canada
ATTACH;FMTTYPE=image/jpeg:https://rvrollerderby.com/wp-content/uploads/2018/09/game-5.jpg
ORGANIZER;CN="RVRDA":MAILTO:rockyviewrollers@gmail.com
END:VEVENT
BEGIN:VEVENT
DTSTART;TZID=America/Toronto:20200908T193000
DTEND;TZID=America/Toronto:20200908T213000
DTSTAMP:20260423T170853
CREATED:20191218T194331Z
LAST-MODIFIED:20191218T194331Z
UID:2730-1599593400-1599600600@rvrollerderby.com
SUMMARY:East Side Wheeler's & Eat Side Practice
DESCRIPTION:This is our CO-ED benchmarked practice. All benchmarked skaters are welcome. Skaters from outside the league can pay $10 to attend. \nWith the East Side Wheeler’s being our “B” level team\, Riot focuses on more advances strategies and footwork. There is always a scrimmage portion at the end of practice.
URL:https://rvrollerderby.com/event/east-side-wheelers-eat-side-practice-70/
LOCATION:Indus Recreational Centre\, 225155 Range Road 281A\, Indus\, Alberta\, T1X 0H7\, Canada
ATTACH;FMTTYPE=image/jpeg:https://rvrollerderby.com/wp-content/uploads/2019/04/ESW-Team.jpg
END:VEVENT
BEGIN:VEVENT
DTSTART;TZID=America/Edmonton:20200907T193000
DTEND;TZID=America/Edmonton:20200907T213000
DTSTAMP:20260423T170853
CREATED:20191219T000644Z
LAST-MODIFIED:20191219T000644Z
UID:2812-1599507000-1599514200@rvrollerderby.com
SUMMARY:Fresh Meat Practice - Airdrie
DESCRIPTION:Monday night practice is for Fresh Meat. We welcome all skaters to these practices. Fresh Meat Coaches focus on basic skilled\, endurance and fitness. Everyone always benefits from these practices. Don’t forget to bring running shoes for dry land warm-ups. \n$10 drop in fee for skaters from outside of the league.
URL:https://rvrollerderby.com/event/fresh-meat-practice-airdrie-27/
LOCATION:Kings Court Church\, 2964 Kingsview Blvd SE\, Airdrie\, Alberta\, T4A 0C9\, Canada
ATTACH;FMTTYPE=image/jpeg:https://rvrollerderby.com/wp-content/uploads/2018/09/dirty-deb-1.jpg
ORGANIZER;CN="RVRDA":MAILTO:rockyviewrollers@gmail.com
END:VEVENT
BEGIN:VEVENT
DTSTART;TZID=America/Edmonton:20200902T193000
DTEND;TZID=America/Edmonton:20200902T213000
DTSTAMP:20260423T170853
CREATED:20191220T192910Z
LAST-MODIFIED:20191220T192910Z
UID:2920-1599075000-1599082200@rvrollerderby.com
SUMMARY:Rocky View Rollers Practice
DESCRIPTION:This practice is for bench-marked skaters. Quiet Riot will focus more on game play and strategy at these practices. Don’t forget to bring running shoes for dry land warm-ups.
URL:https://rvrollerderby.com/event/rocky-view-rollers-practice-63/
LOCATION:Kings Court Church\, 2964 Kingsview Blvd SE\, Airdrie\, Alberta\, T4A 0C9\, Canada
ATTACH;FMTTYPE=image/jpeg:https://rvrollerderby.com/wp-content/uploads/2018/09/game-5.jpg
ORGANIZER;CN="RVRDA":MAILTO:rockyviewrollers@gmail.com
END:VEVENT
BEGIN:VEVENT
DTSTART;TZID=America/Toronto:20200901T193000
DTEND;TZID=America/Toronto:20200901T213000
DTSTAMP:20260423T170853
CREATED:20191218T194235Z
LAST-MODIFIED:20191218T194235Z
UID:2728-1598988600-1598995800@rvrollerderby.com
SUMMARY:East Side Wheeler's & Eat Side Practice
DESCRIPTION:This is our CO-ED benchmarked practice. All benchmarked skaters are welcome. Skaters from outside the league can pay $10 to attend. \nWith the East Side Wheeler’s being our “B” level team\, Riot focuses on more advances strategies and footwork. There is always a scrimmage portion at the end of practice.
URL:https://rvrollerderby.com/event/east-side-wheelers-eat-side-practice-69/
LOCATION:Indus Recreational Centre\, 225155 Range Road 281A\, Indus\, Alberta\, T1X 0H7\, Canada
ATTACH;FMTTYPE=image/jpeg:https://rvrollerderby.com/wp-content/uploads/2019/04/ESW-Team.jpg
END:VEVENT
BEGIN:VEVENT
DTSTART;TZID=America/Toronto:20200825T193000
DTEND;TZID=America/Toronto:20200825T213000
DTSTAMP:20260423T170853
CREATED:20191218T194209Z
LAST-MODIFIED:20191218T194209Z
UID:2726-1598383800-1598391000@rvrollerderby.com
SUMMARY:East Side Wheeler's & Eat Side Practice
DESCRIPTION:This is our CO-ED benchmarked practice. All benchmarked skaters are welcome. Skaters from outside the league can pay $10 to attend. \nWith the East Side Wheeler’s being our “B” level team\, Riot focuses on more advances strategies and footwork. There is always a scrimmage portion at the end of practice.
URL:https://rvrollerderby.com/event/east-side-wheelers-eat-side-practice-68/
LOCATION:Indus Recreational Centre\, 225155 Range Road 281A\, Indus\, Alberta\, T1X 0H7\, Canada
ATTACH;FMTTYPE=image/jpeg:https://rvrollerderby.com/wp-content/uploads/2019/04/ESW-Team.jpg
END:VEVENT
BEGIN:VEVENT
DTSTART;TZID=America/Toronto:20200818T193000
DTEND;TZID=America/Toronto:20200818T213000
DTSTAMP:20260423T170853
CREATED:20191218T194135Z
LAST-MODIFIED:20191218T194135Z
UID:2724-1597779000-1597786200@rvrollerderby.com
SUMMARY:East Side Wheeler's & Eat Side Practice
DESCRIPTION:This is our CO-ED benchmarked practice. All benchmarked skaters are welcome. Skaters from outside the league can pay $10 to attend. \nWith the East Side Wheeler’s being our “B” level team\, Riot focuses on more advances strategies and footwork. There is always a scrimmage portion at the end of practice.
URL:https://rvrollerderby.com/event/east-side-wheelers-eat-side-practice-67/
LOCATION:Indus Recreational Centre\, 225155 Range Road 281A\, Indus\, Alberta\, T1X 0H7\, Canada
ATTACH;FMTTYPE=image/jpeg:https://rvrollerderby.com/wp-content/uploads/2019/04/ESW-Team.jpg
END:VEVENT
BEGIN:VEVENT
DTSTART;TZID=America/Toronto:20200811T193000
DTEND;TZID=America/Toronto:20200811T213000
DTSTAMP:20260423T170853
CREATED:20191218T194100Z
LAST-MODIFIED:20191218T194100Z
UID:2722-1597174200-1597181400@rvrollerderby.com
SUMMARY:East Side Wheeler's & Eat Side Practice
DESCRIPTION:This is our CO-ED benchmarked practice. All benchmarked skaters are welcome. Skaters from outside the league can pay $10 to attend. \nWith the East Side Wheeler’s being our “B” level team\, Riot focuses on more advances strategies and footwork. There is always a scrimmage portion at the end of practice.
URL:https://rvrollerderby.com/event/east-side-wheelers-eat-side-practice-66/
LOCATION:Indus Recreational Centre\, 225155 Range Road 281A\, Indus\, Alberta\, T1X 0H7\, Canada
ATTACH;FMTTYPE=image/jpeg:https://rvrollerderby.com/wp-content/uploads/2019/04/ESW-Team.jpg
END:VEVENT
BEGIN:VEVENT
DTSTART;TZID=America/Toronto:20200804T193000
DTEND;TZID=America/Toronto:20200804T213000
DTSTAMP:20260423T170853
CREATED:20191218T192640Z
LAST-MODIFIED:20191218T192640Z
UID:2720-1596569400-1596576600@rvrollerderby.com
SUMMARY:East Side Wheeler's & Eat Side Practice
DESCRIPTION:This is our CO-ED benchmarked practice. All benchmarked skaters are welcome. Skaters from outside the league can pay $10 to attend. \nWith the East Side Wheeler’s being our “B” level team\, Riot focuses on more advances strategies and footwork. There is always a scrimmage portion at the end of practice.
URL:https://rvrollerderby.com/event/east-side-wheelers-eat-side-practice-65/
LOCATION:Indus Recreational Centre\, 225155 Range Road 281A\, Indus\, Alberta\, T1X 0H7\, Canada
ATTACH;FMTTYPE=image/jpeg:https://rvrollerderby.com/wp-content/uploads/2019/04/ESW-Team.jpg
END:VEVENT
BEGIN:VEVENT
DTSTART;TZID=America/Toronto:20200728T193000
DTEND;TZID=America/Toronto:20200728T213000
DTSTAMP:20260423T170853
CREATED:20191218T192618Z
LAST-MODIFIED:20191218T192618Z
UID:2718-1595964600-1595971800@rvrollerderby.com
SUMMARY:East Side Wheeler's & Eat Side Practice
DESCRIPTION:This is our CO-ED benchmarked practice. All benchmarked skaters are welcome. Skaters from outside the league can pay $10 to attend. \nWith the East Side Wheeler’s being our “B” level team\, Riot focuses on more advances strategies and footwork. There is always a scrimmage portion at the end of practice.
URL:https://rvrollerderby.com/event/east-side-wheelers-eat-side-practice-64/
LOCATION:Indus Recreational Centre\, 225155 Range Road 281A\, Indus\, Alberta\, T1X 0H7\, Canada
ATTACH;FMTTYPE=image/jpeg:https://rvrollerderby.com/wp-content/uploads/2019/04/ESW-Team.jpg
END:VEVENT
BEGIN:VEVENT
DTSTART;TZID=America/Toronto:20200721T193000
DTEND;TZID=America/Toronto:20200721T213000
DTSTAMP:20260423T170853
CREATED:20191218T192558Z
LAST-MODIFIED:20191218T192558Z
UID:2716-1595359800-1595367000@rvrollerderby.com
SUMMARY:East Side Wheeler's & Eat Side Practice
DESCRIPTION:This is our CO-ED benchmarked practice. All benchmarked skaters are welcome. Skaters from outside the league can pay $10 to attend. \nWith the East Side Wheeler’s being our “B” level team\, Riot focuses on more advances strategies and footwork. There is always a scrimmage portion at the end of practice.
URL:https://rvrollerderby.com/event/east-side-wheelers-eat-side-practice-63/
LOCATION:Indus Recreational Centre\, 225155 Range Road 281A\, Indus\, Alberta\, T1X 0H7\, Canada
ATTACH;FMTTYPE=image/jpeg:https://rvrollerderby.com/wp-content/uploads/2019/04/ESW-Team.jpg
END:VEVENT
BEGIN:VEVENT
DTSTART;TZID=America/Toronto:20200714T193000
DTEND;TZID=America/Toronto:20200714T213000
DTSTAMP:20260423T170853
CREATED:20191218T192532Z
LAST-MODIFIED:20191218T192532Z
UID:2714-1594755000-1594762200@rvrollerderby.com
SUMMARY:East Side Wheeler's & Eat Side Practice
DESCRIPTION:This is our CO-ED benchmarked practice. All benchmarked skaters are welcome. Skaters from outside the league can pay $10 to attend. \nWith the East Side Wheeler’s being our “B” level team\, Riot focuses on more advances strategies and footwork. There is always a scrimmage portion at the end of practice.
URL:https://rvrollerderby.com/event/east-side-wheelers-eat-side-practice-62/
LOCATION:Indus Recreational Centre\, 225155 Range Road 281A\, Indus\, Alberta\, T1X 0H7\, Canada
ATTACH;FMTTYPE=image/jpeg:https://rvrollerderby.com/wp-content/uploads/2019/04/ESW-Team.jpg
END:VEVENT
BEGIN:VEVENT
DTSTART;TZID=America/Toronto:20200707T193000
DTEND;TZID=America/Toronto:20200707T213000
DTSTAMP:20260423T170853
CREATED:20191218T192513Z
LAST-MODIFIED:20191218T192513Z
UID:2712-1594150200-1594157400@rvrollerderby.com
SUMMARY:East Side Wheeler's & Eat Side Practice
DESCRIPTION:This is our CO-ED benchmarked practice. All benchmarked skaters are welcome. Skaters from outside the league can pay $10 to attend. \nWith the East Side Wheeler’s being our “B” level team\, Riot focuses on more advances strategies and footwork. There is always a scrimmage portion at the end of practice.
URL:https://rvrollerderby.com/event/east-side-wheelers-eat-side-practice-61/
LOCATION:Indus Recreational Centre\, 225155 Range Road 281A\, Indus\, Alberta\, T1X 0H7\, Canada
ATTACH;FMTTYPE=image/jpeg:https://rvrollerderby.com/wp-content/uploads/2019/04/ESW-Team.jpg
END:VEVENT
BEGIN:VEVENT
DTSTART;TZID=America/Toronto:20200630T193000
DTEND;TZID=America/Toronto:20200630T213000
DTSTAMP:20260423T170853
CREATED:20191218T192445Z
LAST-MODIFIED:20191218T192445Z
UID:2710-1593545400-1593552600@rvrollerderby.com
SUMMARY:East Side Wheeler's & Eat Side Practice
DESCRIPTION:This is our CO-ED benchmarked practice. All benchmarked skaters are welcome. Skaters from outside the league can pay $10 to attend. \nWith the East Side Wheeler’s being our “B” level team\, Riot focuses on more advances strategies and footwork. There is always a scrimmage portion at the end of practice.
URL:https://rvrollerderby.com/event/east-side-wheelers-eat-side-practice-60/
LOCATION:Indus Recreational Centre\, 225155 Range Road 281A\, Indus\, Alberta\, T1X 0H7\, Canada
ATTACH;FMTTYPE=image/jpeg:https://rvrollerderby.com/wp-content/uploads/2019/04/ESW-Team.jpg
END:VEVENT
BEGIN:VEVENT
DTSTART;TZID=America/Edmonton:20200629T193000
DTEND;TZID=America/Edmonton:20200629T213000
DTSTAMP:20260423T170853
CREATED:20191218T231850Z
LAST-MODIFIED:20191218T231850Z
UID:2810-1593459000-1593466200@rvrollerderby.com
SUMMARY:Fresh Meat Practice - Airdrie
DESCRIPTION:Monday night practice is for Fresh Meat. We welcome all skaters to these practices. Fresh Meat Coaches focus on basic skilled\, endurance and fitness. Everyone always benefits from these practices. Don’t forget to bring running shoes for dry land warm-ups. \n$10 drop in fee for skaters from outside of the league.
URL:https://rvrollerderby.com/event/fresh-meat-practice-airdrie-26/
LOCATION:Kings Court Church\, 2964 Kingsview Blvd SE\, Airdrie\, Alberta\, T4A 0C9\, Canada
ATTACH;FMTTYPE=image/jpeg:https://rvrollerderby.com/wp-content/uploads/2018/09/dirty-deb-1.jpg
ORGANIZER;CN="RVRDA":MAILTO:rockyviewrollers@gmail.com
END:VEVENT
BEGIN:VEVENT
DTSTART;TZID=America/Edmonton:20200624T193000
DTEND;TZID=America/Edmonton:20200624T213000
DTSTAMP:20260423T170853
CREATED:20191220T192842Z
LAST-MODIFIED:20191220T192842Z
UID:2918-1593027000-1593034200@rvrollerderby.com
SUMMARY:Rocky View Rollers Practice
DESCRIPTION:This practice is for bench-marked skaters. Quiet Riot will focus more on game play and strategy at these practices. Don’t forget to bring running shoes for dry land warm-ups.
URL:https://rvrollerderby.com/event/rocky-view-rollers-practice-62/
LOCATION:Kings Court Church\, 2964 Kingsview Blvd SE\, Airdrie\, Alberta\, T4A 0C9\, Canada
ATTACH;FMTTYPE=image/jpeg:https://rvrollerderby.com/wp-content/uploads/2018/09/game-5.jpg
ORGANIZER;CN="RVRDA":MAILTO:rockyviewrollers@gmail.com
END:VEVENT
BEGIN:VEVENT
DTSTART;TZID=America/Toronto:20200623T193000
DTEND;TZID=America/Toronto:20200623T213000
DTSTAMP:20260423T170853
CREATED:20191218T192421Z
LAST-MODIFIED:20191218T192421Z
UID:2708-1592940600-1592947800@rvrollerderby.com
SUMMARY:East Side Wheeler's & Eat Side Practice
DESCRIPTION:This is our CO-ED benchmarked practice. All benchmarked skaters are welcome. Skaters from outside the league can pay $10 to attend. \nWith the East Side Wheeler’s being our “B” level team\, Riot focuses on more advances strategies and footwork. There is always a scrimmage portion at the end of practice.
URL:https://rvrollerderby.com/event/east-side-wheelers-eat-side-practice-59/
LOCATION:Indus Recreational Centre\, 225155 Range Road 281A\, Indus\, Alberta\, T1X 0H7\, Canada
ATTACH;FMTTYPE=image/jpeg:https://rvrollerderby.com/wp-content/uploads/2019/04/ESW-Team.jpg
END:VEVENT
BEGIN:VEVENT
DTSTART;TZID=America/Edmonton:20200622T193000
DTEND;TZID=America/Edmonton:20200622T213000
DTSTAMP:20260423T170853
CREATED:20191218T231804Z
LAST-MODIFIED:20191218T231804Z
UID:2808-1592854200-1592861400@rvrollerderby.com
SUMMARY:Fresh Meat Practice - Airdrie
DESCRIPTION:Monday night practice is for Fresh Meat. We welcome all skaters to these practices. Fresh Meat Coaches focus on basic skilled\, endurance and fitness. Everyone always benefits from these practices. Don’t forget to bring running shoes for dry land warm-ups. \n$10 drop in fee for skaters from outside of the league.
URL:https://rvrollerderby.com/event/fresh-meat-practice-airdrie-25/
LOCATION:Kings Court Church\, 2964 Kingsview Blvd SE\, Airdrie\, Alberta\, T4A 0C9\, Canada
ATTACH;FMTTYPE=image/jpeg:https://rvrollerderby.com/wp-content/uploads/2018/09/dirty-deb-1.jpg
ORGANIZER;CN="RVRDA":MAILTO:rockyviewrollers@gmail.com
END:VEVENT
BEGIN:VEVENT
DTSTART;TZID=America/Edmonton:20200617T193000
DTEND;TZID=America/Edmonton:20200617T213000
DTSTAMP:20260423T170853
CREATED:20191220T192816Z
LAST-MODIFIED:20191220T192816Z
UID:2916-1592422200-1592429400@rvrollerderby.com
SUMMARY:Rocky View Rollers Practice
DESCRIPTION:This practice is for bench-marked skaters. Quiet Riot will focus more on game play and strategy at these practices. Don’t forget to bring running shoes for dry land warm-ups.
URL:https://rvrollerderby.com/event/rocky-view-rollers-practice-61/
LOCATION:Kings Court Church\, 2964 Kingsview Blvd SE\, Airdrie\, Alberta\, T4A 0C9\, Canada
ATTACH;FMTTYPE=image/jpeg:https://rvrollerderby.com/wp-content/uploads/2018/09/game-5.jpg
ORGANIZER;CN="RVRDA":MAILTO:rockyviewrollers@gmail.com
END:VEVENT
BEGIN:VEVENT
DTSTART;TZID=America/Toronto:20200616T193000
DTEND;TZID=America/Toronto:20200616T213000
DTSTAMP:20260423T170853
CREATED:20191218T192344Z
LAST-MODIFIED:20191218T192344Z
UID:2706-1592335800-1592343000@rvrollerderby.com
SUMMARY:East Side Wheeler's & Eat Side Practice
DESCRIPTION:This is our CO-ED benchmarked practice. All benchmarked skaters are welcome. Skaters from outside the league can pay $10 to attend. \nWith the East Side Wheeler’s being our “B” level team\, Riot focuses on more advances strategies and footwork. There is always a scrimmage portion at the end of practice.
URL:https://rvrollerderby.com/event/east-side-wheelers-eat-side-practice-58/
LOCATION:Indus Recreational Centre\, 225155 Range Road 281A\, Indus\, Alberta\, T1X 0H7\, Canada
ATTACH;FMTTYPE=image/jpeg:https://rvrollerderby.com/wp-content/uploads/2019/04/ESW-Team.jpg
END:VEVENT
BEGIN:VEVENT
DTSTART;TZID=America/Edmonton:20200615T193000
DTEND;TZID=America/Edmonton:20200615T213000
DTSTAMP:20260423T170853
CREATED:20191218T231741Z
LAST-MODIFIED:20191218T231741Z
UID:2806-1592249400-1592256600@rvrollerderby.com
SUMMARY:Fresh Meat Practice - Airdrie
DESCRIPTION:Monday night practice is for Fresh Meat. We welcome all skaters to these practices. Fresh Meat Coaches focus on basic skilled\, endurance and fitness. Everyone always benefits from these practices. Don’t forget to bring running shoes for dry land warm-ups. \n$10 drop in fee for skaters from outside of the league.
URL:https://rvrollerderby.com/event/fresh-meat-practice-airdrie-24/
LOCATION:Kings Court Church\, 2964 Kingsview Blvd SE\, Airdrie\, Alberta\, T4A 0C9\, Canada
ATTACH;FMTTYPE=image/jpeg:https://rvrollerderby.com/wp-content/uploads/2018/09/dirty-deb-1.jpg
ORGANIZER;CN="RVRDA":MAILTO:rockyviewrollers@gmail.com
END:VEVENT
BEGIN:VEVENT
DTSTART;TZID=America/Edmonton:20200610T193000
DTEND;TZID=America/Edmonton:20200610T213000
DTSTAMP:20260423T170853
CREATED:20191220T192751Z
LAST-MODIFIED:20191220T192751Z
UID:2914-1591817400-1591824600@rvrollerderby.com
SUMMARY:Rocky View Rollers Practice
DESCRIPTION:This practice is for bench-marked skaters. Quiet Riot will focus more on game play and strategy at these practices. Don’t forget to bring running shoes for dry land warm-ups.
URL:https://rvrollerderby.com/event/rocky-view-rollers-practice-60/
LOCATION:Kings Court Church\, 2964 Kingsview Blvd SE\, Airdrie\, Alberta\, T4A 0C9\, Canada
ATTACH;FMTTYPE=image/jpeg:https://rvrollerderby.com/wp-content/uploads/2018/09/game-5.jpg
ORGANIZER;CN="RVRDA":MAILTO:rockyviewrollers@gmail.com
END:VEVENT
BEGIN:VEVENT
DTSTART;TZID=America/Toronto:20200609T193000
DTEND;TZID=America/Toronto:20200609T213000
DTSTAMP:20260423T170853
CREATED:20191218T192324Z
LAST-MODIFIED:20191218T192324Z
UID:2704-1591731000-1591738200@rvrollerderby.com
SUMMARY:East Side Wheeler's & Eat Side Practice
DESCRIPTION:This is our CO-ED benchmarked practice. All benchmarked skaters are welcome. Skaters from outside the league can pay $10 to attend. \nWith the East Side Wheeler’s being our “B” level team\, Riot focuses on more advances strategies and footwork. There is always a scrimmage portion at the end of practice.
URL:https://rvrollerderby.com/event/east-side-wheelers-eat-side-practice-57/
LOCATION:Indus Recreational Centre\, 225155 Range Road 281A\, Indus\, Alberta\, T1X 0H7\, Canada
ATTACH;FMTTYPE=image/jpeg:https://rvrollerderby.com/wp-content/uploads/2019/04/ESW-Team.jpg
END:VEVENT
BEGIN:VEVENT
DTSTART;TZID=America/Edmonton:20200608T193000
DTEND;TZID=America/Edmonton:20200608T213000
DTSTAMP:20260423T170853
CREATED:20191218T231502Z
LAST-MODIFIED:20191218T231502Z
UID:2804-1591644600-1591651800@rvrollerderby.com
SUMMARY:Fresh Meat Practice - Airdrie
DESCRIPTION:Monday night practice is for Fresh Meat. We welcome all skaters to these practices. Fresh Meat Coaches focus on basic skilled\, endurance and fitness. Everyone always benefits from these practices. Don’t forget to bring running shoes for dry land warm-ups. \n$10 drop in fee for skaters from outside of the league.
URL:https://rvrollerderby.com/event/fresh-meat-practice-airdrie-23/
LOCATION:Kings Court Church\, 2964 Kingsview Blvd SE\, Airdrie\, Alberta\, T4A 0C9\, Canada
ATTACH;FMTTYPE=image/jpeg:https://rvrollerderby.com/wp-content/uploads/2018/09/dirty-deb-1.jpg
ORGANIZER;CN="RVRDA":MAILTO:rockyviewrollers@gmail.com
END:VEVENT
BEGIN:VEVENT
DTSTART;TZID=America/Edmonton:20200603T193000
DTEND;TZID=America/Edmonton:20200603T213000
DTSTAMP:20260423T170853
CREATED:20191220T192719Z
LAST-MODIFIED:20191220T192719Z
UID:2912-1591212600-1591219800@rvrollerderby.com
SUMMARY:Rocky View Rollers Practice
DESCRIPTION:This practice is for bench-marked skaters. Quiet Riot will focus more on game play and strategy at these practices. Don’t forget to bring running shoes for dry land warm-ups.
URL:https://rvrollerderby.com/event/rocky-view-rollers-practice-59/
LOCATION:Kings Court Church\, 2964 Kingsview Blvd SE\, Airdrie\, Alberta\, T4A 0C9\, Canada
ATTACH;FMTTYPE=image/jpeg:https://rvrollerderby.com/wp-content/uploads/2018/09/game-5.jpg
ORGANIZER;CN="RVRDA":MAILTO:rockyviewrollers@gmail.com
END:VEVENT
BEGIN:VEVENT
DTSTART;TZID=America/Toronto:20200602T193000
DTEND;TZID=America/Toronto:20200602T213000
DTSTAMP:20260423T170853
CREATED:20191218T192305Z
LAST-MODIFIED:20191218T192305Z
UID:2702-1591126200-1591133400@rvrollerderby.com
SUMMARY:East Side Wheeler's & Eat Side Practice
DESCRIPTION:This is our CO-ED benchmarked practice. All benchmarked skaters are welcome. Skaters from outside the league can pay $10 to attend. \nWith the East Side Wheeler’s being our “B” level team\, Riot focuses on more advances strategies and footwork. There is always a scrimmage portion at the end of practice.
URL:https://rvrollerderby.com/event/east-side-wheelers-eat-side-practice-56/
LOCATION:Indus Recreational Centre\, 225155 Range Road 281A\, Indus\, Alberta\, T1X 0H7\, Canada
ATTACH;FMTTYPE=image/jpeg:https://rvrollerderby.com/wp-content/uploads/2019/04/ESW-Team.jpg
END:VEVENT
BEGIN:VEVENT
DTSTART;TZID=America/Edmonton:20200601T193000
DTEND;TZID=America/Edmonton:20200601T213000
DTSTAMP:20260423T170853
CREATED:20191218T231445Z
LAST-MODIFIED:20191218T231445Z
UID:2802-1591039800-1591047000@rvrollerderby.com
SUMMARY:Fresh Meat Practice - Airdrie
DESCRIPTION:Monday night practice is for Fresh Meat. We welcome all skaters to these practices. Fresh Meat Coaches focus on basic skilled\, endurance and fitness. Everyone always benefits from these practices. Don’t forget to bring running shoes for dry land warm-ups. \n$10 drop in fee for skaters from outside of the league.
URL:https://rvrollerderby.com/event/fresh-meat-practice-airdrie-22/
LOCATION:Kings Court Church\, 2964 Kingsview Blvd SE\, Airdrie\, Alberta\, T4A 0C9\, Canada
ATTACH;FMTTYPE=image/jpeg:https://rvrollerderby.com/wp-content/uploads/2018/09/dirty-deb-1.jpg
ORGANIZER;CN="RVRDA":MAILTO:rockyviewrollers@gmail.com
END:VEVENT
BEGIN:VEVENT
DTSTART;TZID=America/Edmonton:20200527T193000
DTEND;TZID=America/Edmonton:20200527T213000
DTSTAMP:20260423T170853
CREATED:20191220T191052Z
LAST-MODIFIED:20191220T191052Z
UID:2909-1590607800-1590615000@rvrollerderby.com
SUMMARY:Rocky View Rollers Practice
DESCRIPTION:This practice is for bench-marked skaters. Quiet Riot will focus more on game play and strategy at these practices. Don’t forget to bring running shoes for dry land warm-ups.
URL:https://rvrollerderby.com/event/rocky-view-rollers-practice-58/
LOCATION:Kings Court Church\, 2964 Kingsview Blvd SE\, Airdrie\, Alberta\, T4A 0C9\, Canada
ATTACH;FMTTYPE=image/jpeg:https://rvrollerderby.com/wp-content/uploads/2018/09/game-5.jpg
ORGANIZER;CN="RVRDA":MAILTO:rockyviewrollers@gmail.com
END:VEVENT
BEGIN:VEVENT
DTSTART;TZID=America/Toronto:20200526T193000
DTEND;TZID=America/Toronto:20200526T213000
DTSTAMP:20260423T170853
CREATED:20191218T192242Z
LAST-MODIFIED:20191218T192242Z
UID:2700-1590521400-1590528600@rvrollerderby.com
SUMMARY:East Side Wheeler's & Eat Side Practice
DESCRIPTION:This is our CO-ED benchmarked practice. All benchmarked skaters are welcome. Skaters from outside the league can pay $10 to attend. \nWith the East Side Wheeler’s being our “B” level team\, Riot focuses on more advances strategies and footwork. There is always a scrimmage portion at the end of practice.
URL:https://rvrollerderby.com/event/east-side-wheelers-eat-side-practice-55/
LOCATION:Indus Recreational Centre\, 225155 Range Road 281A\, Indus\, Alberta\, T1X 0H7\, Canada
ATTACH;FMTTYPE=image/jpeg:https://rvrollerderby.com/wp-content/uploads/2019/04/ESW-Team.jpg
END:VEVENT
BEGIN:VEVENT
DTSTART;TZID=America/Edmonton:20200525T193000
DTEND;TZID=America/Edmonton:20200525T213000
DTSTAMP:20260423T170853
CREATED:20191218T231358Z
LAST-MODIFIED:20191218T231358Z
UID:2800-1590435000-1590442200@rvrollerderby.com
SUMMARY:Fresh Meat Practice - Airdrie
DESCRIPTION:Monday night practice is for Fresh Meat. We welcome all skaters to these practices. Fresh Meat Coaches focus on basic skilled\, endurance and fitness. Everyone always benefits from these practices. Don’t forget to bring running shoes for dry land warm-ups. \n$10 drop in fee for skaters from outside of the league.
URL:https://rvrollerderby.com/event/fresh-meat-practice-airdrie-21/
LOCATION:Kings Court Church\, 2964 Kingsview Blvd SE\, Airdrie\, Alberta\, T4A 0C9\, Canada
ATTACH;FMTTYPE=image/jpeg:https://rvrollerderby.com/wp-content/uploads/2018/09/dirty-deb-1.jpg
ORGANIZER;CN="RVRDA":MAILTO:rockyviewrollers@gmail.com
END:VEVENT
END:VCALENDAR