BEGIN:VCALENDAR
VERSION:2.0
PRODID:-//Rocky View Roller Derby - ECPv6.15.10//NONSGML v1.0//EN
CALSCALE:GREGORIAN
METHOD:PUBLISH
X-WR-CALNAME:Rocky View Roller Derby
X-ORIGINAL-URL:https://rvrollerderby.com
X-WR-CALDESC:Events for Rocky View Roller Derby
REFRESH-INTERVAL;VALUE=DURATION:PT1H
X-Robots-Tag:noindex
X-PUBLISHED-TTL:PT1H
BEGIN:VTIMEZONE
TZID:America/Toronto
BEGIN:DAYLIGHT
TZOFFSETFROM:-0500
TZOFFSETTO:-0400
TZNAME:EDT
DTSTART:20180311T070000
END:DAYLIGHT
BEGIN:STANDARD
TZOFFSETFROM:-0400
TZOFFSETTO:-0500
TZNAME:EST
DTSTART:20181104T060000
END:STANDARD
BEGIN:DAYLIGHT
TZOFFSETFROM:-0500
TZOFFSETTO:-0400
TZNAME:EDT
DTSTART:20190310T070000
END:DAYLIGHT
BEGIN:STANDARD
TZOFFSETFROM:-0400
TZOFFSETTO:-0500
TZNAME:EST
DTSTART:20191103T060000
END:STANDARD
BEGIN:DAYLIGHT
TZOFFSETFROM:-0500
TZOFFSETTO:-0400
TZNAME:EDT
DTSTART:20200308T070000
END:DAYLIGHT
BEGIN:STANDARD
TZOFFSETFROM:-0400
TZOFFSETTO:-0500
TZNAME:EST
DTSTART:20201101T060000
END:STANDARD
END:VTIMEZONE
BEGIN:VTIMEZONE
TZID:America/Edmonton
BEGIN:DAYLIGHT
TZOFFSETFROM:-0700
TZOFFSETTO:-0600
TZNAME:MDT
DTSTART:20180311T090000
END:DAYLIGHT
BEGIN:STANDARD
TZOFFSETFROM:-0600
TZOFFSETTO:-0700
TZNAME:MST
DTSTART:20181104T080000
END:STANDARD
BEGIN:DAYLIGHT
TZOFFSETFROM:-0700
TZOFFSETTO:-0600
TZNAME:MDT
DTSTART:20190310T090000
END:DAYLIGHT
BEGIN:STANDARD
TZOFFSETFROM:-0600
TZOFFSETTO:-0700
TZNAME:MST
DTSTART:20191103T080000
END:STANDARD
BEGIN:DAYLIGHT
TZOFFSETFROM:-0700
TZOFFSETTO:-0600
TZNAME:MDT
DTSTART:20200308T090000
END:DAYLIGHT
BEGIN:STANDARD
TZOFFSETFROM:-0600
TZOFFSETTO:-0700
TZNAME:MST
DTSTART:20201101T080000
END:STANDARD
END:VTIMEZONE
BEGIN:VEVENT
DTSTART;TZID=America/Toronto:20190531T193000
DTEND;TZID=America/Toronto:20190531T220000
DTSTAMP:20260424T213138
CREATED:20190424T011234Z
LAST-MODIFIED:20190507T004532Z
UID:2477-1559331000-1559340000@rvrollerderby.com
SUMMARY:Rocky View Roller Derby Cochrane Showcase Game
DESCRIPTION:Rocky View Roller Derby Association is hosting a showcase game in Cochrane at the Spray Lake Sawmills Family Sports Center. This game is in support of the Big Hill Haven Women’s Shelter. Entry is by donation\, all proceeds will go to the shelter. There will be a bake table for munchies during the game. \nRVRDA’s home teams go head to head in this game\, look out cause we know all your tricks!!
URL:https://rvrollerderby.com/event/rocky-view-roller-derby-cochrane-showcase-game/
LOCATION:Spray Lake Sawmills Family Sports Center\, 800 Griffin Rd E\, Cochrane\, Alberta\, T4C 0A2\, Canada
ATTACH;FMTTYPE=application/pdf:https://rvrollerderby.com/wp-content/uploads/2019/04/May-31st-poster.pdf
ORGANIZER;CN="RVRDA":MAILTO:rockyviewrollers@gmail.com
END:VEVENT
BEGIN:VEVENT
DTSTART;TZID=America/Edmonton:20190529T190000
DTEND;TZID=America/Edmonton:20190529T220000
DTSTAMP:20260424T213138
CREATED:20190423T224208Z
LAST-MODIFIED:20190423T224208Z
UID:2206-1559156400-1559167200@rvrollerderby.com
SUMMARY:Spring & Summer League Practices
DESCRIPTION:For the Spring & Summer months we move to the Pete Knight Memorial Arena\, our home. We change our practice schedule slightly so that the whole league practices together. This give fresh meat a chance to level up a little when we all skate together and they get a taste for the benchmarked practice. \n  \nDon’t forget to bring running shoes for dry land warm-ups.
URL:https://rvrollerderby.com/event/spring-summer-league-practices-4/
LOCATION:Pete Knight Arena\, 920 Mountain Ave\, Crossfield\, Alberta\, T0M0S0\, Canada
ATTACH;FMTTYPE=image/jpeg:https://rvrollerderby.com/wp-content/uploads/2018/09/parade-4.jpg
ORGANIZER;CN="RVRDA":MAILTO:rockyviewrollers@gmail.com
END:VEVENT
BEGIN:VEVENT
DTSTART;TZID=America/Toronto:20190528T193000
DTEND;TZID=America/Toronto:20190528T213000
DTSTAMP:20260424T213138
CREATED:20190424T004351Z
LAST-MODIFIED:20190424T004448Z
UID:2416-1559071800-1559079000@rvrollerderby.com
SUMMARY:East Side Wheeler's & Eat Side Practice
DESCRIPTION:This is our CO-ED benchmarked practice. All benchmarked skaters are welcome. Skaters from outside the league can pay $10 to attend. \nWith the East Side Wheeler’s being our “B” level team\, Riot focuses on more advances strategies and footwork. There is always a scrimmage portion at the end of practice.
URL:https://rvrollerderby.com/event/east-side-wheelers-eat-side-practice-6/
LOCATION:Indus Recreational Centre\, 225155 Range Road 281A\, Indus\, Alberta\, T1X 0H7\, Canada
ATTACH;FMTTYPE=image/jpeg:https://rvrollerderby.com/wp-content/uploads/2019/04/ESW-Team.jpg
END:VEVENT
BEGIN:VEVENT
DTSTART;TZID=America/Toronto:20190525T180000
DTEND;TZID=America/Toronto:20190525T200000
DTSTAMP:20260424T213138
CREATED:20190424T010721Z
LAST-MODIFIED:20190424T011506Z
UID:2474-1558807200-1558814400@rvrollerderby.com
SUMMARY:Eat Side Wheelers Home Game
DESCRIPTION:Eat Side Wheelers are hosting at their home rink. This will be a Co-Ed game against the Beaded Ladies from Medicine Hat.
URL:https://rvrollerderby.com/event/eat-side-wheelers-home-game/
LOCATION:Alberta
ATTACH;FMTTYPE=image/jpeg:https://rvrollerderby.com/wp-content/uploads/2019/04/Eat-side.jpg
ORGANIZER;CN="RVRDA":MAILTO:rockyviewrollers@gmail.com
END:VEVENT
BEGIN:VEVENT
DTSTART;TZID=America/Edmonton:20190522T190000
DTEND;TZID=America/Edmonton:20190522T220000
DTSTAMP:20260424T213138
CREATED:20190423T224031Z
LAST-MODIFIED:20190423T224031Z
UID:2205-1558551600-1558562400@rvrollerderby.com
SUMMARY:Spring & Summer League Practices
DESCRIPTION:For the Spring & Summer months we move to the Pete Knight Memorial Arena\, our home. We change our practice schedule slightly so that the whole league practices together. This give fresh meat a chance to level up a little when we all skate together and they get a taste for the benchmarked practice. \n  \nDon’t forget to bring running shoes for dry land warm-ups.
URL:https://rvrollerderby.com/event/spring-summer-league-practices-3/
LOCATION:Pete Knight Arena\, 920 Mountain Ave\, Crossfield\, Alberta\, T0M0S0\, Canada
ATTACH;FMTTYPE=image/jpeg:https://rvrollerderby.com/wp-content/uploads/2018/09/parade-4.jpg
ORGANIZER;CN="RVRDA":MAILTO:rockyviewrollers@gmail.com
END:VEVENT
BEGIN:VEVENT
DTSTART;TZID=America/Toronto:20190521T193000
DTEND;TZID=America/Toronto:20190521T213000
DTSTAMP:20260424T213138
CREATED:20190424T004305Z
LAST-MODIFIED:20190424T004305Z
UID:2415-1558467000-1558474200@rvrollerderby.com
SUMMARY:East Side Wheeler's & Eat Side Practice
DESCRIPTION:This is our CO-ED benchmarked practice. All benchmarked skaters are welcome. Skaters from outside the league can pay $10 to attend. \nWith the East Side Wheeler’s being our “B” level team\, Riot focuses on more advances strategies and footwork. There is always a scrimmage portion at the end of practice.
URL:https://rvrollerderby.com/event/east-side-wheelers-eat-side-practice-5/
LOCATION:Indus Recreational Centre\, 225155 Range Road 281A\, Indus\, Alberta\, T1X 0H7\, Canada
ATTACH;FMTTYPE=image/jpeg:https://rvrollerderby.com/wp-content/uploads/2019/04/ESW-Team.jpg
END:VEVENT
BEGIN:VEVENT
DTSTART;TZID=America/Edmonton:20190518T190000
DTEND;TZID=America/Edmonton:20190518T210000
DTSTAMP:20260424T213138
CREATED:20181129T010941Z
LAST-MODIFIED:20181129T010941Z
UID:2050-1558206000-1558213200@rvrollerderby.com
SUMMARY:RVRDA Open League Practice
DESCRIPTION:This practice is for everyone and anyone who wants to skate!  Our league coach\, Quiet Riot\, will lead this practice touching on various skills for all levels. There will be a scrimmage after the skills portion\, you need to be benchmarked to partake in the scrimmage. \nThere is a $10 drop in fee for skaters from outside of the league. \nThis is a Co-ed event. \nJuniors level 3 are welcome. \nYou need proof of valid sport insurance and full protective gear (helmet\, elbow pads\, wrist guards\, knee pads\, quad skates and Mouth guard) \nCome join us at our sponsor Boston Pizza after practice for some snacks and drinks! \n 
URL:https://rvrollerderby.com/event/rvrda-open-league-practice-5/
LOCATION:Kings Court Church\, 2964 Kingsview Blvd SE\, Airdrie\, Alberta\, T4A 0C9\, Canada
ATTACH;FMTTYPE=image/jpeg:https://rvrollerderby.com/wp-content/uploads/2018/09/esw-practice.jpg
ORGANIZER;CN="RVRDA":MAILTO:rockyviewrollers@gmail.com
END:VEVENT
BEGIN:VEVENT
DTSTART;TZID=America/Edmonton:20190515T190000
DTEND;TZID=America/Edmonton:20190515T220000
DTSTAMP:20260424T213138
CREATED:20190423T223902Z
LAST-MODIFIED:20190423T224009Z
UID:2201-1557946800-1557957600@rvrollerderby.com
SUMMARY:Spring & Summer League Practices
DESCRIPTION:For the Spring & Summer months we move to the Pete Knight Memorial Arena\, our home. We change our practice schedule slightly so that the whole league practices together. This give fresh meat a chance to level up a little when we all skate together and they get a taste for the benchmarked practice. \n  \nDon’t forget to bring running shoes for dry land warm-ups.
URL:https://rvrollerderby.com/event/spring-summer-league-practices-2/
LOCATION:Pete Knight Arena\, 920 Mountain Ave\, Crossfield\, Alberta\, T0M0S0\, Canada
ATTACH;FMTTYPE=image/jpeg:https://rvrollerderby.com/wp-content/uploads/2018/09/parade-4.jpg
ORGANIZER;CN="RVRDA":MAILTO:rockyviewrollers@gmail.com
END:VEVENT
BEGIN:VEVENT
DTSTART;TZID=America/Toronto:20190514T193000
DTEND;TZID=America/Toronto:20190514T213000
DTSTAMP:20260424T213138
CREATED:20190424T004205Z
LAST-MODIFIED:20190424T004205Z
UID:2419-1557862200-1557869400@rvrollerderby.com
SUMMARY:East Side Wheeler's & Eat Side Practice
DESCRIPTION:This is our CO-ED benchmarked practice. All benchmarked skaters are welcome. Skaters from outside the league can pay $10 to attend. \nWith the East Side Wheeler’s being our “B” level team\, Riot focuses on more advances strategies and footwork. There is always a scrimmage portion at the end of practice.
URL:https://rvrollerderby.com/event/east-side-wheelers-eat-side-practice-4/
LOCATION:Indus Recreational Centre\, 225155 Range Road 281A\, Indus\, Alberta\, T1X 0H7\, Canada
ATTACH;FMTTYPE=image/jpeg:https://rvrollerderby.com/wp-content/uploads/2019/04/ESW-Team.jpg
END:VEVENT
BEGIN:VEVENT
DTSTART;TZID=America/Edmonton:20190508T190000
DTEND;TZID=America/Edmonton:20190508T220000
DTSTAMP:20260424T213138
CREATED:20190423T223840Z
LAST-MODIFIED:20190423T223942Z
UID:2200-1557342000-1557352800@rvrollerderby.com
SUMMARY:Spring & Summer League Practices
DESCRIPTION:For the Spring & Summer months we move to the Pete Knight Memorial Arena\, our home. We change our practice schedule slightly so that the whole league practices together. This give fresh meat a chance to level up a little when we all skate together and they get a taste for the benchmarked practice. \n  \nDon’t forget to bring running shoes for dry land warm-ups.
URL:https://rvrollerderby.com/event/spring-summer-league-practices/
LOCATION:Pete Knight Arena\, 920 Mountain Ave\, Crossfield\, Alberta\, T0M0S0\, Canada
ATTACH;FMTTYPE=image/jpeg:https://rvrollerderby.com/wp-content/uploads/2018/09/parade-4.jpg
ORGANIZER;CN="RVRDA":MAILTO:rockyviewrollers@gmail.com
END:VEVENT
BEGIN:VEVENT
DTSTART;TZID=America/Toronto:20190507T193000
DTEND;TZID=America/Toronto:20190507T213000
DTSTAMP:20260424T213138
CREATED:20190424T004127Z
LAST-MODIFIED:20190424T004127Z
UID:2418-1557257400-1557264600@rvrollerderby.com
SUMMARY:East Side Wheeler's & Eat Side Practice
DESCRIPTION:This is our CO-ED benchmarked practice. All benchmarked skaters are welcome. Skaters from outside the league can pay $10 to attend. \nWith the East Side Wheeler’s being our “B” level team\, Riot focuses on more advances strategies and footwork. There is always a scrimmage portion at the end of practice.
URL:https://rvrollerderby.com/event/east-side-wheelers-eat-side-practice-3/
LOCATION:Indus Recreational Centre\, 225155 Range Road 281A\, Indus\, Alberta\, T1X 0H7\, Canada
ATTACH;FMTTYPE=image/jpeg:https://rvrollerderby.com/wp-content/uploads/2019/04/ESW-Team.jpg
END:VEVENT
BEGIN:VEVENT
DTSTART;VALUE=DATE:20190504
DTEND;VALUE=DATE:20190505
DTSTAMP:20260424T213138
CREATED:20190424T010331Z
LAST-MODIFIED:20190424T010331Z
UID:2472-1556928000-1557014399@rvrollerderby.com
SUMMARY:Rocky View Rollers Away Game
DESCRIPTION:RVR is on the road this time with a game in Drumheller against the Hellraisers.
URL:https://rvrollerderby.com/event/rocky-view-rollers-away-game/
LOCATION:Alberta
ATTACH;FMTTYPE=image/jpeg:https://rvrollerderby.com/wp-content/uploads/2019/04/DSC_0415_3.jpg
ORGANIZER;CN="RVRDA":MAILTO:rockyviewrollers@gmail.com
END:VEVENT
BEGIN:VEVENT
DTSTART;TZID=America/Edmonton:20190501T190000
DTEND;TZID=America/Edmonton:20190501T220000
DTSTAMP:20260424T213138
CREATED:20181129T012517Z
LAST-MODIFIED:20190423T223559Z
UID:2096-1556737200-1556748000@rvrollerderby.com
SUMMARY:Spring & Summer League Practices
DESCRIPTION:For the Spring & Summer months we move to the Pete Knight Memorial Arena\, our home. We change our practice schedule slightly so that the whole league practices together. This give fresh meat a chance to level up a little when we all skate together and they get a taste for the benchmarked practice. \n  \nDon’t forget to bring running shoes for dry land warm-ups.
URL:https://rvrollerderby.com/event/rocky-view-rollers-practice-23/
LOCATION:Pete Knight Arena\, 920 Mountain Ave\, Crossfield\, Alberta\, T0M0S0\, Canada
ATTACH;FMTTYPE=image/jpeg:https://rvrollerderby.com/wp-content/uploads/2018/09/parade-4.jpg
ORGANIZER;CN="RVRDA":MAILTO:rockyviewrollers@gmail.com
END:VEVENT
BEGIN:VEVENT
DTSTART;TZID=America/Toronto:20190430T193000
DTEND;TZID=America/Toronto:20190430T213000
DTSTAMP:20260424T213138
CREATED:20190424T003731Z
LAST-MODIFIED:20190424T003731Z
UID:2406-1556652600-1556659800@rvrollerderby.com
SUMMARY:East Side Wheeler's & Eat Side Practice
DESCRIPTION:This is our CO-ED benchmarked practice. All benchmarked skaters are welcome. Skaters from outside the league can pay $10 to attend. \nWith the East Side Wheeler’s being our “B” level team\, Riot focuses on more advances strategies and footwork. There is always a scrimmage portion at the end of practice.
URL:https://rvrollerderby.com/event/east-side-wheelers-eat-side-practice-2/
LOCATION:Indus Recreational Centre\, 225155 Range Road 281A\, Indus\, Alberta\, T1X 0H7\, Canada
ATTACH;FMTTYPE=image/jpeg:https://rvrollerderby.com/wp-content/uploads/2019/04/ESW-Team.jpg
END:VEVENT
BEGIN:VEVENT
DTSTART;TZID=America/Edmonton:20190429T193000
DTEND;TZID=America/Edmonton:20190429T213000
DTSTAMP:20260424T213138
CREATED:20190424T013140Z
LAST-MODIFIED:20190424T013158Z
UID:2493-1556566200-1556573400@rvrollerderby.com
SUMMARY:Rice Ball Stride Clinic
DESCRIPTION:Rice Ball is back for another Stride Clinic!! Come on out to perfect your stride. \nEveryone is welcome. Rice Ball is an incredible skater and has so much knowledge to share. Everyone can improve their stride so we highly recommend you make time to be there for this practice.
URL:https://rvrollerderby.com/event/rice-ball-stride-clinic/
LOCATION:Kings Court Church\, 2964 Kingsview Blvd SE\, Airdrie\, Alberta\, T4A 0C9\, Canada
CATEGORIES:Members
ATTACH;FMTTYPE=image/jpeg:https://rvrollerderby.com/wp-content/uploads/2018/11/img_0154-e1556062274534.jpg
ORGANIZER;CN="RVRDA":MAILTO:rockyviewrollers@gmail.com
END:VEVENT
BEGIN:VEVENT
DTSTART;TZID=America/Edmonton:20190429T193000
DTEND;TZID=America/Edmonton:20190429T213000
DTSTAMP:20260424T213138
CREATED:20181129T013103Z
LAST-MODIFIED:20181129T013103Z
UID:2124-1556566200-1556573400@rvrollerderby.com
SUMMARY:Fresh Meat Practice
DESCRIPTION:Monday night practice is for Fresh Meat. We welcome all skaters to these practices. Distressed Mode focuses on basic skilled\, endurance and fitness. Everyone always benefits from these practices. Don’t forget to bring running shoes for dry land warm-ups. \n$10 drop in fee for skaters from outside of the league.
URL:https://rvrollerderby.com/event/fresh-meat-practice-26/
LOCATION:Kings Court Church\, 2964 Kingsview Blvd SE\, Airdrie\, Alberta\, T4A 0C9\, Canada
ATTACH;FMTTYPE=image/jpeg:https://rvrollerderby.com/wp-content/uploads/2018/09/dirty-deb-1.jpg
ORGANIZER;CN="RVRDA":MAILTO:rockyviewrollers@gmail.com
END:VEVENT
BEGIN:VEVENT
DTSTART;TZID=America/Edmonton:20190424T193000
DTEND;TZID=America/Edmonton:20190424T213000
DTSTAMP:20260424T213138
CREATED:20181129T012502Z
LAST-MODIFIED:20181129T012502Z
UID:2094-1556134200-1556141400@rvrollerderby.com
SUMMARY:Rocky View Rollers Practice
DESCRIPTION:This practice is for bench-marked skaters. Quiet Riot will focus more on game play and strategy at these practices. Don’t forget to bring running shoes for dry land warm-ups.
URL:https://rvrollerderby.com/event/rocky-view-rollers-practice-22/
LOCATION:Kings Court Church\, 2964 Kingsview Blvd SE\, Airdrie\, Alberta\, T4A 0C9\, Canada
ATTACH;FMTTYPE=image/jpeg:https://rvrollerderby.com/wp-content/uploads/2018/09/game-5.jpg
ORGANIZER;CN="RVRDA":MAILTO:rockyviewrollers@gmail.com
END:VEVENT
BEGIN:VEVENT
DTSTART;TZID=America/Toronto:20190423T193000
DTEND;TZID=America/Toronto:20190423T213000
DTSTAMP:20260424T213138
CREATED:20190424T003453Z
LAST-MODIFIED:20190424T003522Z
UID:2292-1556047800-1556055000@rvrollerderby.com
SUMMARY:East Side Wheeler's & Eat Side Practice
DESCRIPTION:This is our CO-ED benchmarked practice. All benchmarked skaters are welcome. Skaters from outside the league can pay $10 to attend. \nWith the East Side Wheeler’s being our “B” level team\, Riot focuses on more advances strategies and footwork. There is always a scrimmage portion at the end of practice.
URL:https://rvrollerderby.com/event/east-side-wheelers-eat-side-practice/
LOCATION:Indus Recreational Centre\, 225155 Range Road 281A\, Indus\, Alberta\, T1X 0H7\, Canada
ATTACH;FMTTYPE=image/jpeg:https://rvrollerderby.com/wp-content/uploads/2019/04/ESW-Team.jpg
END:VEVENT
BEGIN:VEVENT
DTSTART;TZID=America/Edmonton:20190422T193000
DTEND;TZID=America/Edmonton:20190422T213000
DTSTAMP:20260424T213138
CREATED:20181129T013027Z
LAST-MODIFIED:20181129T013027Z
UID:2122-1555961400-1555968600@rvrollerderby.com
SUMMARY:Fresh Meat Practice
DESCRIPTION:Monday night practice is for Fresh Meat. We welcome all skaters to these practices. Distressed Mode focuses on basic skilled\, endurance and fitness. Everyone always benefits from these practices. Don’t forget to bring running shoes for dry land warm-ups. \n$10 drop in fee for skaters from outside of the league.
URL:https://rvrollerderby.com/event/fresh-meat-practice-25/
LOCATION:Kings Court Church\, 2964 Kingsview Blvd SE\, Airdrie\, Alberta\, T4A 0C9\, Canada
ATTACH;FMTTYPE=image/jpeg:https://rvrollerderby.com/wp-content/uploads/2018/09/dirty-deb-1.jpg
ORGANIZER;CN="RVRDA":MAILTO:rockyviewrollers@gmail.com
END:VEVENT
BEGIN:VEVENT
DTSTART;TZID=America/Edmonton:20190420T190000
DTEND;TZID=America/Edmonton:20190420T210000
DTSTAMP:20260424T213138
CREATED:20181129T010320Z
LAST-MODIFIED:20181129T010320Z
UID:2052-1555786800-1555794000@rvrollerderby.com
SUMMARY:RVRDA Open League Practice
DESCRIPTION:This practice is for everyone and anyone who wants to skate!  Our league coach\, Quiet Riot\, will lead this practice touching on various skills for all levels. There will be a scrimmage after the skills portion\, you need to be benchmarked to partake in the scrimmage. \nThere is a $10 drop in fee for skaters from outside of the league. \nThis is a Co-ed event. \nJuniors level 3 are welcome. \nYou need proof of valid sport insurance and full protective gear (helmet\, elbow pads\, wrist guards\, knee pads\, quad skates and Mouth guard) \nCome join us at our sponsor Boston Pizza after practice for some snacks and drinks! \n 
URL:https://rvrollerderby.com/event/rvrda-open-league-practice-4/
LOCATION:Kings Court Church\, 2964 Kingsview Blvd SE\, Airdrie\, Alberta\, T4A 0C9\, Canada
ATTACH;FMTTYPE=image/jpeg:https://rvrollerderby.com/wp-content/uploads/2018/09/esw-practice.jpg
ORGANIZER;CN="RVRDA":MAILTO:rockyviewrollers@gmail.com
END:VEVENT
BEGIN:VEVENT
DTSTART;TZID=America/Edmonton:20190417T193000
DTEND;TZID=America/Edmonton:20190417T213000
DTSTAMP:20260424T213138
CREATED:20181129T012449Z
LAST-MODIFIED:20181129T012449Z
UID:2092-1555529400-1555536600@rvrollerderby.com
SUMMARY:Rocky View Rollers Practice
DESCRIPTION:This practice is for bench-marked skaters. Quiet Riot will focus more on game play and strategy at these practices. Don’t forget to bring running shoes for dry land warm-ups.
URL:https://rvrollerderby.com/event/rocky-view-rollers-practice-21/
LOCATION:Kings Court Church\, 2964 Kingsview Blvd SE\, Airdrie\, Alberta\, T4A 0C9\, Canada
ATTACH;FMTTYPE=image/jpeg:https://rvrollerderby.com/wp-content/uploads/2018/09/game-5.jpg
ORGANIZER;CN="RVRDA":MAILTO:rockyviewrollers@gmail.com
END:VEVENT
BEGIN:VEVENT
DTSTART;TZID=America/Edmonton:20190415T193000
DTEND;TZID=America/Edmonton:20190415T213000
DTSTAMP:20260424T213138
CREATED:20181129T013017Z
LAST-MODIFIED:20181129T013017Z
UID:2120-1555356600-1555363800@rvrollerderby.com
SUMMARY:Fresh Meat Practice
DESCRIPTION:Monday night practice is for Fresh Meat. We welcome all skaters to these practices. Distressed Mode focuses on basic skilled\, endurance and fitness. Everyone always benefits from these practices. Don’t forget to bring running shoes for dry land warm-ups. \n$10 drop in fee for skaters from outside of the league.
URL:https://rvrollerderby.com/event/fresh-meat-practice-24/
LOCATION:Kings Court Church\, 2964 Kingsview Blvd SE\, Airdrie\, Alberta\, T4A 0C9\, Canada
ATTACH;FMTTYPE=image/jpeg:https://rvrollerderby.com/wp-content/uploads/2018/09/dirty-deb-1.jpg
ORGANIZER;CN="RVRDA":MAILTO:rockyviewrollers@gmail.com
END:VEVENT
BEGIN:VEVENT
DTSTART;TZID=America/Edmonton:20190410T193000
DTEND;TZID=America/Edmonton:20190410T213000
DTSTAMP:20260424T213138
CREATED:20181129T012436Z
LAST-MODIFIED:20181129T012436Z
UID:2090-1554924600-1554931800@rvrollerderby.com
SUMMARY:Rocky View Rollers Practice
DESCRIPTION:This practice is for bench-marked skaters. Quiet Riot will focus more on game play and strategy at these practices. Don’t forget to bring running shoes for dry land warm-ups.
URL:https://rvrollerderby.com/event/rocky-view-rollers-practice-20/
LOCATION:Kings Court Church\, 2964 Kingsview Blvd SE\, Airdrie\, Alberta\, T4A 0C9\, Canada
ATTACH;FMTTYPE=image/jpeg:https://rvrollerderby.com/wp-content/uploads/2018/09/game-5.jpg
ORGANIZER;CN="RVRDA":MAILTO:rockyviewrollers@gmail.com
END:VEVENT
BEGIN:VEVENT
DTSTART;TZID=America/Edmonton:20190408T193000
DTEND;TZID=America/Edmonton:20190408T213000
DTSTAMP:20260424T213138
CREATED:20181129T012946Z
LAST-MODIFIED:20181129T012946Z
UID:2118-1554751800-1554759000@rvrollerderby.com
SUMMARY:Fresh Meat Practice
DESCRIPTION:Monday night practice is for Fresh Meat. We welcome all skaters to these practices. Distressed Mode focuses on basic skilled\, endurance and fitness. Everyone always benefits from these practices. Don’t forget to bring running shoes for dry land warm-ups. \n$10 drop in fee for skaters from outside of the league.
URL:https://rvrollerderby.com/event/fresh-meat-practice-23/
LOCATION:Kings Court Church\, 2964 Kingsview Blvd SE\, Airdrie\, Alberta\, T4A 0C9\, Canada
ATTACH;FMTTYPE=image/jpeg:https://rvrollerderby.com/wp-content/uploads/2018/09/dirty-deb-1.jpg
ORGANIZER;CN="RVRDA":MAILTO:rockyviewrollers@gmail.com
END:VEVENT
BEGIN:VEVENT
DTSTART;TZID=America/Edmonton:20190406T120000
DTEND;TZID=America/Edmonton:20190406T213000
DTSTAMP:20260424T213138
CREATED:20190201T232020Z
LAST-MODIFIED:20190201T232020Z
UID:2194-1554552000-1554586200@rvrollerderby.com
SUMMARY:Home Opener Game
DESCRIPTION:Rocky View Rollers vs The Smokin’ Axles \nCome on out and cheer us on! There will be a bake table\, other vendors and of course a concession. \nThere will be a rookie scrimmage at 3pm to start things off\, then a Jr. roller derby game and finally the RVRDA game with first whistle at 7pm. \nAfter party will be hosted at the Harvest in Crossfield.
URL:https://rvrollerderby.com/event/home-opener-game/
LOCATION:Pete Knight Arena\, 920 Mountain Ave\, Crossfield\, Alberta\, T0M0S0\, Canada
ATTACH;FMTTYPE=image/jpeg:https://rvrollerderby.com/wp-content/uploads/2018/09/rvrda-game.jpg
ORGANIZER;CN="RVRDA":MAILTO:rockyviewrollers@gmail.com
END:VEVENT
BEGIN:VEVENT
DTSTART;TZID=America/Edmonton:20190403T193000
DTEND;TZID=America/Edmonton:20190403T213000
DTSTAMP:20260424T213138
CREATED:20181129T012420Z
LAST-MODIFIED:20181129T012420Z
UID:2088-1554319800-1554327000@rvrollerderby.com
SUMMARY:Rocky View Rollers Practice
DESCRIPTION:This practice is for bench-marked skaters. Quiet Riot will focus more on game play and strategy at these practices. Don’t forget to bring running shoes for dry land warm-ups.
URL:https://rvrollerderby.com/event/rocky-view-rollers-practice-19/
LOCATION:Kings Court Church\, 2964 Kingsview Blvd SE\, Airdrie\, Alberta\, T4A 0C9\, Canada
ATTACH;FMTTYPE=image/jpeg:https://rvrollerderby.com/wp-content/uploads/2018/09/game-5.jpg
ORGANIZER;CN="RVRDA":MAILTO:rockyviewrollers@gmail.com
END:VEVENT
BEGIN:VEVENT
DTSTART;TZID=America/Edmonton:20190401T193000
DTEND;TZID=America/Edmonton:20190401T213000
DTSTAMP:20260424T213138
CREATED:20181129T012930Z
LAST-MODIFIED:20181129T012930Z
UID:2116-1554147000-1554154200@rvrollerderby.com
SUMMARY:Fresh Meat Practice
DESCRIPTION:Monday night practice is for Fresh Meat. We welcome all skaters to these practices. Distressed Mode focuses on basic skilled\, endurance and fitness. Everyone always benefits from these practices. Don’t forget to bring running shoes for dry land warm-ups. \n$10 drop in fee for skaters from outside of the league.
URL:https://rvrollerderby.com/event/fresh-meat-practice-22/
LOCATION:Kings Court Church\, 2964 Kingsview Blvd SE\, Airdrie\, Alberta\, T4A 0C9\, Canada
ATTACH;FMTTYPE=image/jpeg:https://rvrollerderby.com/wp-content/uploads/2018/09/dirty-deb-1.jpg
ORGANIZER;CN="RVRDA":MAILTO:rockyviewrollers@gmail.com
END:VEVENT
BEGIN:VEVENT
DTSTART;TZID=America/Edmonton:20190327T193000
DTEND;TZID=America/Edmonton:20190327T213000
DTSTAMP:20260424T213138
CREATED:20181129T011944Z
LAST-MODIFIED:20181129T012135Z
UID:2066-1553715000-1553722200@rvrollerderby.com
SUMMARY:Rocky View Rollers Practice
DESCRIPTION:This practice is for bench-marked skaters. Quiet Riot will focus more on game play and strategy at these practices. Don’t forget to bring running shoes for dry land warm-ups.
URL:https://rvrollerderby.com/event/rocky-view-rollers-practice-18/
LOCATION:Kings Court Church\, 2964 Kingsview Blvd SE\, Airdrie\, Alberta\, T4A 0C9\, Canada
ATTACH;FMTTYPE=image/jpeg:https://rvrollerderby.com/wp-content/uploads/2018/09/game-5.jpg
ORGANIZER;CN="RVRDA":MAILTO:rockyviewrollers@gmail.com
END:VEVENT
BEGIN:VEVENT
DTSTART;TZID=America/Edmonton:20190325T193000
DTEND;TZID=America/Edmonton:20190325T213000
DTSTAMP:20260424T213138
CREATED:20181129T012324Z
LAST-MODIFIED:20181129T012324Z
UID:2086-1553542200-1553549400@rvrollerderby.com
SUMMARY:Fresh Meat Practice
DESCRIPTION:Monday night practice is for Fresh Meat. We welcome all skaters to these practices. Distressed Mode focuses on basic skilled\, endurance and fitness. Everyone always benefits from these practices. Don’t forget to bring running shoes for dry land warm-ups. \n$10 drop in fee for skaters from outside of the league.
URL:https://rvrollerderby.com/event/fresh-meat-practice-21/
LOCATION:Kings Court Church\, 2964 Kingsview Blvd SE\, Airdrie\, Alberta\, T4A 0C9\, Canada
ATTACH;FMTTYPE=image/jpeg:https://rvrollerderby.com/wp-content/uploads/2018/09/dirty-deb-1.jpg
ORGANIZER;CN="RVRDA":MAILTO:rockyviewrollers@gmail.com
END:VEVENT
BEGIN:VEVENT
DTSTART;TZID=America/Edmonton:20190320T193000
DTEND;TZID=America/Edmonton:20190320T213000
DTSTAMP:20260424T213138
CREATED:20181129T005025Z
LAST-MODIFIED:20181129T012157Z
UID:2041-1553110200-1553117400@rvrollerderby.com
SUMMARY:Rocky View Rollers Practice
DESCRIPTION:This practice is for bench-marked skaters. Quiet Riot will focus more on game play and strategy at these practices. Don’t forget to bring running shoes for dry land warm-ups.
URL:https://rvrollerderby.com/event/rocky-view-rollers-practice-12/
LOCATION:Kings Court Church\, 2964 Kingsview Blvd SE\, Airdrie\, Alberta\, T4A 0C9\, Canada
ATTACH;FMTTYPE=image/jpeg:https://rvrollerderby.com/wp-content/uploads/2018/09/game-5.jpg
ORGANIZER;CN="RVRDA":MAILTO:rockyviewrollers@gmail.com
END:VEVENT
END:VCALENDAR