BEGIN:VCALENDAR
VERSION:2.0
PRODID:-//Rocky View Roller Derby - ECPv6.15.10//NONSGML v1.0//EN
CALSCALE:GREGORIAN
METHOD:PUBLISH
X-ORIGINAL-URL:https://rvrollerderby.com
X-WR-CALDESC:Events for Rocky View Roller Derby
REFRESH-INTERVAL;VALUE=DURATION:PT1H
X-Robots-Tag:noindex
X-PUBLISHED-TTL:PT1H
BEGIN:VTIMEZONE
TZID:America/Toronto
BEGIN:DAYLIGHT
TZOFFSETFROM:-0500
TZOFFSETTO:-0400
TZNAME:EDT
DTSTART:20180311T070000
END:DAYLIGHT
BEGIN:STANDARD
TZOFFSETFROM:-0400
TZOFFSETTO:-0500
TZNAME:EST
DTSTART:20181104T060000
END:STANDARD
BEGIN:DAYLIGHT
TZOFFSETFROM:-0500
TZOFFSETTO:-0400
TZNAME:EDT
DTSTART:20190310T070000
END:DAYLIGHT
BEGIN:STANDARD
TZOFFSETFROM:-0400
TZOFFSETTO:-0500
TZNAME:EST
DTSTART:20191103T060000
END:STANDARD
BEGIN:DAYLIGHT
TZOFFSETFROM:-0500
TZOFFSETTO:-0400
TZNAME:EDT
DTSTART:20200308T070000
END:DAYLIGHT
BEGIN:STANDARD
TZOFFSETFROM:-0400
TZOFFSETTO:-0500
TZNAME:EST
DTSTART:20201101T060000
END:STANDARD
END:VTIMEZONE
BEGIN:VTIMEZONE
TZID:America/Edmonton
BEGIN:DAYLIGHT
TZOFFSETFROM:-0700
TZOFFSETTO:-0600
TZNAME:MDT
DTSTART:20180311T090000
END:DAYLIGHT
BEGIN:STANDARD
TZOFFSETFROM:-0600
TZOFFSETTO:-0700
TZNAME:MST
DTSTART:20181104T080000
END:STANDARD
BEGIN:DAYLIGHT
TZOFFSETFROM:-0700
TZOFFSETTO:-0600
TZNAME:MDT
DTSTART:20190310T090000
END:DAYLIGHT
BEGIN:STANDARD
TZOFFSETFROM:-0600
TZOFFSETTO:-0700
TZNAME:MST
DTSTART:20191103T080000
END:STANDARD
BEGIN:DAYLIGHT
TZOFFSETFROM:-0700
TZOFFSETTO:-0600
TZNAME:MDT
DTSTART:20200308T090000
END:DAYLIGHT
BEGIN:STANDARD
TZOFFSETFROM:-0600
TZOFFSETTO:-0700
TZNAME:MST
DTSTART:20201101T080000
END:STANDARD
END:VTIMEZONE
BEGIN:VEVENT
DTSTART;TZID=America/Toronto:20190723T193000
DTEND;TZID=America/Toronto:20190723T213000
DTSTAMP:20260424T183123
CREATED:20190424T004942Z
LAST-MODIFIED:20190424T004942Z
UID:2408-1563910200-1563917400@rvrollerderby.com
SUMMARY:East Side Wheeler's & Eat Side Practice
DESCRIPTION:This is our CO-ED benchmarked practice. All benchmarked skaters are welcome. Skaters from outside the league can pay $10 to attend. \nWith the East Side Wheeler’s being our “B” level team\, Riot focuses on more advances strategies and footwork. There is always a scrimmage portion at the end of practice.
URL:https://rvrollerderby.com/event/east-side-wheelers-eat-side-practice-14/
LOCATION:Indus Recreational Centre\, 225155 Range Road 281A\, Indus\, Alberta\, T1X 0H7\, Canada
ATTACH;FMTTYPE=image/jpeg:https://rvrollerderby.com/wp-content/uploads/2019/04/ESW-Team.jpg
END:VEVENT
BEGIN:VEVENT
DTSTART;TZID=America/Edmonton:20190720T190000
DTEND;TZID=America/Edmonton:20190720T220000
DTSTAMP:20260424T183123
CREATED:20190423T225306Z
LAST-MODIFIED:20190423T225306Z
UID:2234-1563649200-1563660000@rvrollerderby.com
SUMMARY:RVRDA Open League Practice
DESCRIPTION:This practice is for everyone and anyone who wants to skate!  Our league coach\, Quiet Riot\, will lead this practice touching on various skills for all levels. There will be a scrimmage after the skills portion\, you need to be benchmarked to partake in the scrimmage. \nThere is a $10 drop in fee for skaters from outside of the league. \nThis is a Co-ed event. \nJuniors level 3 are welcome. \nYou need proof of valid sport insurance and full protective gear (helmet\, elbow pads\, wrist guards\, knee pads\, quad skates and Mouth guard) \nCome join us at our sponsor Boston Pizza after practice for some snacks and drinks! \n 
URL:https://rvrollerderby.com/event/rvrda-open-league-practice-7/
LOCATION:Kings Court Church\, 2964 Kingsview Blvd SE\, Airdrie\, Alberta\, T4A 0C9\, Canada
ATTACH;FMTTYPE=image/jpeg:https://rvrollerderby.com/wp-content/uploads/2018/09/esw-practice.jpg
ORGANIZER;CN="RVRDA":MAILTO:rockyviewrollers@gmail.com
END:VEVENT
BEGIN:VEVENT
DTSTART;TZID=America/Edmonton:20190717T190000
DTEND;TZID=America/Edmonton:20190717T220000
DTSTAMP:20260424T183123
CREATED:20190423T224902Z
LAST-MODIFIED:20190423T224902Z
UID:2218-1563390000-1563400800@rvrollerderby.com
SUMMARY:Spring & Summer League Practices
DESCRIPTION:For the Spring & Summer months we move to the Pete Knight Memorial Arena\, our home. We change our practice schedule slightly so that the whole league practices together. This give fresh meat a chance to level up a little when we all skate together and they get a taste for the benchmarked practice. \n  \nDon’t forget to bring running shoes for dry land warm-ups.
URL:https://rvrollerderby.com/event/spring-summer-league-practices-11/
LOCATION:Pete Knight Arena\, 920 Mountain Ave\, Crossfield\, Alberta\, T0M0S0\, Canada
ATTACH;FMTTYPE=image/jpeg:https://rvrollerderby.com/wp-content/uploads/2018/09/parade-4.jpg
ORGANIZER;CN="RVRDA":MAILTO:rockyviewrollers@gmail.com
END:VEVENT
BEGIN:VEVENT
DTSTART;TZID=America/Toronto:20190716T193000
DTEND;TZID=America/Toronto:20190716T213000
DTSTAMP:20260424T183123
CREATED:20190424T004910Z
LAST-MODIFIED:20190424T004910Z
UID:2411-1563305400-1563312600@rvrollerderby.com
SUMMARY:East Side Wheeler's & Eat Side Practice
DESCRIPTION:This is our CO-ED benchmarked practice. All benchmarked skaters are welcome. Skaters from outside the league can pay $10 to attend. \nWith the East Side Wheeler’s being our “B” level team\, Riot focuses on more advances strategies and footwork. There is always a scrimmage portion at the end of practice.
URL:https://rvrollerderby.com/event/east-side-wheelers-eat-side-practice-13/
LOCATION:Indus Recreational Centre\, 225155 Range Road 281A\, Indus\, Alberta\, T1X 0H7\, Canada
ATTACH;FMTTYPE=image/jpeg:https://rvrollerderby.com/wp-content/uploads/2019/04/ESW-Team.jpg
END:VEVENT
BEGIN:VEVENT
DTSTART;TZID=America/Edmonton:20190710T190000
DTEND;TZID=America/Edmonton:20190710T220000
DTSTAMP:20260424T183123
CREATED:20190423T224837Z
LAST-MODIFIED:20190423T224837Z
UID:2216-1562785200-1562796000@rvrollerderby.com
SUMMARY:Spring & Summer League Practices
DESCRIPTION:For the Spring & Summer months we move to the Pete Knight Memorial Arena\, our home. We change our practice schedule slightly so that the whole league practices together. This give fresh meat a chance to level up a little when we all skate together and they get a taste for the benchmarked practice. \n  \nDon’t forget to bring running shoes for dry land warm-ups.
URL:https://rvrollerderby.com/event/spring-summer-league-practices-10/
LOCATION:Pete Knight Arena\, 920 Mountain Ave\, Crossfield\, Alberta\, T0M0S0\, Canada
ATTACH;FMTTYPE=image/jpeg:https://rvrollerderby.com/wp-content/uploads/2018/09/parade-4.jpg
ORGANIZER;CN="RVRDA":MAILTO:rockyviewrollers@gmail.com
END:VEVENT
BEGIN:VEVENT
DTSTART;TZID=America/Toronto:20190709T193000
DTEND;TZID=America/Toronto:20190709T213000
DTSTAMP:20260424T183123
CREATED:20190424T004843Z
LAST-MODIFIED:20190424T004843Z
UID:2410-1562700600-1562707800@rvrollerderby.com
SUMMARY:East Side Wheeler's & Eat Side Practice
DESCRIPTION:This is our CO-ED benchmarked practice. All benchmarked skaters are welcome. Skaters from outside the league can pay $10 to attend. \nWith the East Side Wheeler’s being our “B” level team\, Riot focuses on more advances strategies and footwork. There is always a scrimmage portion at the end of practice.
URL:https://rvrollerderby.com/event/east-side-wheelers-eat-side-practice-12/
LOCATION:Indus Recreational Centre\, 225155 Range Road 281A\, Indus\, Alberta\, T1X 0H7\, Canada
ATTACH;FMTTYPE=image/jpeg:https://rvrollerderby.com/wp-content/uploads/2019/04/ESW-Team.jpg
END:VEVENT
BEGIN:VEVENT
DTSTART;TZID=America/Edmonton:20190703T190000
DTEND;TZID=America/Edmonton:20190703T220000
DTSTAMP:20260424T183123
CREATED:20190423T224810Z
LAST-MODIFIED:20190423T224810Z
UID:2215-1562180400-1562191200@rvrollerderby.com
SUMMARY:Spring & Summer League Practices
DESCRIPTION:For the Spring & Summer months we move to the Pete Knight Memorial Arena\, our home. We change our practice schedule slightly so that the whole league practices together. This give fresh meat a chance to level up a little when we all skate together and they get a taste for the benchmarked practice. \n  \nDon’t forget to bring running shoes for dry land warm-ups.
URL:https://rvrollerderby.com/event/spring-summer-league-practices-9/
LOCATION:Pete Knight Arena\, 920 Mountain Ave\, Crossfield\, Alberta\, T0M0S0\, Canada
ATTACH;FMTTYPE=image/jpeg:https://rvrollerderby.com/wp-content/uploads/2018/09/parade-4.jpg
ORGANIZER;CN="RVRDA":MAILTO:rockyviewrollers@gmail.com
END:VEVENT
BEGIN:VEVENT
DTSTART;TZID=America/Toronto:20190702T193000
DTEND;TZID=America/Toronto:20190702T213000
DTSTAMP:20260424T183123
CREATED:20190424T004812Z
LAST-MODIFIED:20190424T004812Z
UID:2409-1562095800-1562103000@rvrollerderby.com
SUMMARY:East Side Wheeler's & Eat Side Practice
DESCRIPTION:This is our CO-ED benchmarked practice. All benchmarked skaters are welcome. Skaters from outside the league can pay $10 to attend. \nWith the East Side Wheeler’s being our “B” level team\, Riot focuses on more advances strategies and footwork. There is always a scrimmage portion at the end of practice.
URL:https://rvrollerderby.com/event/east-side-wheelers-eat-side-practice-11/
LOCATION:Indus Recreational Centre\, 225155 Range Road 281A\, Indus\, Alberta\, T1X 0H7\, Canada
ATTACH;FMTTYPE=image/jpeg:https://rvrollerderby.com/wp-content/uploads/2019/04/ESW-Team.jpg
END:VEVENT
BEGIN:VEVENT
DTSTART;TZID=America/Edmonton:20190701T070000
DTEND;TZID=America/Edmonton:20190701T110000
DTSTAMP:20260424T183123
CREATED:20190424T013420Z
LAST-MODIFIED:20190424T013420Z
UID:2495-1561964400-1561978800@rvrollerderby.com
SUMMARY:RVRDA Skates the Airdrie Canada Day Parade
DESCRIPTION:Come on out to cheer on your local floats at the Airdrie Canada Day Parade. We won first place last year and we are in it to win it again!!
URL:https://rvrollerderby.com/event/rvrda-skates-the-airdrie-canada-day-parade/
LOCATION:Alberta
CATEGORIES:Members
ATTACH;FMTTYPE=image/jpeg:https://rvrollerderby.com/wp-content/uploads/2018/09/2018-parade-4.jpg
ORGANIZER;CN="RVRDA":MAILTO:rockyviewrollers@gmail.com
END:VEVENT
BEGIN:VEVENT
DTSTART;TZID=America/Edmonton:20190626T190000
DTEND;TZID=America/Edmonton:20190626T220000
DTSTAMP:20260424T183123
CREATED:20190423T224746Z
LAST-MODIFIED:20190423T224746Z
UID:2214-1561575600-1561586400@rvrollerderby.com
SUMMARY:Spring & Summer League Practices
DESCRIPTION:For the Spring & Summer months we move to the Pete Knight Memorial Arena\, our home. We change our practice schedule slightly so that the whole league practices together. This give fresh meat a chance to level up a little when we all skate together and they get a taste for the benchmarked practice. \n  \nDon’t forget to bring running shoes for dry land warm-ups.
URL:https://rvrollerderby.com/event/spring-summer-league-practices-8/
LOCATION:Pete Knight Arena\, 920 Mountain Ave\, Crossfield\, Alberta\, T0M0S0\, Canada
ATTACH;FMTTYPE=image/jpeg:https://rvrollerderby.com/wp-content/uploads/2018/09/parade-4.jpg
ORGANIZER;CN="RVRDA":MAILTO:rockyviewrollers@gmail.com
END:VEVENT
BEGIN:VEVENT
DTSTART;TZID=America/Toronto:20190625T193000
DTEND;TZID=America/Toronto:20190625T213000
DTSTAMP:20260424T183123
CREATED:20190424T004737Z
LAST-MODIFIED:20190424T004737Z
UID:2412-1561491000-1561498200@rvrollerderby.com
SUMMARY:East Side Wheeler's & Eat Side Practice
DESCRIPTION:This is our CO-ED benchmarked practice. All benchmarked skaters are welcome. Skaters from outside the league can pay $10 to attend. \nWith the East Side Wheeler’s being our “B” level team\, Riot focuses on more advances strategies and footwork. There is always a scrimmage portion at the end of practice.
URL:https://rvrollerderby.com/event/east-side-wheelers-eat-side-practice-10/
LOCATION:Indus Recreational Centre\, 225155 Range Road 281A\, Indus\, Alberta\, T1X 0H7\, Canada
ATTACH;FMTTYPE=image/jpeg:https://rvrollerderby.com/wp-content/uploads/2019/04/ESW-Team.jpg
END:VEVENT
BEGIN:VEVENT
DTSTART;VALUE=DATE:20190622
DTEND;VALUE=DATE:20190623
DTSTAMP:20260424T183123
CREATED:20190424T012637Z
LAST-MODIFIED:20190424T012656Z
UID:2490-1561161600-1561247999@rvrollerderby.com
SUMMARY:Rocky View Roller Derby Association Volunteers at the EG Car Auction
DESCRIPTION:Come on out to bid on some classic cars and watch some roller derby ladies push them around.
URL:https://rvrollerderby.com/event/rocky-view-roller-derby-association-volunteers-at-the-eg-car-auction/
LOCATION:Alberta
ATTACH;FMTTYPE=image/jpeg:https://rvrollerderby.com/wp-content/uploads/2018/09/2018-car-auction-2.jpg
ORGANIZER;CN="RVRDA":MAILTO:rockyviewrollers@gmail.com
END:VEVENT
BEGIN:VEVENT
DTSTART;TZID=America/Edmonton:20190619T190000
DTEND;TZID=America/Edmonton:20190619T220000
DTSTAMP:20260424T183123
CREATED:20190423T224349Z
LAST-MODIFIED:20190423T224349Z
UID:2202-1560970800-1560981600@rvrollerderby.com
SUMMARY:Spring & Summer League Practices
DESCRIPTION:For the Spring & Summer months we move to the Pete Knight Memorial Arena\, our home. We change our practice schedule slightly so that the whole league practices together. This give fresh meat a chance to level up a little when we all skate together and they get a taste for the benchmarked practice. \n  \nDon’t forget to bring running shoes for dry land warm-ups.
URL:https://rvrollerderby.com/event/spring-summer-league-practices-7/
LOCATION:Pete Knight Arena\, 920 Mountain Ave\, Crossfield\, Alberta\, T0M0S0\, Canada
ATTACH;FMTTYPE=image/jpeg:https://rvrollerderby.com/wp-content/uploads/2018/09/parade-4.jpg
ORGANIZER;CN="RVRDA":MAILTO:rockyviewrollers@gmail.com
END:VEVENT
BEGIN:VEVENT
DTSTART;TZID=America/Toronto:20190618T193000
DTEND;TZID=America/Toronto:20190618T213000
DTSTAMP:20260424T183123
CREATED:20190424T004712Z
LAST-MODIFIED:20190424T004712Z
UID:2417-1560886200-1560893400@rvrollerderby.com
SUMMARY:East Side Wheeler's & Eat Side Practice
DESCRIPTION:This is our CO-ED benchmarked practice. All benchmarked skaters are welcome. Skaters from outside the league can pay $10 to attend. \nWith the East Side Wheeler’s being our “B” level team\, Riot focuses on more advances strategies and footwork. There is always a scrimmage portion at the end of practice.
URL:https://rvrollerderby.com/event/east-side-wheelers-eat-side-practice-9/
LOCATION:Indus Recreational Centre\, 225155 Range Road 281A\, Indus\, Alberta\, T1X 0H7\, Canada
ATTACH;FMTTYPE=image/jpeg:https://rvrollerderby.com/wp-content/uploads/2019/04/ESW-Team.jpg
END:VEVENT
BEGIN:VEVENT
DTSTART;TZID=America/Edmonton:20190615T190000
DTEND;TZID=America/Edmonton:20190615T210000
DTSTAMP:20260424T183123
CREATED:20181129T011021Z
LAST-MODIFIED:20181129T011021Z
UID:2051-1560625200-1560632400@rvrollerderby.com
SUMMARY:RVRDA Open League Practice
DESCRIPTION:This practice is for everyone and anyone who wants to skate!  Our league coach\, Quiet Riot\, will lead this practice touching on various skills for all levels. There will be a scrimmage after the skills portion\, you need to be benchmarked to partake in the scrimmage. \nThere is a $10 drop in fee for skaters from outside of the league. \nThis is a Co-ed event. \nJuniors level 3 are welcome. \nYou need proof of valid sport insurance and full protective gear (helmet\, elbow pads\, wrist guards\, knee pads\, quad skates and Mouth guard) \nCome join us at our sponsor Boston Pizza after practice for some snacks and drinks! \n 
URL:https://rvrollerderby.com/event/rvrda-open-league-practice-6/
LOCATION:Kings Court Church\, 2964 Kingsview Blvd SE\, Airdrie\, Alberta\, T4A 0C9\, Canada
ATTACH;FMTTYPE=image/jpeg:https://rvrollerderby.com/wp-content/uploads/2018/09/esw-practice.jpg
ORGANIZER;CN="RVRDA":MAILTO:rockyviewrollers@gmail.com
END:VEVENT
BEGIN:VEVENT
DTSTART;TZID=America/Edmonton:20190612T190000
DTEND;TZID=America/Edmonton:20190612T220000
DTSTAMP:20260424T183123
CREATED:20190423T224323Z
LAST-MODIFIED:20190423T224323Z
UID:2204-1560366000-1560376800@rvrollerderby.com
SUMMARY:Spring & Summer League Practices
DESCRIPTION:For the Spring & Summer months we move to the Pete Knight Memorial Arena\, our home. We change our practice schedule slightly so that the whole league practices together. This give fresh meat a chance to level up a little when we all skate together and they get a taste for the benchmarked practice. \n  \nDon’t forget to bring running shoes for dry land warm-ups.
URL:https://rvrollerderby.com/event/spring-summer-league-practices-6/
LOCATION:Pete Knight Arena\, 920 Mountain Ave\, Crossfield\, Alberta\, T0M0S0\, Canada
ATTACH;FMTTYPE=image/jpeg:https://rvrollerderby.com/wp-content/uploads/2018/09/parade-4.jpg
ORGANIZER;CN="RVRDA":MAILTO:rockyviewrollers@gmail.com
END:VEVENT
BEGIN:VEVENT
DTSTART;TZID=America/Toronto:20190611T193000
DTEND;TZID=America/Toronto:20190611T213000
DTSTAMP:20260424T183123
CREATED:20190424T004623Z
LAST-MODIFIED:20190424T004623Z
UID:2414-1560281400-1560288600@rvrollerderby.com
SUMMARY:East Side Wheeler's & Eat Side Practice
DESCRIPTION:This is our CO-ED benchmarked practice. All benchmarked skaters are welcome. Skaters from outside the league can pay $10 to attend. \nWith the East Side Wheeler’s being our “B” level team\, Riot focuses on more advances strategies and footwork. There is always a scrimmage portion at the end of practice.
URL:https://rvrollerderby.com/event/east-side-wheelers-eat-side-practice-8/
LOCATION:Indus Recreational Centre\, 225155 Range Road 281A\, Indus\, Alberta\, T1X 0H7\, Canada
ATTACH;FMTTYPE=image/jpeg:https://rvrollerderby.com/wp-content/uploads/2019/04/ESW-Team.jpg
END:VEVENT
BEGIN:VEVENT
DTSTART;VALUE=DATE:20190608
DTEND;VALUE=DATE:20190610
DTSTAMP:20260424T183123
CREATED:20190424T011809Z
LAST-MODIFIED:20190424T011821Z
UID:2482-1559952000-1560124799@rvrollerderby.com
SUMMARY:East Side Wheelers at the Hellz Jezebel Tournament
DESCRIPTION:East Side Wheeler’s are on the road again at the Hellz Jezebel annual tournament in Lethbridge. This tournament is usually the battle of Albert with lots of heavy local competition.
URL:https://rvrollerderby.com/event/eat-side-wheelers-at-the-hellz-jezebel-tournament/
LOCATION:Alberta
ATTACH;FMTTYPE=image/jpeg:https://rvrollerderby.com/wp-content/uploads/2019/04/DSC_0365_3.jpg
ORGANIZER;CN="RVRDA":MAILTO:rockyviewrollers@gmail.com
END:VEVENT
BEGIN:VEVENT
DTSTART;TZID=America/Edmonton:20190605T190000
DTEND;TZID=America/Edmonton:20190605T220000
DTSTAMP:20260424T183123
CREATED:20190423T224255Z
LAST-MODIFIED:20190423T224255Z
UID:2203-1559761200-1559772000@rvrollerderby.com
SUMMARY:Spring & Summer League Practices
DESCRIPTION:For the Spring & Summer months we move to the Pete Knight Memorial Arena\, our home. We change our practice schedule slightly so that the whole league practices together. This give fresh meat a chance to level up a little when we all skate together and they get a taste for the benchmarked practice. \n  \nDon’t forget to bring running shoes for dry land warm-ups.
URL:https://rvrollerderby.com/event/spring-summer-league-practices-5/
LOCATION:Pete Knight Arena\, 920 Mountain Ave\, Crossfield\, Alberta\, T0M0S0\, Canada
ATTACH;FMTTYPE=image/jpeg:https://rvrollerderby.com/wp-content/uploads/2018/09/parade-4.jpg
ORGANIZER;CN="RVRDA":MAILTO:rockyviewrollers@gmail.com
END:VEVENT
BEGIN:VEVENT
DTSTART;TZID=America/Toronto:20190604T193000
DTEND;TZID=America/Toronto:20190604T213000
DTSTAMP:20260424T183123
CREATED:20190424T004546Z
LAST-MODIFIED:20190424T004546Z
UID:2413-1559676600-1559683800@rvrollerderby.com
SUMMARY:East Side Wheeler's & Eat Side Practice
DESCRIPTION:This is our CO-ED benchmarked practice. All benchmarked skaters are welcome. Skaters from outside the league can pay $10 to attend. \nWith the East Side Wheeler’s being our “B” level team\, Riot focuses on more advances strategies and footwork. There is always a scrimmage portion at the end of practice.
URL:https://rvrollerderby.com/event/east-side-wheelers-eat-side-practice-7/
LOCATION:Indus Recreational Centre\, 225155 Range Road 281A\, Indus\, Alberta\, T1X 0H7\, Canada
ATTACH;FMTTYPE=image/jpeg:https://rvrollerderby.com/wp-content/uploads/2019/04/ESW-Team.jpg
END:VEVENT
BEGIN:VEVENT
DTSTART;TZID=America/Toronto:20190531T193000
DTEND;TZID=America/Toronto:20190531T220000
DTSTAMP:20260424T183123
CREATED:20190424T011234Z
LAST-MODIFIED:20190507T004532Z
UID:2477-1559331000-1559340000@rvrollerderby.com
SUMMARY:Rocky View Roller Derby Cochrane Showcase Game
DESCRIPTION:Rocky View Roller Derby Association is hosting a showcase game in Cochrane at the Spray Lake Sawmills Family Sports Center. This game is in support of the Big Hill Haven Women’s Shelter. Entry is by donation\, all proceeds will go to the shelter. There will be a bake table for munchies during the game. \nRVRDA’s home teams go head to head in this game\, look out cause we know all your tricks!!
URL:https://rvrollerderby.com/event/rocky-view-roller-derby-cochrane-showcase-game/
LOCATION:Spray Lake Sawmills Family Sports Center\, 800 Griffin Rd E\, Cochrane\, Alberta\, T4C 0A2\, Canada
ATTACH;FMTTYPE=application/pdf:https://rvrollerderby.com/wp-content/uploads/2019/04/May-31st-poster.pdf
ORGANIZER;CN="RVRDA":MAILTO:rockyviewrollers@gmail.com
END:VEVENT
BEGIN:VEVENT
DTSTART;TZID=America/Edmonton:20190529T190000
DTEND;TZID=America/Edmonton:20190529T220000
DTSTAMP:20260424T183123
CREATED:20190423T224208Z
LAST-MODIFIED:20190423T224208Z
UID:2206-1559156400-1559167200@rvrollerderby.com
SUMMARY:Spring & Summer League Practices
DESCRIPTION:For the Spring & Summer months we move to the Pete Knight Memorial Arena\, our home. We change our practice schedule slightly so that the whole league practices together. This give fresh meat a chance to level up a little when we all skate together and they get a taste for the benchmarked practice. \n  \nDon’t forget to bring running shoes for dry land warm-ups.
URL:https://rvrollerderby.com/event/spring-summer-league-practices-4/
LOCATION:Pete Knight Arena\, 920 Mountain Ave\, Crossfield\, Alberta\, T0M0S0\, Canada
ATTACH;FMTTYPE=image/jpeg:https://rvrollerderby.com/wp-content/uploads/2018/09/parade-4.jpg
ORGANIZER;CN="RVRDA":MAILTO:rockyviewrollers@gmail.com
END:VEVENT
BEGIN:VEVENT
DTSTART;TZID=America/Toronto:20190528T193000
DTEND;TZID=America/Toronto:20190528T213000
DTSTAMP:20260424T183123
CREATED:20190424T004351Z
LAST-MODIFIED:20190424T004448Z
UID:2416-1559071800-1559079000@rvrollerderby.com
SUMMARY:East Side Wheeler's & Eat Side Practice
DESCRIPTION:This is our CO-ED benchmarked practice. All benchmarked skaters are welcome. Skaters from outside the league can pay $10 to attend. \nWith the East Side Wheeler’s being our “B” level team\, Riot focuses on more advances strategies and footwork. There is always a scrimmage portion at the end of practice.
URL:https://rvrollerderby.com/event/east-side-wheelers-eat-side-practice-6/
LOCATION:Indus Recreational Centre\, 225155 Range Road 281A\, Indus\, Alberta\, T1X 0H7\, Canada
ATTACH;FMTTYPE=image/jpeg:https://rvrollerderby.com/wp-content/uploads/2019/04/ESW-Team.jpg
END:VEVENT
BEGIN:VEVENT
DTSTART;TZID=America/Toronto:20190525T180000
DTEND;TZID=America/Toronto:20190525T200000
DTSTAMP:20260424T183123
CREATED:20190424T010721Z
LAST-MODIFIED:20190424T011506Z
UID:2474-1558807200-1558814400@rvrollerderby.com
SUMMARY:Eat Side Wheelers Home Game
DESCRIPTION:Eat Side Wheelers are hosting at their home rink. This will be a Co-Ed game against the Beaded Ladies from Medicine Hat.
URL:https://rvrollerderby.com/event/eat-side-wheelers-home-game/
LOCATION:Alberta
ATTACH;FMTTYPE=image/jpeg:https://rvrollerderby.com/wp-content/uploads/2019/04/Eat-side.jpg
ORGANIZER;CN="RVRDA":MAILTO:rockyviewrollers@gmail.com
END:VEVENT
BEGIN:VEVENT
DTSTART;TZID=America/Edmonton:20190522T190000
DTEND;TZID=America/Edmonton:20190522T220000
DTSTAMP:20260424T183123
CREATED:20190423T224031Z
LAST-MODIFIED:20190423T224031Z
UID:2205-1558551600-1558562400@rvrollerderby.com
SUMMARY:Spring & Summer League Practices
DESCRIPTION:For the Spring & Summer months we move to the Pete Knight Memorial Arena\, our home. We change our practice schedule slightly so that the whole league practices together. This give fresh meat a chance to level up a little when we all skate together and they get a taste for the benchmarked practice. \n  \nDon’t forget to bring running shoes for dry land warm-ups.
URL:https://rvrollerderby.com/event/spring-summer-league-practices-3/
LOCATION:Pete Knight Arena\, 920 Mountain Ave\, Crossfield\, Alberta\, T0M0S0\, Canada
ATTACH;FMTTYPE=image/jpeg:https://rvrollerderby.com/wp-content/uploads/2018/09/parade-4.jpg
ORGANIZER;CN="RVRDA":MAILTO:rockyviewrollers@gmail.com
END:VEVENT
BEGIN:VEVENT
DTSTART;TZID=America/Toronto:20190521T193000
DTEND;TZID=America/Toronto:20190521T213000
DTSTAMP:20260424T183123
CREATED:20190424T004305Z
LAST-MODIFIED:20190424T004305Z
UID:2415-1558467000-1558474200@rvrollerderby.com
SUMMARY:East Side Wheeler's & Eat Side Practice
DESCRIPTION:This is our CO-ED benchmarked practice. All benchmarked skaters are welcome. Skaters from outside the league can pay $10 to attend. \nWith the East Side Wheeler’s being our “B” level team\, Riot focuses on more advances strategies and footwork. There is always a scrimmage portion at the end of practice.
URL:https://rvrollerderby.com/event/east-side-wheelers-eat-side-practice-5/
LOCATION:Indus Recreational Centre\, 225155 Range Road 281A\, Indus\, Alberta\, T1X 0H7\, Canada
ATTACH;FMTTYPE=image/jpeg:https://rvrollerderby.com/wp-content/uploads/2019/04/ESW-Team.jpg
END:VEVENT
BEGIN:VEVENT
DTSTART;TZID=America/Edmonton:20190518T190000
DTEND;TZID=America/Edmonton:20190518T210000
DTSTAMP:20260424T183123
CREATED:20181129T010941Z
LAST-MODIFIED:20181129T010941Z
UID:2050-1558206000-1558213200@rvrollerderby.com
SUMMARY:RVRDA Open League Practice
DESCRIPTION:This practice is for everyone and anyone who wants to skate!  Our league coach\, Quiet Riot\, will lead this practice touching on various skills for all levels. There will be a scrimmage after the skills portion\, you need to be benchmarked to partake in the scrimmage. \nThere is a $10 drop in fee for skaters from outside of the league. \nThis is a Co-ed event. \nJuniors level 3 are welcome. \nYou need proof of valid sport insurance and full protective gear (helmet\, elbow pads\, wrist guards\, knee pads\, quad skates and Mouth guard) \nCome join us at our sponsor Boston Pizza after practice for some snacks and drinks! \n 
URL:https://rvrollerderby.com/event/rvrda-open-league-practice-5/
LOCATION:Kings Court Church\, 2964 Kingsview Blvd SE\, Airdrie\, Alberta\, T4A 0C9\, Canada
ATTACH;FMTTYPE=image/jpeg:https://rvrollerderby.com/wp-content/uploads/2018/09/esw-practice.jpg
ORGANIZER;CN="RVRDA":MAILTO:rockyviewrollers@gmail.com
END:VEVENT
BEGIN:VEVENT
DTSTART;TZID=America/Edmonton:20190515T190000
DTEND;TZID=America/Edmonton:20190515T220000
DTSTAMP:20260424T183123
CREATED:20190423T223902Z
LAST-MODIFIED:20190423T224009Z
UID:2201-1557946800-1557957600@rvrollerderby.com
SUMMARY:Spring & Summer League Practices
DESCRIPTION:For the Spring & Summer months we move to the Pete Knight Memorial Arena\, our home. We change our practice schedule slightly so that the whole league practices together. This give fresh meat a chance to level up a little when we all skate together and they get a taste for the benchmarked practice. \n  \nDon’t forget to bring running shoes for dry land warm-ups.
URL:https://rvrollerderby.com/event/spring-summer-league-practices-2/
LOCATION:Pete Knight Arena\, 920 Mountain Ave\, Crossfield\, Alberta\, T0M0S0\, Canada
ATTACH;FMTTYPE=image/jpeg:https://rvrollerderby.com/wp-content/uploads/2018/09/parade-4.jpg
ORGANIZER;CN="RVRDA":MAILTO:rockyviewrollers@gmail.com
END:VEVENT
BEGIN:VEVENT
DTSTART;TZID=America/Toronto:20190514T193000
DTEND;TZID=America/Toronto:20190514T213000
DTSTAMP:20260424T183123
CREATED:20190424T004205Z
LAST-MODIFIED:20190424T004205Z
UID:2419-1557862200-1557869400@rvrollerderby.com
SUMMARY:East Side Wheeler's & Eat Side Practice
DESCRIPTION:This is our CO-ED benchmarked practice. All benchmarked skaters are welcome. Skaters from outside the league can pay $10 to attend. \nWith the East Side Wheeler’s being our “B” level team\, Riot focuses on more advances strategies and footwork. There is always a scrimmage portion at the end of practice.
URL:https://rvrollerderby.com/event/east-side-wheelers-eat-side-practice-4/
LOCATION:Indus Recreational Centre\, 225155 Range Road 281A\, Indus\, Alberta\, T1X 0H7\, Canada
ATTACH;FMTTYPE=image/jpeg:https://rvrollerderby.com/wp-content/uploads/2019/04/ESW-Team.jpg
END:VEVENT
BEGIN:VEVENT
DTSTART;TZID=America/Edmonton:20190508T190000
DTEND;TZID=America/Edmonton:20190508T220000
DTSTAMP:20260424T183123
CREATED:20190423T223840Z
LAST-MODIFIED:20190423T223942Z
UID:2200-1557342000-1557352800@rvrollerderby.com
SUMMARY:Spring & Summer League Practices
DESCRIPTION:For the Spring & Summer months we move to the Pete Knight Memorial Arena\, our home. We change our practice schedule slightly so that the whole league practices together. This give fresh meat a chance to level up a little when we all skate together and they get a taste for the benchmarked practice. \n  \nDon’t forget to bring running shoes for dry land warm-ups.
URL:https://rvrollerderby.com/event/spring-summer-league-practices/
LOCATION:Pete Knight Arena\, 920 Mountain Ave\, Crossfield\, Alberta\, T0M0S0\, Canada
ATTACH;FMTTYPE=image/jpeg:https://rvrollerderby.com/wp-content/uploads/2018/09/parade-4.jpg
ORGANIZER;CN="RVRDA":MAILTO:rockyviewrollers@gmail.com
END:VEVENT
END:VCALENDAR