BEGIN:VCALENDAR
VERSION:2.0
PRODID:-//Rocky View Roller Derby - ECPv6.15.10//NONSGML v1.0//EN
CALSCALE:GREGORIAN
METHOD:PUBLISH
X-WR-CALNAME:Rocky View Roller Derby
X-ORIGINAL-URL:https://rvrollerderby.com
X-WR-CALDESC:Events for Rocky View Roller Derby
REFRESH-INTERVAL;VALUE=DURATION:PT1H
X-Robots-Tag:noindex
X-PUBLISHED-TTL:PT1H
BEGIN:VTIMEZONE
TZID:America/Edmonton
BEGIN:DAYLIGHT
TZOFFSETFROM:-0700
TZOFFSETTO:-0600
TZNAME:MDT
DTSTART:20190310T090000
END:DAYLIGHT
BEGIN:STANDARD
TZOFFSETFROM:-0600
TZOFFSETTO:-0700
TZNAME:MST
DTSTART:20191103T080000
END:STANDARD
BEGIN:DAYLIGHT
TZOFFSETFROM:-0700
TZOFFSETTO:-0600
TZNAME:MDT
DTSTART:20200308T090000
END:DAYLIGHT
BEGIN:STANDARD
TZOFFSETFROM:-0600
TZOFFSETTO:-0700
TZNAME:MST
DTSTART:20201101T080000
END:STANDARD
BEGIN:DAYLIGHT
TZOFFSETFROM:-0700
TZOFFSETTO:-0600
TZNAME:MDT
DTSTART:20210314T090000
END:DAYLIGHT
BEGIN:STANDARD
TZOFFSETFROM:-0600
TZOFFSETTO:-0700
TZNAME:MST
DTSTART:20211107T080000
END:STANDARD
END:VTIMEZONE
BEGIN:VTIMEZONE
TZID:America/Toronto
BEGIN:DAYLIGHT
TZOFFSETFROM:-0500
TZOFFSETTO:-0400
TZNAME:EDT
DTSTART:20190310T070000
END:DAYLIGHT
BEGIN:STANDARD
TZOFFSETFROM:-0400
TZOFFSETTO:-0500
TZNAME:EST
DTSTART:20191103T060000
END:STANDARD
BEGIN:DAYLIGHT
TZOFFSETFROM:-0500
TZOFFSETTO:-0400
TZNAME:EDT
DTSTART:20200308T070000
END:DAYLIGHT
BEGIN:STANDARD
TZOFFSETFROM:-0400
TZOFFSETTO:-0500
TZNAME:EST
DTSTART:20201101T060000
END:STANDARD
BEGIN:DAYLIGHT
TZOFFSETFROM:-0500
TZOFFSETTO:-0400
TZNAME:EDT
DTSTART:20210314T070000
END:DAYLIGHT
BEGIN:STANDARD
TZOFFSETFROM:-0400
TZOFFSETTO:-0500
TZNAME:EST
DTSTART:20211107T060000
END:STANDARD
END:VTIMEZONE
BEGIN:VEVENT
DTSTART;TZID=America/Edmonton:20201116T193000
DTEND;TZID=America/Edmonton:20201116T213000
DTSTAMP:20260423T123636
CREATED:20191220T181214Z
LAST-MODIFIED:20191220T181214Z
UID:2834-1605555000-1605562200@rvrollerderby.com
SUMMARY:Fresh Meat Practice - Airdrie
DESCRIPTION:Monday night practice is for Fresh Meat. We welcome all skaters to these practices. Fresh Meat Coaches focus on basic skills\, endurance and fitness. Everyone always benefits from these practices. Don’t forget to bring running shoes for dry land warm-ups. \n$10 drop in fee for skaters from outside of the league.
URL:https://rvrollerderby.com/event/fresh-meat-practice-airdrie-37/
LOCATION:Kings Court Church\, 2964 Kingsview Blvd SE\, Airdrie\, Alberta\, T4A 0C9\, Canada
ATTACH;FMTTYPE=image/jpeg:https://rvrollerderby.com/wp-content/uploads/2018/09/dirty-deb-1.jpg
ORGANIZER;CN="RVRDA":MAILTO:rockyviewrollers@gmail.com
END:VEVENT
BEGIN:VEVENT
DTSTART;TZID=America/Edmonton:20201111T193000
DTEND;TZID=America/Edmonton:20201111T213000
DTSTAMP:20260423T123636
CREATED:20191220T193951Z
LAST-MODIFIED:20191220T193951Z
UID:2941-1605123000-1605130200@rvrollerderby.com
SUMMARY:Rocky View Rollers Practice
DESCRIPTION:This practice is for bench-marked skaters. Quiet Riot will focus more on game play and strategy at these practices. Don’t forget to bring running shoes for dry land warm-ups.
URL:https://rvrollerderby.com/event/rocky-view-rollers-practice-73/
LOCATION:Kings Court Church\, 2964 Kingsview Blvd SE\, Airdrie\, Alberta\, T4A 0C9\, Canada
ATTACH;FMTTYPE=image/jpeg:https://rvrollerderby.com/wp-content/uploads/2018/09/game-5.jpg
ORGANIZER;CN="RVRDA":MAILTO:rockyviewrollers@gmail.com
END:VEVENT
BEGIN:VEVENT
DTSTART;TZID=America/Toronto:20201110T193000
DTEND;TZID=America/Toronto:20201110T213000
DTSTAMP:20260423T123636
CREATED:20191218T203904Z
LAST-MODIFIED:20191218T203904Z
UID:2748-1605036600-1605043800@rvrollerderby.com
SUMMARY:East Side Wheeler's & Eat Side Practice
DESCRIPTION:This is our CO-ED benchmarked practice. All benchmarked skaters are welcome. Skaters from outside the league can pay $10 to attend. \nWith the East Side Wheeler’s being our “B” level team\, Riot focuses on more advances strategies and footwork. There is always a scrimmage portion at the end of practice.
URL:https://rvrollerderby.com/event/east-side-wheelers-eat-side-practice-79/
LOCATION:Indus Recreational Centre\, 225155 Range Road 281A\, Indus\, Alberta\, T1X 0H7\, Canada
ATTACH;FMTTYPE=image/jpeg:https://rvrollerderby.com/wp-content/uploads/2019/04/ESW-Team.jpg
END:VEVENT
BEGIN:VEVENT
DTSTART;TZID=America/Edmonton:20201109T193000
DTEND;TZID=America/Edmonton:20201109T213000
DTSTAMP:20260423T123636
CREATED:20191220T181146Z
LAST-MODIFIED:20191220T181146Z
UID:2832-1604950200-1604957400@rvrollerderby.com
SUMMARY:Fresh Meat Practice - Airdrie
DESCRIPTION:Monday night practice is for Fresh Meat. We welcome all skaters to these practices. Fresh Meat Coaches focus on basic skills\, endurance and fitness. Everyone always benefits from these practices. Don’t forget to bring running shoes for dry land warm-ups. \n$10 drop in fee for skaters from outside of the league.
URL:https://rvrollerderby.com/event/fresh-meat-practice-airdrie-36/
LOCATION:Kings Court Church\, 2964 Kingsview Blvd SE\, Airdrie\, Alberta\, T4A 0C9\, Canada
ATTACH;FMTTYPE=image/jpeg:https://rvrollerderby.com/wp-content/uploads/2018/09/dirty-deb-1.jpg
ORGANIZER;CN="RVRDA":MAILTO:rockyviewrollers@gmail.com
END:VEVENT
BEGIN:VEVENT
DTSTART;TZID=America/Edmonton:20201104T193000
DTEND;TZID=America/Edmonton:20201104T213000
DTSTAMP:20260423T123636
CREATED:20191220T193922Z
LAST-MODIFIED:20191220T193922Z
UID:2939-1604518200-1604525400@rvrollerderby.com
SUMMARY:Rocky View Rollers Practice
DESCRIPTION:This practice is for bench-marked skaters. Quiet Riot will focus more on game play and strategy at these practices. Don’t forget to bring running shoes for dry land warm-ups.
URL:https://rvrollerderby.com/event/rocky-view-rollers-practice-72/
LOCATION:Kings Court Church\, 2964 Kingsview Blvd SE\, Airdrie\, Alberta\, T4A 0C9\, Canada
ATTACH;FMTTYPE=image/jpeg:https://rvrollerderby.com/wp-content/uploads/2018/09/game-5.jpg
ORGANIZER;CN="RVRDA":MAILTO:rockyviewrollers@gmail.com
END:VEVENT
BEGIN:VEVENT
DTSTART;TZID=America/Toronto:20201103T193000
DTEND;TZID=America/Toronto:20201103T213000
DTSTAMP:20260423T123636
CREATED:20191218T203842Z
LAST-MODIFIED:20191218T203842Z
UID:2746-1604431800-1604439000@rvrollerderby.com
SUMMARY:East Side Wheeler's & Eat Side Practice
DESCRIPTION:This is our CO-ED benchmarked practice. All benchmarked skaters are welcome. Skaters from outside the league can pay $10 to attend. \nWith the East Side Wheeler’s being our “B” level team\, Riot focuses on more advances strategies and footwork. There is always a scrimmage portion at the end of practice.
URL:https://rvrollerderby.com/event/east-side-wheelers-eat-side-practice-78/
LOCATION:Indus Recreational Centre\, 225155 Range Road 281A\, Indus\, Alberta\, T1X 0H7\, Canada
ATTACH;FMTTYPE=image/jpeg:https://rvrollerderby.com/wp-content/uploads/2019/04/ESW-Team.jpg
END:VEVENT
BEGIN:VEVENT
DTSTART;TZID=America/Edmonton:20201102T193000
DTEND;TZID=America/Edmonton:20201102T213000
DTSTAMP:20260423T123636
CREATED:20191220T181028Z
LAST-MODIFIED:20191220T181028Z
UID:2830-1604345400-1604352600@rvrollerderby.com
SUMMARY:Fresh Meat Practice - Airdrie
DESCRIPTION:Monday night practice is for Fresh Meat. We welcome all skaters to these practices. Fresh Meat Coaches focus on basic skills\, endurance and fitness. Everyone always benefits from these practices. Don’t forget to bring running shoes for dry land warm-ups. \n$10 drop in fee for skaters from outside of the league.
URL:https://rvrollerderby.com/event/fresh-meat-practice-airdrie-35/
LOCATION:Kings Court Church\, 2964 Kingsview Blvd SE\, Airdrie\, Alberta\, T4A 0C9\, Canada
ATTACH;FMTTYPE=image/jpeg:https://rvrollerderby.com/wp-content/uploads/2018/09/dirty-deb-1.jpg
ORGANIZER;CN="RVRDA":MAILTO:rockyviewrollers@gmail.com
END:VEVENT
BEGIN:VEVENT
DTSTART;TZID=America/Edmonton:20201028T193000
DTEND;TZID=America/Edmonton:20201028T213000
DTSTAMP:20260423T123636
CREATED:20191220T193900Z
LAST-MODIFIED:20191220T193900Z
UID:2937-1603913400-1603920600@rvrollerderby.com
SUMMARY:Rocky View Rollers Practice
DESCRIPTION:This practice is for bench-marked skaters. Quiet Riot will focus more on game play and strategy at these practices. Don’t forget to bring running shoes for dry land warm-ups.
URL:https://rvrollerderby.com/event/rocky-view-rollers-practice-71/
LOCATION:Kings Court Church\, 2964 Kingsview Blvd SE\, Airdrie\, Alberta\, T4A 0C9\, Canada
ATTACH;FMTTYPE=image/jpeg:https://rvrollerderby.com/wp-content/uploads/2018/09/game-5.jpg
ORGANIZER;CN="RVRDA":MAILTO:rockyviewrollers@gmail.com
END:VEVENT
BEGIN:VEVENT
DTSTART;TZID=America/Toronto:20201027T193000
DTEND;TZID=America/Toronto:20201027T213000
DTSTAMP:20260423T123636
CREATED:20191218T203816Z
LAST-MODIFIED:20191218T203816Z
UID:2744-1603827000-1603834200@rvrollerderby.com
SUMMARY:East Side Wheeler's & Eat Side Practice
DESCRIPTION:This is our CO-ED benchmarked practice. All benchmarked skaters are welcome. Skaters from outside the league can pay $10 to attend. \nWith the East Side Wheeler’s being our “B” level team\, Riot focuses on more advances strategies and footwork. There is always a scrimmage portion at the end of practice.
URL:https://rvrollerderby.com/event/east-side-wheelers-eat-side-practice-77/
LOCATION:Indus Recreational Centre\, 225155 Range Road 281A\, Indus\, Alberta\, T1X 0H7\, Canada
ATTACH;FMTTYPE=image/jpeg:https://rvrollerderby.com/wp-content/uploads/2019/04/ESW-Team.jpg
END:VEVENT
BEGIN:VEVENT
DTSTART;TZID=America/Edmonton:20201026T193000
DTEND;TZID=America/Edmonton:20201026T213000
DTSTAMP:20260423T123636
CREATED:20191220T181001Z
LAST-MODIFIED:20191220T181001Z
UID:2828-1603740600-1603747800@rvrollerderby.com
SUMMARY:Fresh Meat Practice - Airdrie
DESCRIPTION:Monday night practice is for Fresh Meat. We welcome all skaters to these practices. Fresh Meat Coaches focus on basic skills\, endurance and fitness. Everyone always benefits from these practices. Don’t forget to bring running shoes for dry land warm-ups. \n$10 drop in fee for skaters from outside of the league.
URL:https://rvrollerderby.com/event/fresh-meat-practice-airdrie-34/
LOCATION:Kings Court Church\, 2964 Kingsview Blvd SE\, Airdrie\, Alberta\, T4A 0C9\, Canada
ATTACH;FMTTYPE=image/jpeg:https://rvrollerderby.com/wp-content/uploads/2018/09/dirty-deb-1.jpg
ORGANIZER;CN="RVRDA":MAILTO:rockyviewrollers@gmail.com
END:VEVENT
BEGIN:VEVENT
DTSTART;TZID=America/Edmonton:20201021T193000
DTEND;TZID=America/Edmonton:20201021T213000
DTSTAMP:20260423T123636
CREATED:20191220T193830Z
LAST-MODIFIED:20191220T193830Z
UID:2935-1603308600-1603315800@rvrollerderby.com
SUMMARY:Rocky View Rollers Practice
DESCRIPTION:This practice is for bench-marked skaters. Quiet Riot will focus more on game play and strategy at these practices. Don’t forget to bring running shoes for dry land warm-ups.
URL:https://rvrollerderby.com/event/rocky-view-rollers-practice-70/
LOCATION:Kings Court Church\, 2964 Kingsview Blvd SE\, Airdrie\, Alberta\, T4A 0C9\, Canada
ATTACH;FMTTYPE=image/jpeg:https://rvrollerderby.com/wp-content/uploads/2018/09/game-5.jpg
ORGANIZER;CN="RVRDA":MAILTO:rockyviewrollers@gmail.com
END:VEVENT
BEGIN:VEVENT
DTSTART;TZID=America/Toronto:20201020T193000
DTEND;TZID=America/Toronto:20201020T213000
DTSTAMP:20260423T123636
CREATED:20191218T194704Z
LAST-MODIFIED:20191218T194704Z
UID:2742-1603222200-1603229400@rvrollerderby.com
SUMMARY:East Side Wheeler's & Eat Side Practice
DESCRIPTION:This is our CO-ED benchmarked practice. All benchmarked skaters are welcome. Skaters from outside the league can pay $10 to attend. \nWith the East Side Wheeler’s being our “B” level team\, Riot focuses on more advances strategies and footwork. There is always a scrimmage portion at the end of practice.
URL:https://rvrollerderby.com/event/east-side-wheelers-eat-side-practice-76/
LOCATION:Indus Recreational Centre\, 225155 Range Road 281A\, Indus\, Alberta\, T1X 0H7\, Canada
ATTACH;FMTTYPE=image/jpeg:https://rvrollerderby.com/wp-content/uploads/2019/04/ESW-Team.jpg
END:VEVENT
BEGIN:VEVENT
DTSTART;TZID=America/Edmonton:20201019T193000
DTEND;TZID=America/Edmonton:20201019T213000
DTSTAMP:20260423T123636
CREATED:20191220T180941Z
LAST-MODIFIED:20191220T180941Z
UID:2826-1603135800-1603143000@rvrollerderby.com
SUMMARY:Fresh Meat Practice - Airdrie
DESCRIPTION:Monday night practice is for Fresh Meat. We welcome all skaters to these practices. Fresh Meat Coaches focus on basic skills\, endurance and fitness. Everyone always benefits from these practices. Don’t forget to bring running shoes for dry land warm-ups. \n$10 drop in fee for skaters from outside of the league.
URL:https://rvrollerderby.com/event/fresh-meat-practice-airdrie-33/
LOCATION:Kings Court Church\, 2964 Kingsview Blvd SE\, Airdrie\, Alberta\, T4A 0C9\, Canada
ATTACH;FMTTYPE=image/jpeg:https://rvrollerderby.com/wp-content/uploads/2018/09/dirty-deb-1.jpg
ORGANIZER;CN="RVRDA":MAILTO:rockyviewrollers@gmail.com
END:VEVENT
BEGIN:VEVENT
DTSTART;TZID=America/Edmonton:20201017T190000
DTEND;TZID=America/Edmonton:20201017T220000
DTSTAMP:20260423T123636
CREATED:20191220T195205Z
LAST-MODIFIED:20191220T195205Z
UID:2962-1602961200-1602972000@rvrollerderby.com
SUMMARY:RVRDA Open League Practice
DESCRIPTION:This practice is for everyone and anyone who wants to skate!  Our league coach\, Quiet Riot\, will lead this practice touching on various skills for all levels. There will be a scrimmage after the skills portion\, you need to be benchmarked to partake in the scrimmage. \nThere is a $10 drop in fee for skaters from outside of the league. \nThis is a Co-ed event. \nJuniors level 3 are welcome. \nYou need proof of valid sport insurance *(your insurance must be valid when skating with juniors)* and full protective gear (helmet\, elbow pads\, wrist guards\, knee pads\, quad skates and Mouth guard) \nCome join us at our sponsor Boston Pizza after practice for some snacks and drinks! \n 
URL:https://rvrollerderby.com/event/rvrda-open-league-practice-18/
LOCATION:Kings Court Church\, 2964 Kingsview Blvd SE\, Airdrie\, Alberta\, T4A 0C9\, Canada
ATTACH;FMTTYPE=image/jpeg:https://rvrollerderby.com/wp-content/uploads/2018/09/esw-practice.jpg
ORGANIZER;CN="RVRDA":MAILTO:rockyviewrollers@gmail.com
END:VEVENT
BEGIN:VEVENT
DTSTART;TZID=America/Edmonton:20201014T193000
DTEND;TZID=America/Edmonton:20201014T213000
DTSTAMP:20260423T123636
CREATED:20191220T193802Z
LAST-MODIFIED:20191220T193802Z
UID:2933-1602703800-1602711000@rvrollerderby.com
SUMMARY:Rocky View Rollers Practice
DESCRIPTION:This practice is for bench-marked skaters. Quiet Riot will focus more on game play and strategy at these practices. Don’t forget to bring running shoes for dry land warm-ups.
URL:https://rvrollerderby.com/event/rocky-view-rollers-practice-69/
LOCATION:Kings Court Church\, 2964 Kingsview Blvd SE\, Airdrie\, Alberta\, T4A 0C9\, Canada
ATTACH;FMTTYPE=image/jpeg:https://rvrollerderby.com/wp-content/uploads/2018/09/game-5.jpg
ORGANIZER;CN="RVRDA":MAILTO:rockyviewrollers@gmail.com
END:VEVENT
BEGIN:VEVENT
DTSTART;TZID=America/Toronto:20201013T193000
DTEND;TZID=America/Toronto:20201013T213000
DTSTAMP:20260423T123636
CREATED:20191218T194637Z
LAST-MODIFIED:20191218T194637Z
UID:2740-1602617400-1602624600@rvrollerderby.com
SUMMARY:East Side Wheeler's & Eat Side Practice
DESCRIPTION:This is our CO-ED benchmarked practice. All benchmarked skaters are welcome. Skaters from outside the league can pay $10 to attend. \nWith the East Side Wheeler’s being our “B” level team\, Riot focuses on more advances strategies and footwork. There is always a scrimmage portion at the end of practice.
URL:https://rvrollerderby.com/event/east-side-wheelers-eat-side-practice-75/
LOCATION:Indus Recreational Centre\, 225155 Range Road 281A\, Indus\, Alberta\, T1X 0H7\, Canada
ATTACH;FMTTYPE=image/jpeg:https://rvrollerderby.com/wp-content/uploads/2019/04/ESW-Team.jpg
END:VEVENT
BEGIN:VEVENT
DTSTART;TZID=America/Edmonton:20201012T193000
DTEND;TZID=America/Edmonton:20201012T213000
DTSTAMP:20260423T123636
CREATED:20191220T180441Z
LAST-MODIFIED:20191220T180922Z
UID:2822-1602531000-1602538200@rvrollerderby.com
SUMMARY:Fresh Meat Practice - Airdrie
DESCRIPTION:Monday night practice is for Fresh Meat. We welcome all skaters to these practices. Fresh Meat Coaches focus on basic skills\, endurance and fitness. Everyone always benefits from these practices. Don’t forget to bring running shoes for dry land warm-ups. \n$10 drop in fee for skaters from outside of the league.
URL:https://rvrollerderby.com/event/fresh-meat-practice-airdrie-32/
LOCATION:Kings Court Church\, 2964 Kingsview Blvd SE\, Airdrie\, Alberta\, T4A 0C9\, Canada
ATTACH;FMTTYPE=image/jpeg:https://rvrollerderby.com/wp-content/uploads/2018/09/dirty-deb-1.jpg
ORGANIZER;CN="RVRDA":MAILTO:rockyviewrollers@gmail.com
END:VEVENT
BEGIN:VEVENT
DTSTART;TZID=America/Edmonton:20201007T193000
DTEND;TZID=America/Edmonton:20201007T213000
DTSTAMP:20260423T123636
CREATED:20191220T193736Z
LAST-MODIFIED:20191220T193736Z
UID:2931-1602099000-1602106200@rvrollerderby.com
SUMMARY:Rocky View Rollers Practice
DESCRIPTION:This practice is for bench-marked skaters. Quiet Riot will focus more on game play and strategy at these practices. Don’t forget to bring running shoes for dry land warm-ups.
URL:https://rvrollerderby.com/event/rocky-view-rollers-practice-68/
LOCATION:Kings Court Church\, 2964 Kingsview Blvd SE\, Airdrie\, Alberta\, T4A 0C9\, Canada
ATTACH;FMTTYPE=image/jpeg:https://rvrollerderby.com/wp-content/uploads/2018/09/game-5.jpg
ORGANIZER;CN="RVRDA":MAILTO:rockyviewrollers@gmail.com
END:VEVENT
BEGIN:VEVENT
DTSTART;TZID=America/Toronto:20201006T193000
DTEND;TZID=America/Toronto:20201006T213000
DTSTAMP:20260423T123636
CREATED:20191218T194548Z
LAST-MODIFIED:20191218T194548Z
UID:2738-1602012600-1602019800@rvrollerderby.com
SUMMARY:East Side Wheeler's & Eat Side Practice
DESCRIPTION:This is our CO-ED benchmarked practice. All benchmarked skaters are welcome. Skaters from outside the league can pay $10 to attend. \nWith the East Side Wheeler’s being our “B” level team\, Riot focuses on more advances strategies and footwork. There is always a scrimmage portion at the end of practice.
URL:https://rvrollerderby.com/event/east-side-wheelers-eat-side-practice-74/
LOCATION:Indus Recreational Centre\, 225155 Range Road 281A\, Indus\, Alberta\, T1X 0H7\, Canada
ATTACH;FMTTYPE=image/jpeg:https://rvrollerderby.com/wp-content/uploads/2019/04/ESW-Team.jpg
END:VEVENT
BEGIN:VEVENT
DTSTART;TZID=America/Edmonton:20201005T193000
DTEND;TZID=America/Edmonton:20201005T213000
DTSTAMP:20260423T123636
CREATED:20191219T001345Z
LAST-MODIFIED:20191219T001345Z
UID:2820-1601926200-1601933400@rvrollerderby.com
SUMMARY:Fresh Meat Practice - Airdrie
DESCRIPTION:Monday night practice is for Fresh Meat. We welcome all skaters to these practices. Fresh Meat Coaches focus on basic skilled\, endurance and fitness. Everyone always benefits from these practices. Don’t forget to bring running shoes for dry land warm-ups. \n$10 drop in fee for skaters from outside of the league.
URL:https://rvrollerderby.com/event/fresh-meat-practice-airdrie-31/
LOCATION:Kings Court Church\, 2964 Kingsview Blvd SE\, Airdrie\, Alberta\, T4A 0C9\, Canada
ATTACH;FMTTYPE=image/jpeg:https://rvrollerderby.com/wp-content/uploads/2018/09/dirty-deb-1.jpg
ORGANIZER;CN="RVRDA":MAILTO:rockyviewrollers@gmail.com
END:VEVENT
BEGIN:VEVENT
DTSTART;TZID=America/Edmonton:20200930T193000
DTEND;TZID=America/Edmonton:20200930T213000
DTSTAMP:20260423T123636
CREATED:20191220T193710Z
LAST-MODIFIED:20191220T193710Z
UID:2929-1601494200-1601501400@rvrollerderby.com
SUMMARY:Rocky View Rollers Practice
DESCRIPTION:This practice is for bench-marked skaters. Quiet Riot will focus more on game play and strategy at these practices. Don’t forget to bring running shoes for dry land warm-ups.
URL:https://rvrollerderby.com/event/rocky-view-rollers-practice-67/
LOCATION:Kings Court Church\, 2964 Kingsview Blvd SE\, Airdrie\, Alberta\, T4A 0C9\, Canada
ATTACH;FMTTYPE=image/jpeg:https://rvrollerderby.com/wp-content/uploads/2018/09/game-5.jpg
ORGANIZER;CN="RVRDA":MAILTO:rockyviewrollers@gmail.com
END:VEVENT
BEGIN:VEVENT
DTSTART;TZID=America/Toronto:20200929T193000
DTEND;TZID=America/Toronto:20200929T213000
DTSTAMP:20260423T123636
CREATED:20191218T194521Z
LAST-MODIFIED:20191218T194521Z
UID:2736-1601407800-1601415000@rvrollerderby.com
SUMMARY:East Side Wheeler's & Eat Side Practice
DESCRIPTION:This is our CO-ED benchmarked practice. All benchmarked skaters are welcome. Skaters from outside the league can pay $10 to attend. \nWith the East Side Wheeler’s being our “B” level team\, Riot focuses on more advances strategies and footwork. There is always a scrimmage portion at the end of practice.
URL:https://rvrollerderby.com/event/east-side-wheelers-eat-side-practice-73/
LOCATION:Indus Recreational Centre\, 225155 Range Road 281A\, Indus\, Alberta\, T1X 0H7\, Canada
ATTACH;FMTTYPE=image/jpeg:https://rvrollerderby.com/wp-content/uploads/2019/04/ESW-Team.jpg
END:VEVENT
BEGIN:VEVENT
DTSTART;TZID=America/Edmonton:20200928T193000
DTEND;TZID=America/Edmonton:20200928T213000
DTSTAMP:20260423T123636
CREATED:20191219T001308Z
LAST-MODIFIED:20191219T001308Z
UID:2818-1601321400-1601328600@rvrollerderby.com
SUMMARY:Fresh Meat Practice - Airdrie
DESCRIPTION:Monday night practice is for Fresh Meat. We welcome all skaters to these practices. Fresh Meat Coaches focus on basic skilled\, endurance and fitness. Everyone always benefits from these practices. Don’t forget to bring running shoes for dry land warm-ups. \n$10 drop in fee for skaters from outside of the league.
URL:https://rvrollerderby.com/event/fresh-meat-practice-airdrie-30/
LOCATION:Kings Court Church\, 2964 Kingsview Blvd SE\, Airdrie\, Alberta\, T4A 0C9\, Canada
ATTACH;FMTTYPE=image/jpeg:https://rvrollerderby.com/wp-content/uploads/2018/09/dirty-deb-1.jpg
ORGANIZER;CN="RVRDA":MAILTO:rockyviewrollers@gmail.com
END:VEVENT
BEGIN:VEVENT
DTSTART;TZID=America/Edmonton:20200923T193000
DTEND;TZID=America/Edmonton:20200923T213000
DTSTAMP:20260423T123636
CREATED:20191220T193246Z
LAST-MODIFIED:20191220T193246Z
UID:2927-1600889400-1600896600@rvrollerderby.com
SUMMARY:Rocky View Rollers Practice
DESCRIPTION:This practice is for bench-marked skaters. Quiet Riot will focus more on game play and strategy at these practices. Don’t forget to bring running shoes for dry land warm-ups.
URL:https://rvrollerderby.com/event/rocky-view-rollers-practice-66/
LOCATION:Kings Court Church\, 2964 Kingsview Blvd SE\, Airdrie\, Alberta\, T4A 0C9\, Canada
ATTACH;FMTTYPE=image/jpeg:https://rvrollerderby.com/wp-content/uploads/2018/09/game-5.jpg
ORGANIZER;CN="RVRDA":MAILTO:rockyviewrollers@gmail.com
END:VEVENT
BEGIN:VEVENT
DTSTART;TZID=America/Toronto:20200922T193000
DTEND;TZID=America/Toronto:20200922T213000
DTSTAMP:20260423T123636
CREATED:20191218T194457Z
LAST-MODIFIED:20191218T194457Z
UID:2734-1600803000-1600810200@rvrollerderby.com
SUMMARY:East Side Wheeler's & Eat Side Practice
DESCRIPTION:This is our CO-ED benchmarked practice. All benchmarked skaters are welcome. Skaters from outside the league can pay $10 to attend. \nWith the East Side Wheeler’s being our “B” level team\, Riot focuses on more advances strategies and footwork. There is always a scrimmage portion at the end of practice.
URL:https://rvrollerderby.com/event/east-side-wheelers-eat-side-practice-72/
LOCATION:Indus Recreational Centre\, 225155 Range Road 281A\, Indus\, Alberta\, T1X 0H7\, Canada
ATTACH;FMTTYPE=image/jpeg:https://rvrollerderby.com/wp-content/uploads/2019/04/ESW-Team.jpg
END:VEVENT
BEGIN:VEVENT
DTSTART;TZID=America/Edmonton:20200921T193000
DTEND;TZID=America/Edmonton:20200921T213000
DTSTAMP:20260423T123636
CREATED:20191219T001245Z
LAST-MODIFIED:20191219T001245Z
UID:2816-1600716600-1600723800@rvrollerderby.com
SUMMARY:Fresh Meat Practice - Airdrie
DESCRIPTION:Monday night practice is for Fresh Meat. We welcome all skaters to these practices. Fresh Meat Coaches focus on basic skilled\, endurance and fitness. Everyone always benefits from these practices. Don’t forget to bring running shoes for dry land warm-ups. \n$10 drop in fee for skaters from outside of the league.
URL:https://rvrollerderby.com/event/fresh-meat-practice-airdrie-29/
LOCATION:Kings Court Church\, 2964 Kingsview Blvd SE\, Airdrie\, Alberta\, T4A 0C9\, Canada
ATTACH;FMTTYPE=image/jpeg:https://rvrollerderby.com/wp-content/uploads/2018/09/dirty-deb-1.jpg
ORGANIZER;CN="RVRDA":MAILTO:rockyviewrollers@gmail.com
END:VEVENT
BEGIN:VEVENT
DTSTART;TZID=America/Edmonton:20200919T190000
DTEND;TZID=America/Edmonton:20200919T220000
DTSTAMP:20260423T123636
CREATED:20191220T195006Z
LAST-MODIFIED:20191220T195006Z
UID:2960-1600542000-1600552800@rvrollerderby.com
SUMMARY:RVRDA Open League Practice
DESCRIPTION:This practice is for everyone and anyone who wants to skate!  Our league coach\, Quiet Riot\, will lead this practice touching on various skills for all levels. There will be a scrimmage after the skills portion\, you need to be benchmarked to partake in the scrimmage. \nThere is a $10 drop in fee for skaters from outside of the league. \nThis is a Co-ed event. \nJuniors level 3 are welcome. \nYou need proof of valid sport insurance *(your insurance must be valid when skating with juniors)* and full protective gear (helmet\, elbow pads\, wrist guards\, knee pads\, quad skates and Mouth guard) \nCome join us at our sponsor Boston Pizza after practice for some snacks and drinks! \n 
URL:https://rvrollerderby.com/event/rvrda-open-league-practice-17/
LOCATION:Kings Court Church\, 2964 Kingsview Blvd SE\, Airdrie\, Alberta\, T4A 0C9\, Canada
ATTACH;FMTTYPE=image/jpeg:https://rvrollerderby.com/wp-content/uploads/2018/09/esw-practice.jpg
ORGANIZER;CN="RVRDA":MAILTO:rockyviewrollers@gmail.com
END:VEVENT
BEGIN:VEVENT
DTSTART;TZID=America/Edmonton:20200916T193000
DTEND;TZID=America/Edmonton:20200916T213000
DTSTAMP:20260423T123636
CREATED:20191220T192958Z
LAST-MODIFIED:20191220T192958Z
UID:2924-1600284600-1600291800@rvrollerderby.com
SUMMARY:Rocky View Rollers Practice
DESCRIPTION:This practice is for bench-marked skaters. Quiet Riot will focus more on game play and strategy at these practices. Don’t forget to bring running shoes for dry land warm-ups.
URL:https://rvrollerderby.com/event/rocky-view-rollers-practice-65/
LOCATION:Kings Court Church\, 2964 Kingsview Blvd SE\, Airdrie\, Alberta\, T4A 0C9\, Canada
ATTACH;FMTTYPE=image/jpeg:https://rvrollerderby.com/wp-content/uploads/2018/09/game-5.jpg
ORGANIZER;CN="RVRDA":MAILTO:rockyviewrollers@gmail.com
END:VEVENT
BEGIN:VEVENT
DTSTART;TZID=America/Toronto:20200915T193000
DTEND;TZID=America/Toronto:20200915T213000
DTSTAMP:20260423T123636
CREATED:20191218T194425Z
LAST-MODIFIED:20191218T194425Z
UID:2732-1600198200-1600205400@rvrollerderby.com
SUMMARY:East Side Wheeler's & Eat Side Practice
DESCRIPTION:This is our CO-ED benchmarked practice. All benchmarked skaters are welcome. Skaters from outside the league can pay $10 to attend. \nWith the East Side Wheeler’s being our “B” level team\, Riot focuses on more advances strategies and footwork. There is always a scrimmage portion at the end of practice.
URL:https://rvrollerderby.com/event/east-side-wheelers-eat-side-practice-71/
LOCATION:Indus Recreational Centre\, 225155 Range Road 281A\, Indus\, Alberta\, T1X 0H7\, Canada
ATTACH;FMTTYPE=image/jpeg:https://rvrollerderby.com/wp-content/uploads/2019/04/ESW-Team.jpg
END:VEVENT
BEGIN:VEVENT
DTSTART;TZID=America/Edmonton:20200914T193000
DTEND;TZID=America/Edmonton:20200914T213000
DTSTAMP:20260423T123636
CREATED:20191219T001222Z
LAST-MODIFIED:20191219T001222Z
UID:2814-1600111800-1600119000@rvrollerderby.com
SUMMARY:Fresh Meat Practice - Airdrie
DESCRIPTION:Monday night practice is for Fresh Meat. We welcome all skaters to these practices. Fresh Meat Coaches focus on basic skilled\, endurance and fitness. Everyone always benefits from these practices. Don’t forget to bring running shoes for dry land warm-ups. \n$10 drop in fee for skaters from outside of the league.
URL:https://rvrollerderby.com/event/fresh-meat-practice-airdrie-28/
LOCATION:Kings Court Church\, 2964 Kingsview Blvd SE\, Airdrie\, Alberta\, T4A 0C9\, Canada
ATTACH;FMTTYPE=image/jpeg:https://rvrollerderby.com/wp-content/uploads/2018/09/dirty-deb-1.jpg
ORGANIZER;CN="RVRDA":MAILTO:rockyviewrollers@gmail.com
END:VEVENT
END:VCALENDAR