BEGIN:VCALENDAR
VERSION:2.0
PRODID:-//Rocky View Roller Derby - ECPv6.15.10//NONSGML v1.0//EN
CALSCALE:GREGORIAN
METHOD:PUBLISH
X-ORIGINAL-URL:https://rvrollerderby.com
X-WR-CALDESC:Events for Rocky View Roller Derby
REFRESH-INTERVAL;VALUE=DURATION:PT1H
X-Robots-Tag:noindex
X-PUBLISHED-TTL:PT1H
BEGIN:VTIMEZONE
TZID:America/Edmonton
BEGIN:DAYLIGHT
TZOFFSETFROM:-0700
TZOFFSETTO:-0600
TZNAME:MDT
DTSTART:20180311T090000
END:DAYLIGHT
BEGIN:STANDARD
TZOFFSETFROM:-0600
TZOFFSETTO:-0700
TZNAME:MST
DTSTART:20181104T080000
END:STANDARD
BEGIN:DAYLIGHT
TZOFFSETFROM:-0700
TZOFFSETTO:-0600
TZNAME:MDT
DTSTART:20190310T090000
END:DAYLIGHT
BEGIN:STANDARD
TZOFFSETFROM:-0600
TZOFFSETTO:-0700
TZNAME:MST
DTSTART:20191103T080000
END:STANDARD
BEGIN:DAYLIGHT
TZOFFSETFROM:-0700
TZOFFSETTO:-0600
TZNAME:MDT
DTSTART:20200308T090000
END:DAYLIGHT
BEGIN:STANDARD
TZOFFSETFROM:-0600
TZOFFSETTO:-0700
TZNAME:MST
DTSTART:20201101T080000
END:STANDARD
BEGIN:DAYLIGHT
TZOFFSETFROM:-0700
TZOFFSETTO:-0600
TZNAME:MDT
DTSTART:20210314T090000
END:DAYLIGHT
BEGIN:STANDARD
TZOFFSETFROM:-0600
TZOFFSETTO:-0700
TZNAME:MST
DTSTART:20211107T080000
END:STANDARD
END:VTIMEZONE
BEGIN:VTIMEZONE
TZID:America/Toronto
BEGIN:DAYLIGHT
TZOFFSETFROM:-0500
TZOFFSETTO:-0400
TZNAME:EDT
DTSTART:20180311T070000
END:DAYLIGHT
BEGIN:STANDARD
TZOFFSETFROM:-0400
TZOFFSETTO:-0500
TZNAME:EST
DTSTART:20181104T060000
END:STANDARD
BEGIN:DAYLIGHT
TZOFFSETFROM:-0500
TZOFFSETTO:-0400
TZNAME:EDT
DTSTART:20190310T070000
END:DAYLIGHT
BEGIN:STANDARD
TZOFFSETFROM:-0400
TZOFFSETTO:-0500
TZNAME:EST
DTSTART:20191103T060000
END:STANDARD
BEGIN:DAYLIGHT
TZOFFSETFROM:-0500
TZOFFSETTO:-0400
TZNAME:EDT
DTSTART:20200308T070000
END:DAYLIGHT
BEGIN:STANDARD
TZOFFSETFROM:-0400
TZOFFSETTO:-0500
TZNAME:EST
DTSTART:20201101T060000
END:STANDARD
BEGIN:DAYLIGHT
TZOFFSETFROM:-0500
TZOFFSETTO:-0400
TZNAME:EDT
DTSTART:20210314T070000
END:DAYLIGHT
BEGIN:STANDARD
TZOFFSETFROM:-0400
TZOFFSETTO:-0500
TZNAME:EST
DTSTART:20211107T060000
END:STANDARD
END:VTIMEZONE
BEGIN:VEVENT
DTSTART;TZID=America/Edmonton:20200205T193000
DTEND;TZID=America/Edmonton:20200205T213000
DTSTAMP:20260424T061834
CREATED:20191220T184351Z
LAST-MODIFIED:20191220T184351Z
UID:2877-1580931000-1580938200@rvrollerderby.com
SUMMARY:Rocky View Rollers Practice
DESCRIPTION:This practice is for bench-marked skaters. Quiet Riot will focus more on game play and strategy at these practices. Don’t forget to bring running shoes for dry land warm-ups.
URL:https://rvrollerderby.com/event/rocky-view-rollers-practice-42/
LOCATION:Kings Court Church\, 2964 Kingsview Blvd SE\, Airdrie\, Alberta\, T4A 0C9\, Canada
ATTACH;FMTTYPE=image/jpeg:https://rvrollerderby.com/wp-content/uploads/2018/09/game-5.jpg
ORGANIZER;CN="RVRDA":MAILTO:rockyviewrollers@gmail.com
END:VEVENT
BEGIN:VEVENT
DTSTART;TZID=America/Toronto:20200204T193000
DTEND;TZID=America/Toronto:20200204T213000
DTSTAMP:20260424T061834
CREATED:20191218T191356Z
LAST-MODIFIED:20191218T191356Z
UID:2668-1580844600-1580851800@rvrollerderby.com
SUMMARY:East Side Wheeler's & Eat Side Practice
DESCRIPTION:This is our CO-ED benchmarked practice. All benchmarked skaters are welcome. Skaters from outside the league can pay $10 to attend. \nWith the East Side Wheeler’s being our “B” level team\, Riot focuses on more advances strategies and footwork. There is always a scrimmage portion at the end of practice.
URL:https://rvrollerderby.com/event/east-side-wheelers-eat-side-practice-39/
LOCATION:Indus Recreational Centre\, 225155 Range Road 281A\, Indus\, Alberta\, T1X 0H7\, Canada
ATTACH;FMTTYPE=image/jpeg:https://rvrollerderby.com/wp-content/uploads/2019/04/ESW-Team.jpg
END:VEVENT
BEGIN:VEVENT
DTSTART;TZID=America/Edmonton:20200203T193000
DTEND;TZID=America/Edmonton:20200203T213000
DTSTAMP:20260424T061834
CREATED:20191218T230835Z
LAST-MODIFIED:20191218T230835Z
UID:2768-1580758200-1580765400@rvrollerderby.com
SUMMARY:Fresh Meat Practice - Airdrie
DESCRIPTION:Monday night practice is for Fresh Meat. We welcome all skaters to these practices. Fresh Meat Coaches focus on basic skilled\, endurance and fitness. Everyone always benefits from these practices. Don’t forget to bring running shoes for dry land warm-ups. \n$10 drop in fee for skaters from outside of the league.
URL:https://rvrollerderby.com/event/fresh-meat-practice-airdrie-5/
LOCATION:Kings Court Church\, 2964 Kingsview Blvd SE\, Airdrie\, Alberta\, T4A 0C9\, Canada
ATTACH;FMTTYPE=image/jpeg:https://rvrollerderby.com/wp-content/uploads/2018/09/dirty-deb-1.jpg
ORGANIZER;CN="RVRDA":MAILTO:rockyviewrollers@gmail.com
END:VEVENT
BEGIN:VEVENT
DTSTART;TZID=America/Edmonton:20200131T190000
DTEND;TZID=America/Edmonton:20200131T210000
DTSTAMP:20260424T061834
CREATED:20191220T181511Z
LAST-MODIFIED:20191220T182452Z
UID:2844-1580497200-1580504400@rvrollerderby.com
SUMMARY:Fresh Meat Practice - Cochrane
DESCRIPTION:Friday night practice is for Fresh Meat. We welcome all skaters to these practices. Fresh Meat Coaches focus on basic skills\, endurance and fitness. Everyone always benefits from these practices. Don’t forget to bring running shoes for dry land warm-ups. \n$10 drop in fee for skaters from outside of the league.
URL:https://rvrollerderby.com/event/fresh-meat-practice-cochrane-3/
LOCATION:Kings Court Church\, 2964 Kingsview Blvd SE\, Airdrie\, Alberta\, T4A 0C9\, Canada
ATTACH;FMTTYPE=image/jpeg:https://rvrollerderby.com/wp-content/uploads/2018/09/dirty-deb-1.jpg
ORGANIZER;CN="RVRDA":MAILTO:rockyviewrollers@gmail.com
END:VEVENT
BEGIN:VEVENT
DTSTART;TZID=America/Edmonton:20200129T193000
DTEND;TZID=America/Edmonton:20200129T213000
DTSTAMP:20260424T061834
CREATED:20191220T184331Z
LAST-MODIFIED:20191220T184331Z
UID:2875-1580326200-1580333400@rvrollerderby.com
SUMMARY:Rocky View Rollers Practice
DESCRIPTION:This practice is for bench-marked skaters. Quiet Riot will focus more on game play and strategy at these practices. Don’t forget to bring running shoes for dry land warm-ups.
URL:https://rvrollerderby.com/event/rocky-view-rollers-practice-41/
LOCATION:Kings Court Church\, 2964 Kingsview Blvd SE\, Airdrie\, Alberta\, T4A 0C9\, Canada
ATTACH;FMTTYPE=image/jpeg:https://rvrollerderby.com/wp-content/uploads/2018/09/game-5.jpg
ORGANIZER;CN="RVRDA":MAILTO:rockyviewrollers@gmail.com
END:VEVENT
BEGIN:VEVENT
DTSTART;TZID=America/Toronto:20200128T193000
DTEND;TZID=America/Toronto:20200128T213000
DTSTAMP:20260424T061834
CREATED:20191218T191331Z
LAST-MODIFIED:20191218T191331Z
UID:2666-1580239800-1580247000@rvrollerderby.com
SUMMARY:East Side Wheeler's & Eat Side Practice
DESCRIPTION:This is our CO-ED benchmarked practice. All benchmarked skaters are welcome. Skaters from outside the league can pay $10 to attend. \nWith the East Side Wheeler’s being our “B” level team\, Riot focuses on more advances strategies and footwork. There is always a scrimmage portion at the end of practice.
URL:https://rvrollerderby.com/event/east-side-wheelers-eat-side-practice-38/
LOCATION:Indus Recreational Centre\, 225155 Range Road 281A\, Indus\, Alberta\, T1X 0H7\, Canada
ATTACH;FMTTYPE=image/jpeg:https://rvrollerderby.com/wp-content/uploads/2019/04/ESW-Team.jpg
END:VEVENT
BEGIN:VEVENT
DTSTART;TZID=America/Edmonton:20200127T193000
DTEND;TZID=America/Edmonton:20200127T213000
DTSTAMP:20260424T061834
CREATED:20191218T021817Z
LAST-MODIFIED:20191218T021817Z
UID:2653-1580153400-1580160600@rvrollerderby.com
SUMMARY:Airdrie - Try it Night
DESCRIPTION:You are invited to come try out Roller Derby! \nWe will provide gear for you and teach you some basic skating skills. We will have many skaters there to answer your questions and provide information about signing up for our fresh meat/learn to derby program. \nAs always\, anyone over the age of 18 is welcome to attend and try roller derby. We are a CO-ED league and all genders are welcome. \nFeel free to contact us with any questions or concerns.
URL:https://rvrollerderby.com/event/airdrie-try-it-night/
LOCATION:Kings Court Church\, 2964 Kingsview Blvd SE\, Airdrie\, Alberta\, T4A 0C9\, Canada
CATEGORIES:Public event,Try it Night
ATTACH;FMTTYPE=image/jpeg:https://rvrollerderby.com/wp-content/uploads/2018/09/try-it-jpeg.jpg
ORGANIZER;CN="RVRDA":MAILTO:rockyviewrollers@gmail.com
END:VEVENT
BEGIN:VEVENT
DTSTART;TZID=America/Edmonton:20200124T190000
DTEND;TZID=America/Edmonton:20200124T210000
DTSTAMP:20260424T061834
CREATED:20191218T022208Z
LAST-MODIFIED:20191218T022208Z
UID:2656-1579892400-1579899600@rvrollerderby.com
SUMMARY:Cochrane Try-It-Night
DESCRIPTION:You are invited to come try out Roller Derby!! \nNo previous experience is required. We will teach you some basic skating skill and introduce you to world of roller skating. Anyone over the age of 18 is welcome to attend and try roller derby. We are a CO-ED league and all genders are welcome. \nWear comfy clothes and bring a water bottle. \nFeel free to contact us with any questions or concerns. \n 
URL:https://rvrollerderby.com/event/cochrane-try-it-night/
LOCATION:Frank Wills Memorial Hall\, 405 1 St E\, Cochrane\, Alberta\, T4C 1C7\, Canada
CATEGORIES:Public event,Try it Night
ATTACH;FMTTYPE=image/jpeg:https://rvrollerderby.com/wp-content/uploads/2018/09/try-it-jpeg.jpg
ORGANIZER;CN="RVRDA":MAILTO:rockyviewrollers@gmail.com
END:VEVENT
BEGIN:VEVENT
DTSTART;TZID=America/Edmonton:20200122T193000
DTEND;TZID=America/Edmonton:20200122T213000
DTSTAMP:20260424T061834
CREATED:20191220T184310Z
LAST-MODIFIED:20191220T184310Z
UID:2873-1579721400-1579728600@rvrollerderby.com
SUMMARY:Rocky View Rollers Practice
DESCRIPTION:This practice is for bench-marked skaters. Quiet Riot will focus more on game play and strategy at these practices. Don’t forget to bring running shoes for dry land warm-ups.
URL:https://rvrollerderby.com/event/rocky-view-rollers-practice-40/
LOCATION:Kings Court Church\, 2964 Kingsview Blvd SE\, Airdrie\, Alberta\, T4A 0C9\, Canada
ATTACH;FMTTYPE=image/jpeg:https://rvrollerderby.com/wp-content/uploads/2018/09/game-5.jpg
ORGANIZER;CN="RVRDA":MAILTO:rockyviewrollers@gmail.com
END:VEVENT
BEGIN:VEVENT
DTSTART;TZID=America/Toronto:20200121T193000
DTEND;TZID=America/Toronto:20200121T213000
DTSTAMP:20260424T061834
CREATED:20191218T191310Z
LAST-MODIFIED:20191218T191310Z
UID:2664-1579635000-1579642200@rvrollerderby.com
SUMMARY:East Side Wheeler's & Eat Side Practice
DESCRIPTION:This is our CO-ED benchmarked practice. All benchmarked skaters are welcome. Skaters from outside the league can pay $10 to attend. \nWith the East Side Wheeler’s being our “B” level team\, Riot focuses on more advances strategies and footwork. There is always a scrimmage portion at the end of practice.
URL:https://rvrollerderby.com/event/east-side-wheelers-eat-side-practice-37/
LOCATION:Indus Recreational Centre\, 225155 Range Road 281A\, Indus\, Alberta\, T1X 0H7\, Canada
ATTACH;FMTTYPE=image/jpeg:https://rvrollerderby.com/wp-content/uploads/2019/04/ESW-Team.jpg
END:VEVENT
BEGIN:VEVENT
DTSTART;TZID=America/Edmonton:20200120T193000
DTEND;TZID=America/Edmonton:20200120T213000
DTSTAMP:20260424T061834
CREATED:20191218T230341Z
LAST-MODIFIED:20191218T230341Z
UID:2764-1579548600-1579555800@rvrollerderby.com
SUMMARY:Fresh Meat Practice - Airdrie
DESCRIPTION:Monday night practice is for Fresh Meat. We welcome all skaters to these practices. Fresh Meat Coaches focus on basic skilled\, endurance and fitness. Everyone always benefits from these practices. Don’t forget to bring running shoes for dry land warm-ups. \n$10 drop in fee for skaters from outside of the league.
URL:https://rvrollerderby.com/event/fresh-meat-practice-airdrie-3/
LOCATION:Kings Court Church\, 2964 Kingsview Blvd SE\, Airdrie\, Alberta\, T4A 0C9\, Canada
ATTACH;FMTTYPE=image/jpeg:https://rvrollerderby.com/wp-content/uploads/2018/09/dirty-deb-1.jpg
ORGANIZER;CN="RVRDA":MAILTO:rockyviewrollers@gmail.com
END:VEVENT
BEGIN:VEVENT
DTSTART;TZID=America/Edmonton:20200118T190000
DTEND;TZID=America/Edmonton:20200118T220000
DTSTAMP:20260424T061834
CREATED:20191220T194524Z
LAST-MODIFIED:20191220T194525Z
UID:2947-1579374000-1579384800@rvrollerderby.com
SUMMARY:RVRDA Open League Practice - With Super Wench
DESCRIPTION:*Special Practice with Super Wench* She will lead the practice with a kick ass off skates workout warm up! \n \nThis practice is for everyone and anyone who wants to skate!  Our league coach\, Quiet Riot\, will lead this practice touching on various skills for all levels. There will be a scrimmage after the skills portion\, you need to be benchmarked to partake in the scrimmage. \nThere is a $10 drop in fee for skaters from outside of the league. \nThis is a Co-ed event. \nJuniors level 3 are welcome. \nYou need proof of valid sport insurance and full protective gear (helmet\, elbow pads\, wrist guards\, knee pads\, quad skates and Mouth guard) \nCome join us at our sponsor Boston Pizza after practice for some snacks and drinks! \n 
URL:https://rvrollerderby.com/event/rvrda-open-league-practice-with-super-wench/
LOCATION:Kings Court Church\, 2964 Kingsview Blvd SE\, Airdrie\, Alberta\, T4A 0C9\, Canada
ATTACH;FMTTYPE=image/jpeg:https://rvrollerderby.com/wp-content/uploads/2018/09/esw-practice.jpg
ORGANIZER;CN="RVRDA":MAILTO:rockyviewrollers@gmail.com
END:VEVENT
BEGIN:VEVENT
DTSTART;TZID=America/Edmonton:20200117T190000
DTEND;TZID=America/Edmonton:20200117T210000
DTSTAMP:20260424T061834
CREATED:20191220T181438Z
LAST-MODIFIED:20191220T182459Z
UID:2842-1579287600-1579294800@rvrollerderby.com
SUMMARY:Fresh Meat Practice - Cochrane
DESCRIPTION:Friday night practice is for Fresh Meat. We welcome all skaters to these practices. Fresh Meat Coaches focus on basic skills\, endurance and fitness. Everyone always benefits from these practices. Don’t forget to bring running shoes for dry land warm-ups. \n$10 drop in fee for skaters from outside of the league.
URL:https://rvrollerderby.com/event/fresh-meat-practice-cochrane-2/
LOCATION:Kings Court Church\, 2964 Kingsview Blvd SE\, Airdrie\, Alberta\, T4A 0C9\, Canada
ATTACH;FMTTYPE=image/jpeg:https://rvrollerderby.com/wp-content/uploads/2018/09/dirty-deb-1.jpg
ORGANIZER;CN="RVRDA":MAILTO:rockyviewrollers@gmail.com
END:VEVENT
BEGIN:VEVENT
DTSTART;TZID=America/Edmonton:20200115T193000
DTEND;TZID=America/Edmonton:20200115T213000
DTSTAMP:20260424T061834
CREATED:20191220T184250Z
LAST-MODIFIED:20191220T184250Z
UID:2871-1579116600-1579123800@rvrollerderby.com
SUMMARY:Rocky View Rollers Practice
DESCRIPTION:This practice is for bench-marked skaters. Quiet Riot will focus more on game play and strategy at these practices. Don’t forget to bring running shoes for dry land warm-ups.
URL:https://rvrollerderby.com/event/rocky-view-rollers-practice-39/
LOCATION:Kings Court Church\, 2964 Kingsview Blvd SE\, Airdrie\, Alberta\, T4A 0C9\, Canada
ATTACH;FMTTYPE=image/jpeg:https://rvrollerderby.com/wp-content/uploads/2018/09/game-5.jpg
ORGANIZER;CN="RVRDA":MAILTO:rockyviewrollers@gmail.com
END:VEVENT
BEGIN:VEVENT
DTSTART;TZID=America/Toronto:20200114T193000
DTEND;TZID=America/Toronto:20200114T213000
DTSTAMP:20260424T061834
CREATED:20191218T191251Z
LAST-MODIFIED:20191218T191251Z
UID:2662-1579030200-1579037400@rvrollerderby.com
SUMMARY:East Side Wheeler's & Eat Side Practice
DESCRIPTION:This is our CO-ED benchmarked practice. All benchmarked skaters are welcome. Skaters from outside the league can pay $10 to attend. \nWith the East Side Wheeler’s being our “B” level team\, Riot focuses on more advances strategies and footwork. There is always a scrimmage portion at the end of practice.
URL:https://rvrollerderby.com/event/east-side-wheelers-eat-side-practice-36/
LOCATION:Indus Recreational Centre\, 225155 Range Road 281A\, Indus\, Alberta\, T1X 0H7\, Canada
ATTACH;FMTTYPE=image/jpeg:https://rvrollerderby.com/wp-content/uploads/2019/04/ESW-Team.jpg
END:VEVENT
BEGIN:VEVENT
DTSTART;TZID=America/Edmonton:20200113T193000
DTEND;TZID=America/Edmonton:20200113T213000
DTSTAMP:20260424T061834
CREATED:20191218T230318Z
LAST-MODIFIED:20191218T230318Z
UID:2762-1578943800-1578951000@rvrollerderby.com
SUMMARY:Fresh Meat Practice - Airdrie
DESCRIPTION:Monday night practice is for Fresh Meat. We welcome all skaters to these practices. Fresh Meat Coaches focus on basic skilled\, endurance and fitness. Everyone always benefits from these practices. Don’t forget to bring running shoes for dry land warm-ups. \n$10 drop in fee for skaters from outside of the league.
URL:https://rvrollerderby.com/event/fresh-meat-practice-airdrie-2/
LOCATION:Kings Court Church\, 2964 Kingsview Blvd SE\, Airdrie\, Alberta\, T4A 0C9\, Canada
ATTACH;FMTTYPE=image/jpeg:https://rvrollerderby.com/wp-content/uploads/2018/09/dirty-deb-1.jpg
ORGANIZER;CN="RVRDA":MAILTO:rockyviewrollers@gmail.com
END:VEVENT
BEGIN:VEVENT
DTSTART;TZID=America/Edmonton:20200110T190000
DTEND;TZID=America/Edmonton:20200110T210000
DTSTAMP:20260424T061834
CREATED:20191220T181417Z
LAST-MODIFIED:20191220T182505Z
UID:2840-1578682800-1578690000@rvrollerderby.com
SUMMARY:Fresh Meat Practice - Cochrane
DESCRIPTION:Friday night practice is for Fresh Meat. We welcome all skaters to these practices. Fresh Meat Coaches focus on basic skills\, endurance and fitness. Everyone always benefits from these practices. Don’t forget to bring running shoes for dry land warm-ups. \n$10 drop in fee for skaters from outside of the league.
URL:https://rvrollerderby.com/event/fresh-meat-practice-cochrane/
LOCATION:Kings Court Church\, 2964 Kingsview Blvd SE\, Airdrie\, Alberta\, T4A 0C9\, Canada
ATTACH;FMTTYPE=image/jpeg:https://rvrollerderby.com/wp-content/uploads/2018/09/dirty-deb-1.jpg
ORGANIZER;CN="RVRDA":MAILTO:rockyviewrollers@gmail.com
END:VEVENT
BEGIN:VEVENT
DTSTART;TZID=America/Edmonton:20200108T193000
DTEND;TZID=America/Edmonton:20200108T213000
DTSTAMP:20260424T061834
CREATED:20191220T183803Z
LAST-MODIFIED:20191220T183803Z
UID:2868-1578511800-1578519000@rvrollerderby.com
SUMMARY:Rocky View Rollers Practice
DESCRIPTION:This practice is for bench-marked skaters. Quiet Riot will focus more on game play and strategy at these practices. Don’t forget to bring running shoes for dry land warm-ups.
URL:https://rvrollerderby.com/event/rocky-view-rollers-practice-38/
LOCATION:Kings Court Church\, 2964 Kingsview Blvd SE\, Airdrie\, Alberta\, T4A 0C9\, Canada
ATTACH;FMTTYPE=image/jpeg:https://rvrollerderby.com/wp-content/uploads/2018/09/game-5.jpg
ORGANIZER;CN="RVRDA":MAILTO:rockyviewrollers@gmail.com
END:VEVENT
BEGIN:VEVENT
DTSTART;TZID=America/Toronto:20200107T193000
DTEND;TZID=America/Toronto:20200107T213000
DTSTAMP:20260424T061834
CREATED:20191218T191230Z
LAST-MODIFIED:20191218T191230Z
UID:2660-1578425400-1578432600@rvrollerderby.com
SUMMARY:East Side Wheeler's & Eat Side Practice
DESCRIPTION:This is our CO-ED benchmarked practice. All benchmarked skaters are welcome. Skaters from outside the league can pay $10 to attend. \nWith the East Side Wheeler’s being our “B” level team\, Riot focuses on more advances strategies and footwork. There is always a scrimmage portion at the end of practice.
URL:https://rvrollerderby.com/event/east-side-wheelers-eat-side-practice-35/
LOCATION:Indus Recreational Centre\, 225155 Range Road 281A\, Indus\, Alberta\, T1X 0H7\, Canada
ATTACH;FMTTYPE=image/jpeg:https://rvrollerderby.com/wp-content/uploads/2019/04/ESW-Team.jpg
END:VEVENT
BEGIN:VEVENT
DTSTART;TZID=America/Edmonton:20200106T193000
DTEND;TZID=America/Edmonton:20200106T213000
DTSTAMP:20260424T061834
CREATED:20191218T230254Z
LAST-MODIFIED:20191218T230254Z
UID:2760-1578339000-1578346200@rvrollerderby.com
SUMMARY:Fresh Meat Practice - Airdrie
DESCRIPTION:Monday night practice is for Fresh Meat. We welcome all skaters to these practices. Fresh Meat Coaches focus on basic skilled\, endurance and fitness. Everyone always benefits from these practices. Don’t forget to bring running shoes for dry land warm-ups. \n$10 drop in fee for skaters from outside of the league.
URL:https://rvrollerderby.com/event/fresh-meat-practice-airdrie/
LOCATION:Kings Court Church\, 2964 Kingsview Blvd SE\, Airdrie\, Alberta\, T4A 0C9\, Canada
ATTACH;FMTTYPE=image/jpeg:https://rvrollerderby.com/wp-content/uploads/2018/09/dirty-deb-1.jpg
ORGANIZER;CN="RVRDA":MAILTO:rockyviewrollers@gmail.com
END:VEVENT
BEGIN:VEVENT
DTSTART;TZID=America/Toronto:20191210T193000
DTEND;TZID=America/Toronto:20191210T213000
DTSTAMP:20260424T061834
CREATED:20190424T010003Z
LAST-MODIFIED:20190424T010003Z
UID:2470-1576006200-1576013400@rvrollerderby.com
SUMMARY:East Side Wheeler's & Eat Side Practice
DESCRIPTION:This is our CO-ED benchmarked practice. All benchmarked skaters are welcome. Skaters from outside the league can pay $10 to attend. \nWith the East Side Wheeler’s being our “B” level team\, Riot focuses on more advances strategies and footwork. There is always a scrimmage portion at the end of practice.
URL:https://rvrollerderby.com/event/east-side-wheelers-eat-side-practice-34/
LOCATION:Indus Recreational Centre\, 225155 Range Road 281A\, Indus\, Alberta\, T1X 0H7\, Canada
ATTACH;FMTTYPE=image/jpeg:https://rvrollerderby.com/wp-content/uploads/2019/04/ESW-Team.jpg
END:VEVENT
BEGIN:VEVENT
DTSTART;TZID=America/Toronto:20191203T193000
DTEND;TZID=America/Toronto:20191203T213000
DTSTAMP:20260424T061834
CREATED:20190424T005945Z
LAST-MODIFIED:20190424T005945Z
UID:2468-1575401400-1575408600@rvrollerderby.com
SUMMARY:East Side Wheeler's & Eat Side Practice
DESCRIPTION:This is our CO-ED benchmarked practice. All benchmarked skaters are welcome. Skaters from outside the league can pay $10 to attend. \nWith the East Side Wheeler’s being our “B” level team\, Riot focuses on more advances strategies and footwork. There is always a scrimmage portion at the end of practice.
URL:https://rvrollerderby.com/event/east-side-wheelers-eat-side-practice-33/
LOCATION:Indus Recreational Centre\, 225155 Range Road 281A\, Indus\, Alberta\, T1X 0H7\, Canada
ATTACH;FMTTYPE=image/jpeg:https://rvrollerderby.com/wp-content/uploads/2019/04/ESW-Team.jpg
END:VEVENT
BEGIN:VEVENT
DTSTART;TZID=America/Edmonton:20191127T193000
DTEND;TZID=America/Edmonton:20191127T213000
DTSTAMP:20260424T061834
CREATED:20190423T231934Z
LAST-MODIFIED:20190423T231934Z
UID:2288-1574883000-1574890200@rvrollerderby.com
SUMMARY:Rocky View Rollers Practice
DESCRIPTION:This practice is for bench-marked skaters. Quiet Riot will focus more on game play and strategy at these practices. Don’t forget to bring running shoes for dry land warm-ups.
URL:https://rvrollerderby.com/event/rocky-view-rollers-practice-36/
LOCATION:Kings Court Church\, 2964 Kingsview Blvd SE\, Airdrie\, Alberta\, T4A 0C9\, Canada
ATTACH;FMTTYPE=image/jpeg:https://rvrollerderby.com/wp-content/uploads/2018/09/game-5.jpg
ORGANIZER;CN="RVRDA":MAILTO:rockyviewrollers@gmail.com
END:VEVENT
BEGIN:VEVENT
DTSTART;TZID=America/Toronto:20191126T193000
DTEND;TZID=America/Toronto:20191126T213000
DTSTAMP:20260424T061834
CREATED:20190424T005925Z
LAST-MODIFIED:20190424T005925Z
UID:2466-1574796600-1574803800@rvrollerderby.com
SUMMARY:East Side Wheeler's & Eat Side Practice
DESCRIPTION:This is our CO-ED benchmarked practice. All benchmarked skaters are welcome. Skaters from outside the league can pay $10 to attend. \nWith the East Side Wheeler’s being our “B” level team\, Riot focuses on more advances strategies and footwork. There is always a scrimmage portion at the end of practice.
URL:https://rvrollerderby.com/event/east-side-wheelers-eat-side-practice-32/
LOCATION:Indus Recreational Centre\, 225155 Range Road 281A\, Indus\, Alberta\, T1X 0H7\, Canada
ATTACH;FMTTYPE=image/jpeg:https://rvrollerderby.com/wp-content/uploads/2019/04/ESW-Team.jpg
END:VEVENT
BEGIN:VEVENT
DTSTART;TZID=America/Edmonton:20191125T193000
DTEND;TZID=America/Edmonton:20191125T213000
DTSTAMP:20260424T061834
CREATED:20190423T231837Z
LAST-MODIFIED:20190423T231837Z
UID:2284-1574710200-1574717400@rvrollerderby.com
SUMMARY:Fresh Meat Practice
DESCRIPTION:Monday night practice is for Fresh Meat. We welcome all skaters to these practices. Distressed Mode focuses on basic skilled\, endurance and fitness. Everyone always benefits from these practices. Don’t forget to bring running shoes for dry land warm-ups. \n$10 drop in fee for skaters from outside of the league.
URL:https://rvrollerderby.com/event/fresh-meat-practice-39/
LOCATION:Kings Court Church\, 2964 Kingsview Blvd SE\, Airdrie\, Alberta\, T4A 0C9\, Canada
ATTACH;FMTTYPE=image/jpeg:https://rvrollerderby.com/wp-content/uploads/2018/09/dirty-deb-1.jpg
ORGANIZER;CN="RVRDA":MAILTO:rockyviewrollers@gmail.com
END:VEVENT
BEGIN:VEVENT
DTSTART;TZID=America/Edmonton:20191120T193000
DTEND;TZID=America/Edmonton:20191120T213000
DTSTAMP:20260424T061834
CREATED:20190423T231813Z
LAST-MODIFIED:20190423T231813Z
UID:2285-1574278200-1574285400@rvrollerderby.com
SUMMARY:Rocky View Rollers Practice
DESCRIPTION:This practice is for bench-marked skaters. Quiet Riot will focus more on game play and strategy at these practices. Don’t forget to bring running shoes for dry land warm-ups.
URL:https://rvrollerderby.com/event/rocky-view-rollers-practice-35/
LOCATION:Kings Court Church\, 2964 Kingsview Blvd SE\, Airdrie\, Alberta\, T4A 0C9\, Canada
ATTACH;FMTTYPE=image/jpeg:https://rvrollerderby.com/wp-content/uploads/2018/09/game-5.jpg
ORGANIZER;CN="RVRDA":MAILTO:rockyviewrollers@gmail.com
END:VEVENT
BEGIN:VEVENT
DTSTART;TZID=America/Toronto:20191119T193000
DTEND;TZID=America/Toronto:20191119T213000
DTSTAMP:20260424T061834
CREATED:20190424T005904Z
LAST-MODIFIED:20190424T005904Z
UID:2434-1574191800-1574199000@rvrollerderby.com
SUMMARY:East Side Wheeler's & Eat Side Practice
DESCRIPTION:This is our CO-ED benchmarked practice. All benchmarked skaters are welcome. Skaters from outside the league can pay $10 to attend. \nWith the East Side Wheeler’s being our “B” level team\, Riot focuses on more advances strategies and footwork. There is always a scrimmage portion at the end of practice.
URL:https://rvrollerderby.com/event/east-side-wheelers-eat-side-practice-31/
LOCATION:Indus Recreational Centre\, 225155 Range Road 281A\, Indus\, Alberta\, T1X 0H7\, Canada
ATTACH;FMTTYPE=image/jpeg:https://rvrollerderby.com/wp-content/uploads/2019/04/ESW-Team.jpg
END:VEVENT
BEGIN:VEVENT
DTSTART;TZID=America/Edmonton:20191118T193000
DTEND;TZID=America/Edmonton:20191118T213000
DTSTAMP:20260424T061834
CREATED:20190423T231727Z
LAST-MODIFIED:20190423T231727Z
UID:2275-1574105400-1574112600@rvrollerderby.com
SUMMARY:Fresh Meat Practice
DESCRIPTION:Monday night practice is for Fresh Meat. We welcome all skaters to these practices. Distressed Mode focuses on basic skilled\, endurance and fitness. Everyone always benefits from these practices. Don’t forget to bring running shoes for dry land warm-ups. \n$10 drop in fee for skaters from outside of the league.
URL:https://rvrollerderby.com/event/fresh-meat-practice-38/
LOCATION:Kings Court Church\, 2964 Kingsview Blvd SE\, Airdrie\, Alberta\, T4A 0C9\, Canada
ATTACH;FMTTYPE=image/jpeg:https://rvrollerderby.com/wp-content/uploads/2018/09/dirty-deb-1.jpg
ORGANIZER;CN="RVRDA":MAILTO:rockyviewrollers@gmail.com
END:VEVENT
BEGIN:VEVENT
DTSTART;TZID=America/Edmonton:20191116T190000
DTEND;TZID=America/Edmonton:20191116T220000
DTSTAMP:20260424T061834
CREATED:20190423T225454Z
LAST-MODIFIED:20190423T225454Z
UID:2242-1573930800-1573941600@rvrollerderby.com
SUMMARY:RVRDA Open League Practice
DESCRIPTION:This practice is for everyone and anyone who wants to skate!  Our league coach\, Quiet Riot\, will lead this practice touching on various skills for all levels. There will be a scrimmage after the skills portion\, you need to be benchmarked to partake in the scrimmage. \nThere is a $10 drop in fee for skaters from outside of the league. \nThis is a Co-ed event. \nJuniors level 3 are welcome. \nYou need proof of valid sport insurance and full protective gear (helmet\, elbow pads\, wrist guards\, knee pads\, quad skates and Mouth guard) \nCome join us at our sponsor Boston Pizza after practice for some snacks and drinks! \n 
URL:https://rvrollerderby.com/event/rvrda-open-league-practice-11/
LOCATION:Kings Court Church\, 2964 Kingsview Blvd SE\, Airdrie\, Alberta\, T4A 0C9\, Canada
ATTACH;FMTTYPE=image/jpeg:https://rvrollerderby.com/wp-content/uploads/2018/09/esw-practice.jpg
ORGANIZER;CN="RVRDA":MAILTO:rockyviewrollers@gmail.com
END:VEVENT
BEGIN:VEVENT
DTSTART;TZID=America/Edmonton:20191113T193000
DTEND;TZID=America/Edmonton:20191113T213000
DTSTAMP:20260424T061834
CREATED:20190423T231533Z
LAST-MODIFIED:20190423T231533Z
UID:2276-1573673400-1573680600@rvrollerderby.com
SUMMARY:Rocky View Rollers Practice
DESCRIPTION:This practice is for bench-marked skaters. Quiet Riot will focus more on game play and strategy at these practices. Don’t forget to bring running shoes for dry land warm-ups.
URL:https://rvrollerderby.com/event/rocky-view-rollers-practice-34/
LOCATION:Kings Court Church\, 2964 Kingsview Blvd SE\, Airdrie\, Alberta\, T4A 0C9\, Canada
ATTACH;FMTTYPE=image/jpeg:https://rvrollerderby.com/wp-content/uploads/2018/09/game-5.jpg
ORGANIZER;CN="RVRDA":MAILTO:rockyviewrollers@gmail.com
END:VEVENT
END:VCALENDAR