BEGIN:VCALENDAR
VERSION:2.0
PRODID:-//Rocky View Roller Derby - ECPv6.15.10//NONSGML v1.0//EN
CALSCALE:GREGORIAN
METHOD:PUBLISH
X-ORIGINAL-URL:https://rvrollerderby.com
X-WR-CALDESC:Events for Rocky View Roller Derby
REFRESH-INTERVAL;VALUE=DURATION:PT1H
X-Robots-Tag:noindex
X-PUBLISHED-TTL:PT1H
BEGIN:VTIMEZONE
TZID:America/Edmonton
BEGIN:DAYLIGHT
TZOFFSETFROM:-0700
TZOFFSETTO:-0600
TZNAME:MDT
DTSTART:20190310T090000
END:DAYLIGHT
BEGIN:STANDARD
TZOFFSETFROM:-0600
TZOFFSETTO:-0700
TZNAME:MST
DTSTART:20191103T080000
END:STANDARD
BEGIN:DAYLIGHT
TZOFFSETFROM:-0700
TZOFFSETTO:-0600
TZNAME:MDT
DTSTART:20200308T090000
END:DAYLIGHT
BEGIN:STANDARD
TZOFFSETFROM:-0600
TZOFFSETTO:-0700
TZNAME:MST
DTSTART:20201101T080000
END:STANDARD
BEGIN:DAYLIGHT
TZOFFSETFROM:-0700
TZOFFSETTO:-0600
TZNAME:MDT
DTSTART:20210314T090000
END:DAYLIGHT
BEGIN:STANDARD
TZOFFSETFROM:-0600
TZOFFSETTO:-0700
TZNAME:MST
DTSTART:20211107T080000
END:STANDARD
END:VTIMEZONE
BEGIN:VTIMEZONE
TZID:America/Toronto
BEGIN:DAYLIGHT
TZOFFSETFROM:-0500
TZOFFSETTO:-0400
TZNAME:EDT
DTSTART:20190310T070000
END:DAYLIGHT
BEGIN:STANDARD
TZOFFSETFROM:-0400
TZOFFSETTO:-0500
TZNAME:EST
DTSTART:20191103T060000
END:STANDARD
BEGIN:DAYLIGHT
TZOFFSETFROM:-0500
TZOFFSETTO:-0400
TZNAME:EDT
DTSTART:20200308T070000
END:DAYLIGHT
BEGIN:STANDARD
TZOFFSETFROM:-0400
TZOFFSETTO:-0500
TZNAME:EST
DTSTART:20201101T060000
END:STANDARD
BEGIN:DAYLIGHT
TZOFFSETFROM:-0500
TZOFFSETTO:-0400
TZNAME:EDT
DTSTART:20210314T070000
END:DAYLIGHT
BEGIN:STANDARD
TZOFFSETFROM:-0400
TZOFFSETTO:-0500
TZNAME:EST
DTSTART:20211107T060000
END:STANDARD
END:VTIMEZONE
BEGIN:VEVENT
DTSTART;TZID=America/Edmonton:20200327T190000
DTEND;TZID=America/Edmonton:20200327T210000
DTSTAMP:20260424T021637
CREATED:20191220T181929Z
LAST-MODIFIED:20191220T182000Z
UID:2856-1585335600-1585342800@rvrollerderby.com
SUMMARY:Fresh Meat Practice - Cochrane
DESCRIPTION:Friday night practice is for Fresh Meat. We welcome all skaters to these practices. Fresh Meat Coaches focus on basic skills\, endurance and fitness. Everyone always benefits from these practices. Don’t forget to bring running shoes for dry land warm-ups. \n$10 drop in fee for skaters from outside of the league.
URL:https://rvrollerderby.com/event/fresh-meat-practice-cochrane-9/
LOCATION:Kings Court Church\, 2964 Kingsview Blvd SE\, Airdrie\, Alberta\, T4A 0C9\, Canada
ATTACH;FMTTYPE=image/jpeg:https://rvrollerderby.com/wp-content/uploads/2018/09/dirty-deb-1.jpg
ORGANIZER;CN="RVRDA":MAILTO:rockyviewrollers@gmail.com
END:VEVENT
BEGIN:VEVENT
DTSTART;TZID=America/Edmonton:20200325T193000
DTEND;TZID=America/Edmonton:20200325T213000
DTSTAMP:20260424T021637
CREATED:20191220T185901Z
LAST-MODIFIED:20191220T185901Z
UID:2891-1585164600-1585171800@rvrollerderby.com
SUMMARY:Rocky View Rollers Practice
DESCRIPTION:This practice is for bench-marked skaters. Quiet Riot will focus more on game play and strategy at these practices. Don’t forget to bring running shoes for dry land warm-ups.
URL:https://rvrollerderby.com/event/rocky-view-rollers-practice-49/
LOCATION:Kings Court Church\, 2964 Kingsview Blvd SE\, Airdrie\, Alberta\, T4A 0C9\, Canada
ATTACH;FMTTYPE=image/jpeg:https://rvrollerderby.com/wp-content/uploads/2018/09/game-5.jpg
ORGANIZER;CN="RVRDA":MAILTO:rockyviewrollers@gmail.com
END:VEVENT
BEGIN:VEVENT
DTSTART;TZID=America/Toronto:20200324T193000
DTEND;TZID=America/Toronto:20200324T213000
DTSTAMP:20260424T021637
CREATED:20191218T191624Z
LAST-MODIFIED:20191218T191624Z
UID:2682-1585078200-1585085400@rvrollerderby.com
SUMMARY:East Side Wheeler's & Eat Side Practice
DESCRIPTION:This is our CO-ED benchmarked practice. All benchmarked skaters are welcome. Skaters from outside the league can pay $10 to attend. \nWith the East Side Wheeler’s being our “B” level team\, Riot focuses on more advances strategies and footwork. There is always a scrimmage portion at the end of practice.
URL:https://rvrollerderby.com/event/east-side-wheelers-eat-side-practice-46/
LOCATION:Indus Recreational Centre\, 225155 Range Road 281A\, Indus\, Alberta\, T1X 0H7\, Canada
ATTACH;FMTTYPE=image/jpeg:https://rvrollerderby.com/wp-content/uploads/2019/04/ESW-Team.jpg
END:VEVENT
BEGIN:VEVENT
DTSTART;TZID=America/Edmonton:20200323T193000
DTEND;TZID=America/Edmonton:20200323T213000
DTSTAMP:20260424T021637
CREATED:20191218T231057Z
LAST-MODIFIED:20191218T231057Z
UID:2782-1584991800-1584999000@rvrollerderby.com
SUMMARY:Fresh Meat Practice - Airdrie
DESCRIPTION:Monday night practice is for Fresh Meat. We welcome all skaters to these practices. Fresh Meat Coaches focus on basic skilled\, endurance and fitness. Everyone always benefits from these practices. Don’t forget to bring running shoes for dry land warm-ups. \n$10 drop in fee for skaters from outside of the league.
URL:https://rvrollerderby.com/event/fresh-meat-practice-airdrie-12/
LOCATION:Kings Court Church\, 2964 Kingsview Blvd SE\, Airdrie\, Alberta\, T4A 0C9\, Canada
ATTACH;FMTTYPE=image/jpeg:https://rvrollerderby.com/wp-content/uploads/2018/09/dirty-deb-1.jpg
ORGANIZER;CN="RVRDA":MAILTO:rockyviewrollers@gmail.com
END:VEVENT
BEGIN:VEVENT
DTSTART;TZID=America/Edmonton:20200321T190000
DTEND;TZID=America/Edmonton:20200321T220000
DTSTAMP:20260424T021637
CREATED:20191220T194750Z
LAST-MODIFIED:20191220T194750Z
UID:2954-1584817200-1584828000@rvrollerderby.com
SUMMARY:RVRDA Open League Practice
DESCRIPTION:This practice is for everyone and anyone who wants to skate!  Our league coach\, Quiet Riot\, will lead this practice touching on various skills for all levels. There will be a scrimmage after the skills portion\, you need to be benchmarked to partake in the scrimmage. \nThere is a $10 drop in fee for skaters from outside of the league. \nThis is a Co-ed event. \nJuniors level 3 are welcome. \nYou need proof of valid sport insurance and full protective gear (helmet\, elbow pads\, wrist guards\, knee pads\, quad skates and Mouth guard) \nCome join us at our sponsor Boston Pizza after practice for some snacks and drinks! \n 
URL:https://rvrollerderby.com/event/rvrda-open-league-practice-14/
LOCATION:Kings Court Church\, 2964 Kingsview Blvd SE\, Airdrie\, Alberta\, T4A 0C9\, Canada
ATTACH;FMTTYPE=image/jpeg:https://rvrollerderby.com/wp-content/uploads/2018/09/esw-practice.jpg
ORGANIZER;CN="RVRDA":MAILTO:rockyviewrollers@gmail.com
END:VEVENT
BEGIN:VEVENT
DTSTART;TZID=America/Edmonton:20200321T190000
DTEND;TZID=America/Edmonton:20200321T220000
DTSTAMP:20260424T021637
CREATED:20191220T194630Z
LAST-MODIFIED:20191220T194646Z
UID:2952-1584817200-1584828000@rvrollerderby.com
SUMMARY:RVRDA Open League Practice
DESCRIPTION:This practice is for everyone and anyone who wants to skate!  Our league coach\, Quiet Riot\, will lead this practice touching on various skills for all levels. There will be a scrimmage after the skills portion\, you need to be benchmarked to partake in the scrimmage. \nThere is a $10 drop in fee for skaters from outside of the league. \nThis is a Co-ed event. \nJuniors level 3 are welcome. \nYou need proof of valid sport insurance and full protective gear (helmet\, elbow pads\, wrist guards\, knee pads\, quad skates and Mouth guard) \nCome join us at our sponsor Boston Pizza after practice for some snacks and drinks! \n 
URL:https://rvrollerderby.com/event/rvrda-open-league-practice-13/
LOCATION:Kings Court Church\, 2964 Kingsview Blvd SE\, Airdrie\, Alberta\, T4A 0C9\, Canada
ATTACH;FMTTYPE=image/jpeg:https://rvrollerderby.com/wp-content/uploads/2018/09/esw-practice.jpg
ORGANIZER;CN="RVRDA":MAILTO:rockyviewrollers@gmail.com
END:VEVENT
BEGIN:VEVENT
DTSTART;TZID=America/Edmonton:20200320T190000
DTEND;TZID=America/Edmonton:20200320T210000
DTSTAMP:20260424T021637
CREATED:20191220T181849Z
LAST-MODIFIED:20191220T182249Z
UID:2854-1584730800-1584738000@rvrollerderby.com
SUMMARY:Fresh Meat Practice - Cochrane
DESCRIPTION:Friday night practice is for Fresh Meat. We welcome all skaters to these practices. Fresh Meat Coaches focus on basic skills\, endurance and fitness. Everyone always benefits from these practices. Don’t forget to bring running shoes for dry land warm-ups. \n$10 drop in fee for skaters from outside of the league.
URL:https://rvrollerderby.com/event/fresh-meat-practice-cochrane-8/
LOCATION:Kings Court Church\, 2964 Kingsview Blvd SE\, Airdrie\, Alberta\, T4A 0C9\, Canada
ATTACH;FMTTYPE=image/jpeg:https://rvrollerderby.com/wp-content/uploads/2018/09/dirty-deb-1.jpg
ORGANIZER;CN="RVRDA":MAILTO:rockyviewrollers@gmail.com
END:VEVENT
BEGIN:VEVENT
DTSTART;TZID=America/Edmonton:20200318T193000
DTEND;TZID=America/Edmonton:20200318T213000
DTSTAMP:20260424T021637
CREATED:20191220T185840Z
LAST-MODIFIED:20191220T185840Z
UID:2889-1584559800-1584567000@rvrollerderby.com
SUMMARY:Rocky View Rollers Practice
DESCRIPTION:This practice is for bench-marked skaters. Quiet Riot will focus more on game play and strategy at these practices. Don’t forget to bring running shoes for dry land warm-ups.
URL:https://rvrollerderby.com/event/rocky-view-rollers-practice-48/
LOCATION:Kings Court Church\, 2964 Kingsview Blvd SE\, Airdrie\, Alberta\, T4A 0C9\, Canada
ATTACH;FMTTYPE=image/jpeg:https://rvrollerderby.com/wp-content/uploads/2018/09/game-5.jpg
ORGANIZER;CN="RVRDA":MAILTO:rockyviewrollers@gmail.com
END:VEVENT
BEGIN:VEVENT
DTSTART;TZID=America/Toronto:20200317T193000
DTEND;TZID=America/Toronto:20200317T213000
DTSTAMP:20260424T021637
CREATED:20191218T191604Z
LAST-MODIFIED:20191218T191604Z
UID:2680-1584473400-1584480600@rvrollerderby.com
SUMMARY:East Side Wheeler's & Eat Side Practice
DESCRIPTION:This is our CO-ED benchmarked practice. All benchmarked skaters are welcome. Skaters from outside the league can pay $10 to attend. \nWith the East Side Wheeler’s being our “B” level team\, Riot focuses on more advances strategies and footwork. There is always a scrimmage portion at the end of practice.
URL:https://rvrollerderby.com/event/east-side-wheelers-eat-side-practice-45/
LOCATION:Indus Recreational Centre\, 225155 Range Road 281A\, Indus\, Alberta\, T1X 0H7\, Canada
ATTACH;FMTTYPE=image/jpeg:https://rvrollerderby.com/wp-content/uploads/2019/04/ESW-Team.jpg
END:VEVENT
BEGIN:VEVENT
DTSTART;TZID=America/Edmonton:20200316T193000
DTEND;TZID=America/Edmonton:20200316T213000
DTSTAMP:20260424T021637
CREATED:20191218T231037Z
LAST-MODIFIED:20191218T231037Z
UID:2780-1584387000-1584394200@rvrollerderby.com
SUMMARY:Fresh Meat Practice - Airdrie
DESCRIPTION:Monday night practice is for Fresh Meat. We welcome all skaters to these practices. Fresh Meat Coaches focus on basic skilled\, endurance and fitness. Everyone always benefits from these practices. Don’t forget to bring running shoes for dry land warm-ups. \n$10 drop in fee for skaters from outside of the league.
URL:https://rvrollerderby.com/event/fresh-meat-practice-airdrie-11/
LOCATION:Kings Court Church\, 2964 Kingsview Blvd SE\, Airdrie\, Alberta\, T4A 0C9\, Canada
ATTACH;FMTTYPE=image/jpeg:https://rvrollerderby.com/wp-content/uploads/2018/09/dirty-deb-1.jpg
ORGANIZER;CN="RVRDA":MAILTO:rockyviewrollers@gmail.com
END:VEVENT
BEGIN:VEVENT
DTSTART;TZID=America/Edmonton:20200313T190000
DTEND;TZID=America/Edmonton:20200313T210000
DTSTAMP:20260424T021637
CREATED:20191220T181804Z
LAST-MODIFIED:20191220T182312Z
UID:2852-1584126000-1584133200@rvrollerderby.com
SUMMARY:Fresh Meat Practice - Cochrane
DESCRIPTION:Friday night practice is for Fresh Meat. We welcome all skaters to these practices. Fresh Meat Coaches focus on basic skills\, endurance and fitness. Everyone always benefits from these practices. Don’t forget to bring running shoes for dry land warm-ups. \n$10 drop in fee for skaters from outside of the league.
URL:https://rvrollerderby.com/event/fresh-meat-practice-cochrane-7/
LOCATION:Kings Court Church\, 2964 Kingsview Blvd SE\, Airdrie\, Alberta\, T4A 0C9\, Canada
ATTACH;FMTTYPE=image/jpeg:https://rvrollerderby.com/wp-content/uploads/2018/09/dirty-deb-1.jpg
ORGANIZER;CN="RVRDA":MAILTO:rockyviewrollers@gmail.com
END:VEVENT
BEGIN:VEVENT
DTSTART;TZID=America/Edmonton:20200311T193000
DTEND;TZID=America/Edmonton:20200311T213000
DTSTAMP:20260424T021637
CREATED:20191220T185803Z
LAST-MODIFIED:20191220T185803Z
UID:2887-1583955000-1583962200@rvrollerderby.com
SUMMARY:Rocky View Rollers Practice
DESCRIPTION:This practice is for bench-marked skaters. Quiet Riot will focus more on game play and strategy at these practices. Don’t forget to bring running shoes for dry land warm-ups.
URL:https://rvrollerderby.com/event/rocky-view-rollers-practice-47/
LOCATION:Kings Court Church\, 2964 Kingsview Blvd SE\, Airdrie\, Alberta\, T4A 0C9\, Canada
ATTACH;FMTTYPE=image/jpeg:https://rvrollerderby.com/wp-content/uploads/2018/09/game-5.jpg
ORGANIZER;CN="RVRDA":MAILTO:rockyviewrollers@gmail.com
END:VEVENT
BEGIN:VEVENT
DTSTART;TZID=America/Toronto:20200310T193000
DTEND;TZID=America/Toronto:20200310T213000
DTSTAMP:20260424T021637
CREATED:20191218T191543Z
LAST-MODIFIED:20191218T191543Z
UID:2678-1583868600-1583875800@rvrollerderby.com
SUMMARY:East Side Wheeler's & Eat Side Practice
DESCRIPTION:This is our CO-ED benchmarked practice. All benchmarked skaters are welcome. Skaters from outside the league can pay $10 to attend. \nWith the East Side Wheeler’s being our “B” level team\, Riot focuses on more advances strategies and footwork. There is always a scrimmage portion at the end of practice.
URL:https://rvrollerderby.com/event/east-side-wheelers-eat-side-practice-44/
LOCATION:Indus Recreational Centre\, 225155 Range Road 281A\, Indus\, Alberta\, T1X 0H7\, Canada
ATTACH;FMTTYPE=image/jpeg:https://rvrollerderby.com/wp-content/uploads/2019/04/ESW-Team.jpg
END:VEVENT
BEGIN:VEVENT
DTSTART;TZID=America/Edmonton:20200309T193000
DTEND;TZID=America/Edmonton:20200309T213000
DTSTAMP:20260424T021637
CREATED:20191218T231018Z
LAST-MODIFIED:20191218T231018Z
UID:2778-1583782200-1583789400@rvrollerderby.com
SUMMARY:Fresh Meat Practice - Airdrie
DESCRIPTION:Monday night practice is for Fresh Meat. We welcome all skaters to these practices. Fresh Meat Coaches focus on basic skilled\, endurance and fitness. Everyone always benefits from these practices. Don’t forget to bring running shoes for dry land warm-ups. \n$10 drop in fee for skaters from outside of the league.
URL:https://rvrollerderby.com/event/fresh-meat-practice-airdrie-10/
LOCATION:Kings Court Church\, 2964 Kingsview Blvd SE\, Airdrie\, Alberta\, T4A 0C9\, Canada
ATTACH;FMTTYPE=image/jpeg:https://rvrollerderby.com/wp-content/uploads/2018/09/dirty-deb-1.jpg
ORGANIZER;CN="RVRDA":MAILTO:rockyviewrollers@gmail.com
END:VEVENT
BEGIN:VEVENT
DTSTART;TZID=America/Edmonton:20200306T190000
DTEND;TZID=America/Edmonton:20200306T210000
DTSTAMP:20260424T021637
CREATED:20191220T181736Z
LAST-MODIFIED:20191220T182339Z
UID:2850-1583521200-1583528400@rvrollerderby.com
SUMMARY:Fresh Meat Practice - Cochrane
DESCRIPTION:Friday night practice is for Fresh Meat. We welcome all skaters to these practices. Fresh Meat Coaches focus on basic skills\, endurance and fitness. Everyone always benefits from these practices. Don’t forget to bring running shoes for dry land warm-ups. \n$10 drop in fee for skaters from outside of the league.
URL:https://rvrollerderby.com/event/fresh-meat-practice-cochrane-6/
LOCATION:Kings Court Church\, 2964 Kingsview Blvd SE\, Airdrie\, Alberta\, T4A 0C9\, Canada
ATTACH;FMTTYPE=image/jpeg:https://rvrollerderby.com/wp-content/uploads/2018/09/dirty-deb-1.jpg
ORGANIZER;CN="RVRDA":MAILTO:rockyviewrollers@gmail.com
END:VEVENT
BEGIN:VEVENT
DTSTART;TZID=America/Edmonton:20200304T193000
DTEND;TZID=America/Edmonton:20200304T213000
DTSTAMP:20260424T021637
CREATED:20191220T184630Z
LAST-MODIFIED:20191220T184630Z
UID:2885-1583350200-1583357400@rvrollerderby.com
SUMMARY:Rocky View Rollers Practice
DESCRIPTION:This practice is for bench-marked skaters. Quiet Riot will focus more on game play and strategy at these practices. Don’t forget to bring running shoes for dry land warm-ups.
URL:https://rvrollerderby.com/event/rocky-view-rollers-practice-46/
LOCATION:Kings Court Church\, 2964 Kingsview Blvd SE\, Airdrie\, Alberta\, T4A 0C9\, Canada
ATTACH;FMTTYPE=image/jpeg:https://rvrollerderby.com/wp-content/uploads/2018/09/game-5.jpg
ORGANIZER;CN="RVRDA":MAILTO:rockyviewrollers@gmail.com
END:VEVENT
BEGIN:VEVENT
DTSTART;TZID=America/Toronto:20200303T193000
DTEND;TZID=America/Toronto:20200303T213000
DTSTAMP:20260424T021637
CREATED:20191218T191520Z
LAST-MODIFIED:20191218T191520Z
UID:2676-1583263800-1583271000@rvrollerderby.com
SUMMARY:East Side Wheeler's & Eat Side Practice
DESCRIPTION:This is our CO-ED benchmarked practice. All benchmarked skaters are welcome. Skaters from outside the league can pay $10 to attend. \nWith the East Side Wheeler’s being our “B” level team\, Riot focuses on more advances strategies and footwork. There is always a scrimmage portion at the end of practice.
URL:https://rvrollerderby.com/event/east-side-wheelers-eat-side-practice-43/
LOCATION:Indus Recreational Centre\, 225155 Range Road 281A\, Indus\, Alberta\, T1X 0H7\, Canada
ATTACH;FMTTYPE=image/jpeg:https://rvrollerderby.com/wp-content/uploads/2019/04/ESW-Team.jpg
END:VEVENT
BEGIN:VEVENT
DTSTART;TZID=America/Edmonton:20200302T193000
DTEND;TZID=America/Edmonton:20200302T213000
DTSTAMP:20260424T021637
CREATED:20191218T230957Z
LAST-MODIFIED:20191218T230957Z
UID:2776-1583177400-1583184600@rvrollerderby.com
SUMMARY:Fresh Meat Practice - Airdrie
DESCRIPTION:Monday night practice is for Fresh Meat. We welcome all skaters to these practices. Fresh Meat Coaches focus on basic skilled\, endurance and fitness. Everyone always benefits from these practices. Don’t forget to bring running shoes for dry land warm-ups. \n$10 drop in fee for skaters from outside of the league.
URL:https://rvrollerderby.com/event/fresh-meat-practice-airdrie-9/
LOCATION:Kings Court Church\, 2964 Kingsview Blvd SE\, Airdrie\, Alberta\, T4A 0C9\, Canada
ATTACH;FMTTYPE=image/jpeg:https://rvrollerderby.com/wp-content/uploads/2018/09/dirty-deb-1.jpg
ORGANIZER;CN="RVRDA":MAILTO:rockyviewrollers@gmail.com
END:VEVENT
BEGIN:VEVENT
DTSTART;TZID=America/Edmonton:20200228T190000
DTEND;TZID=America/Edmonton:20200228T210000
DTSTAMP:20260424T021637
CREATED:20191220T181633Z
LAST-MODIFIED:20191220T182401Z
UID:2848-1582916400-1582923600@rvrollerderby.com
SUMMARY:Fresh Meat Practice - Cochrane
DESCRIPTION:Friday night practice is for Fresh Meat. We welcome all skaters to these practices. Fresh Meat Coaches focus on basic skills\, endurance and fitness. Everyone always benefits from these practices. Don’t forget to bring running shoes for dry land warm-ups. \n$10 drop in fee for skaters from outside of the league.
URL:https://rvrollerderby.com/event/fresh-meat-practice-cochrane-5/
LOCATION:Kings Court Church\, 2964 Kingsview Blvd SE\, Airdrie\, Alberta\, T4A 0C9\, Canada
ATTACH;FMTTYPE=image/jpeg:https://rvrollerderby.com/wp-content/uploads/2018/09/dirty-deb-1.jpg
ORGANIZER;CN="RVRDA":MAILTO:rockyviewrollers@gmail.com
END:VEVENT
BEGIN:VEVENT
DTSTART;TZID=America/Edmonton:20200226T193000
DTEND;TZID=America/Edmonton:20200226T213000
DTSTAMP:20260424T021637
CREATED:20191220T184452Z
LAST-MODIFIED:20191220T184452Z
UID:2883-1582745400-1582752600@rvrollerderby.com
SUMMARY:Rocky View Rollers Practice
DESCRIPTION:This practice is for bench-marked skaters. Quiet Riot will focus more on game play and strategy at these practices. Don’t forget to bring running shoes for dry land warm-ups.
URL:https://rvrollerderby.com/event/rocky-view-rollers-practice-45/
LOCATION:Kings Court Church\, 2964 Kingsview Blvd SE\, Airdrie\, Alberta\, T4A 0C9\, Canada
ATTACH;FMTTYPE=image/jpeg:https://rvrollerderby.com/wp-content/uploads/2018/09/game-5.jpg
ORGANIZER;CN="RVRDA":MAILTO:rockyviewrollers@gmail.com
END:VEVENT
BEGIN:VEVENT
DTSTART;TZID=America/Toronto:20200225T193000
DTEND;TZID=America/Toronto:20200225T213000
DTSTAMP:20260424T021637
CREATED:20191218T191457Z
LAST-MODIFIED:20191218T191457Z
UID:2674-1582659000-1582666200@rvrollerderby.com
SUMMARY:East Side Wheeler's & Eat Side Practice
DESCRIPTION:This is our CO-ED benchmarked practice. All benchmarked skaters are welcome. Skaters from outside the league can pay $10 to attend. \nWith the East Side Wheeler’s being our “B” level team\, Riot focuses on more advances strategies and footwork. There is always a scrimmage portion at the end of practice.
URL:https://rvrollerderby.com/event/east-side-wheelers-eat-side-practice-42/
LOCATION:Indus Recreational Centre\, 225155 Range Road 281A\, Indus\, Alberta\, T1X 0H7\, Canada
ATTACH;FMTTYPE=image/jpeg:https://rvrollerderby.com/wp-content/uploads/2019/04/ESW-Team.jpg
END:VEVENT
BEGIN:VEVENT
DTSTART;TZID=America/Edmonton:20200224T193000
DTEND;TZID=America/Edmonton:20200224T213000
DTSTAMP:20260424T021637
CREATED:20191218T230936Z
LAST-MODIFIED:20191218T230936Z
UID:2774-1582572600-1582579800@rvrollerderby.com
SUMMARY:Fresh Meat Practice - Airdrie
DESCRIPTION:Monday night practice is for Fresh Meat. We welcome all skaters to these practices. Fresh Meat Coaches focus on basic skilled\, endurance and fitness. Everyone always benefits from these practices. Don’t forget to bring running shoes for dry land warm-ups. \n$10 drop in fee for skaters from outside of the league.
URL:https://rvrollerderby.com/event/fresh-meat-practice-airdrie-8/
LOCATION:Kings Court Church\, 2964 Kingsview Blvd SE\, Airdrie\, Alberta\, T4A 0C9\, Canada
ATTACH;FMTTYPE=image/jpeg:https://rvrollerderby.com/wp-content/uploads/2018/09/dirty-deb-1.jpg
ORGANIZER;CN="RVRDA":MAILTO:rockyviewrollers@gmail.com
END:VEVENT
BEGIN:VEVENT
DTSTART;TZID=America/Edmonton:20200221T190000
DTEND;TZID=America/Edmonton:20200221T210000
DTSTAMP:20260424T021637
CREATED:20191220T181607Z
LAST-MODIFIED:20191220T182408Z
UID:2846-1582311600-1582318800@rvrollerderby.com
SUMMARY:Fresh Meat Practice - Cochrane
DESCRIPTION:Friday night practice is for Fresh Meat. We welcome all skaters to these practices. Fresh Meat Coaches focus on basic skills\, endurance and fitness. Everyone always benefits from these practices. Don’t forget to bring running shoes for dry land warm-ups. \n$10 drop in fee for skaters from outside of the league.
URL:https://rvrollerderby.com/event/fresh-meat-practice-cochrane-4/
LOCATION:Kings Court Church\, 2964 Kingsview Blvd SE\, Airdrie\, Alberta\, T4A 0C9\, Canada
ATTACH;FMTTYPE=image/jpeg:https://rvrollerderby.com/wp-content/uploads/2018/09/dirty-deb-1.jpg
ORGANIZER;CN="RVRDA":MAILTO:rockyviewrollers@gmail.com
END:VEVENT
BEGIN:VEVENT
DTSTART;TZID=America/Edmonton:20200219T193000
DTEND;TZID=America/Edmonton:20200219T213000
DTSTAMP:20260424T021637
CREATED:20191220T184433Z
LAST-MODIFIED:20191220T184433Z
UID:2881-1582140600-1582147800@rvrollerderby.com
SUMMARY:Rocky View Rollers Practice
DESCRIPTION:This practice is for bench-marked skaters. Quiet Riot will focus more on game play and strategy at these practices. Don’t forget to bring running shoes for dry land warm-ups.
URL:https://rvrollerderby.com/event/rocky-view-rollers-practice-44/
LOCATION:Kings Court Church\, 2964 Kingsview Blvd SE\, Airdrie\, Alberta\, T4A 0C9\, Canada
ATTACH;FMTTYPE=image/jpeg:https://rvrollerderby.com/wp-content/uploads/2018/09/game-5.jpg
ORGANIZER;CN="RVRDA":MAILTO:rockyviewrollers@gmail.com
END:VEVENT
BEGIN:VEVENT
DTSTART;TZID=America/Toronto:20200218T193000
DTEND;TZID=America/Toronto:20200218T213000
DTSTAMP:20260424T021637
CREATED:20191218T191436Z
LAST-MODIFIED:20191218T191436Z
UID:2672-1582054200-1582061400@rvrollerderby.com
SUMMARY:East Side Wheeler's & Eat Side Practice
DESCRIPTION:This is our CO-ED benchmarked practice. All benchmarked skaters are welcome. Skaters from outside the league can pay $10 to attend. \nWith the East Side Wheeler’s being our “B” level team\, Riot focuses on more advances strategies and footwork. There is always a scrimmage portion at the end of practice.
URL:https://rvrollerderby.com/event/east-side-wheelers-eat-side-practice-41/
LOCATION:Indus Recreational Centre\, 225155 Range Road 281A\, Indus\, Alberta\, T1X 0H7\, Canada
ATTACH;FMTTYPE=image/jpeg:https://rvrollerderby.com/wp-content/uploads/2019/04/ESW-Team.jpg
END:VEVENT
BEGIN:VEVENT
DTSTART;TZID=America/Edmonton:20200217T193000
DTEND;TZID=America/Edmonton:20200217T213000
DTSTAMP:20260424T021637
CREATED:20191218T230918Z
LAST-MODIFIED:20191218T230918Z
UID:2772-1581967800-1581975000@rvrollerderby.com
SUMMARY:Fresh Meat Practice - Airdrie
DESCRIPTION:Monday night practice is for Fresh Meat. We welcome all skaters to these practices. Fresh Meat Coaches focus on basic skilled\, endurance and fitness. Everyone always benefits from these practices. Don’t forget to bring running shoes for dry land warm-ups. \n$10 drop in fee for skaters from outside of the league.
URL:https://rvrollerderby.com/event/fresh-meat-practice-airdrie-7/
LOCATION:Kings Court Church\, 2964 Kingsview Blvd SE\, Airdrie\, Alberta\, T4A 0C9\, Canada
ATTACH;FMTTYPE=image/jpeg:https://rvrollerderby.com/wp-content/uploads/2018/09/dirty-deb-1.jpg
ORGANIZER;CN="RVRDA":MAILTO:rockyviewrollers@gmail.com
END:VEVENT
BEGIN:VEVENT
DTSTART;TZID=America/Edmonton:20200215T190000
DTEND;TZID=America/Edmonton:20200215T220000
DTSTAMP:20260424T021637
CREATED:20191220T194604Z
LAST-MODIFIED:20191220T194604Z
UID:2950-1581793200-1581804000@rvrollerderby.com
SUMMARY:RVRDA Open League Practice
DESCRIPTION:This practice is for everyone and anyone who wants to skate!  Our league coach\, Quiet Riot\, will lead this practice touching on various skills for all levels. There will be a scrimmage after the skills portion\, you need to be benchmarked to partake in the scrimmage. \nThere is a $10 drop in fee for skaters from outside of the league. \nThis is a Co-ed event. \nJuniors level 3 are welcome. \nYou need proof of valid sport insurance and full protective gear (helmet\, elbow pads\, wrist guards\, knee pads\, quad skates and Mouth guard) \nCome join us at our sponsor Boston Pizza after practice for some snacks and drinks! \n 
URL:https://rvrollerderby.com/event/rvrda-open-league-practice-12/
LOCATION:Kings Court Church\, 2964 Kingsview Blvd SE\, Airdrie\, Alberta\, T4A 0C9\, Canada
ATTACH;FMTTYPE=image/jpeg:https://rvrollerderby.com/wp-content/uploads/2018/09/esw-practice.jpg
ORGANIZER;CN="RVRDA":MAILTO:rockyviewrollers@gmail.com
END:VEVENT
BEGIN:VEVENT
DTSTART;TZID=America/Edmonton:20200212T193000
DTEND;TZID=America/Edmonton:20200212T213000
DTSTAMP:20260424T021637
CREATED:20191220T184412Z
LAST-MODIFIED:20191220T184412Z
UID:2879-1581535800-1581543000@rvrollerderby.com
SUMMARY:Rocky View Rollers Practice
DESCRIPTION:This practice is for bench-marked skaters. Quiet Riot will focus more on game play and strategy at these practices. Don’t forget to bring running shoes for dry land warm-ups.
URL:https://rvrollerderby.com/event/rocky-view-rollers-practice-43/
LOCATION:Kings Court Church\, 2964 Kingsview Blvd SE\, Airdrie\, Alberta\, T4A 0C9\, Canada
ATTACH;FMTTYPE=image/jpeg:https://rvrollerderby.com/wp-content/uploads/2018/09/game-5.jpg
ORGANIZER;CN="RVRDA":MAILTO:rockyviewrollers@gmail.com
END:VEVENT
BEGIN:VEVENT
DTSTART;TZID=America/Toronto:20200211T193000
DTEND;TZID=America/Toronto:20200211T213000
DTSTAMP:20260424T021637
CREATED:20191218T191415Z
LAST-MODIFIED:20191218T191415Z
UID:2670-1581449400-1581456600@rvrollerderby.com
SUMMARY:East Side Wheeler's & Eat Side Practice
DESCRIPTION:This is our CO-ED benchmarked practice. All benchmarked skaters are welcome. Skaters from outside the league can pay $10 to attend. \nWith the East Side Wheeler’s being our “B” level team\, Riot focuses on more advances strategies and footwork. There is always a scrimmage portion at the end of practice.
URL:https://rvrollerderby.com/event/east-side-wheelers-eat-side-practice-40/
LOCATION:Indus Recreational Centre\, 225155 Range Road 281A\, Indus\, Alberta\, T1X 0H7\, Canada
ATTACH;FMTTYPE=image/jpeg:https://rvrollerderby.com/wp-content/uploads/2019/04/ESW-Team.jpg
END:VEVENT
BEGIN:VEVENT
DTSTART;TZID=America/Edmonton:20200210T193000
DTEND;TZID=America/Edmonton:20200210T213000
DTSTAMP:20260424T021637
CREATED:20191218T230858Z
LAST-MODIFIED:20191218T230858Z
UID:2770-1581363000-1581370200@rvrollerderby.com
SUMMARY:Fresh Meat Practice - Airdrie
DESCRIPTION:Monday night practice is for Fresh Meat. We welcome all skaters to these practices. Fresh Meat Coaches focus on basic skilled\, endurance and fitness. Everyone always benefits from these practices. Don’t forget to bring running shoes for dry land warm-ups. \n$10 drop in fee for skaters from outside of the league.
URL:https://rvrollerderby.com/event/fresh-meat-practice-airdrie-6/
LOCATION:Kings Court Church\, 2964 Kingsview Blvd SE\, Airdrie\, Alberta\, T4A 0C9\, Canada
ATTACH;FMTTYPE=image/jpeg:https://rvrollerderby.com/wp-content/uploads/2018/09/dirty-deb-1.jpg
ORGANIZER;CN="RVRDA":MAILTO:rockyviewrollers@gmail.com
END:VEVENT
END:VCALENDAR