BEGIN:VCALENDAR
VERSION:2.0
PRODID:-//Rocky View Roller Derby - ECPv6.15.10//NONSGML v1.0//EN
CALSCALE:GREGORIAN
METHOD:PUBLISH
X-ORIGINAL-URL:https://rvrollerderby.com
X-WR-CALDESC:Events for Rocky View Roller Derby
REFRESH-INTERVAL;VALUE=DURATION:PT1H
X-Robots-Tag:noindex
X-PUBLISHED-TTL:PT1H
BEGIN:VTIMEZONE
TZID:America/Edmonton
BEGIN:DAYLIGHT
TZOFFSETFROM:-0700
TZOFFSETTO:-0600
TZNAME:MDT
DTSTART:20180311T090000
END:DAYLIGHT
BEGIN:STANDARD
TZOFFSETFROM:-0600
TZOFFSETTO:-0700
TZNAME:MST
DTSTART:20181104T080000
END:STANDARD
BEGIN:DAYLIGHT
TZOFFSETFROM:-0700
TZOFFSETTO:-0600
TZNAME:MDT
DTSTART:20190310T090000
END:DAYLIGHT
BEGIN:STANDARD
TZOFFSETFROM:-0600
TZOFFSETTO:-0700
TZNAME:MST
DTSTART:20191103T080000
END:STANDARD
BEGIN:DAYLIGHT
TZOFFSETFROM:-0700
TZOFFSETTO:-0600
TZNAME:MDT
DTSTART:20200308T090000
END:DAYLIGHT
BEGIN:STANDARD
TZOFFSETFROM:-0600
TZOFFSETTO:-0700
TZNAME:MST
DTSTART:20201101T080000
END:STANDARD
BEGIN:DAYLIGHT
TZOFFSETFROM:-0700
TZOFFSETTO:-0600
TZNAME:MDT
DTSTART:20210314T090000
END:DAYLIGHT
BEGIN:STANDARD
TZOFFSETFROM:-0600
TZOFFSETTO:-0700
TZNAME:MST
DTSTART:20211107T080000
END:STANDARD
END:VTIMEZONE
BEGIN:VEVENT
DTSTART;TZID=America/Edmonton:20200127T193000
DTEND;TZID=America/Edmonton:20200127T213000
DTSTAMP:20260423T171036
CREATED:20191218T021817Z
LAST-MODIFIED:20191218T021817Z
UID:2653-1580153400-1580160600@rvrollerderby.com
SUMMARY:Airdrie - Try it Night
DESCRIPTION:You are invited to come try out Roller Derby! \nWe will provide gear for you and teach you some basic skating skills. We will have many skaters there to answer your questions and provide information about signing up for our fresh meat/learn to derby program. \nAs always\, anyone over the age of 18 is welcome to attend and try roller derby. We are a CO-ED league and all genders are welcome. \nFeel free to contact us with any questions or concerns.
URL:https://rvrollerderby.com/event/airdrie-try-it-night/
LOCATION:Kings Court Church\, 2964 Kingsview Blvd SE\, Airdrie\, Alberta\, T4A 0C9\, Canada
CATEGORIES:Public event,Try it Night
ATTACH;FMTTYPE=image/jpeg:https://rvrollerderby.com/wp-content/uploads/2018/09/try-it-jpeg.jpg
ORGANIZER;CN="RVRDA":MAILTO:rockyviewrollers@gmail.com
END:VEVENT
BEGIN:VEVENT
DTSTART;TZID=America/Edmonton:20200124T190000
DTEND;TZID=America/Edmonton:20200124T210000
DTSTAMP:20260423T171036
CREATED:20191218T022208Z
LAST-MODIFIED:20191218T022208Z
UID:2656-1579892400-1579899600@rvrollerderby.com
SUMMARY:Cochrane Try-It-Night
DESCRIPTION:You are invited to come try out Roller Derby!! \nNo previous experience is required. We will teach you some basic skating skill and introduce you to world of roller skating. Anyone over the age of 18 is welcome to attend and try roller derby. We are a CO-ED league and all genders are welcome. \nWear comfy clothes and bring a water bottle. \nFeel free to contact us with any questions or concerns. \n 
URL:https://rvrollerderby.com/event/cochrane-try-it-night/
LOCATION:Frank Wills Memorial Hall\, 405 1 St E\, Cochrane\, Alberta\, T4C 1C7\, Canada
CATEGORIES:Public event,Try it Night
ATTACH;FMTTYPE=image/jpeg:https://rvrollerderby.com/wp-content/uploads/2018/09/try-it-jpeg.jpg
ORGANIZER;CN="RVRDA":MAILTO:rockyviewrollers@gmail.com
END:VEVENT
BEGIN:VEVENT
DTSTART;TZID=America/Edmonton:20190916T193000
DTEND;TZID=America/Edmonton:20190916T213000
DTSTAMP:20260423T171036
CREATED:20190423T225738Z
LAST-MODIFIED:20190902T171942Z
UID:2250-1568662200-1568669400@rvrollerderby.com
SUMMARY:Airdrie - Try it Night
DESCRIPTION:You are invited to come try out Roller Derby! \nWe will provide gear for you (as long as you RSVP) and teach you some basic skating skills. We will have many skaters there to answer your questions and provide information about signing up for our fresh meat/learn to derby program. \nAs always\, anyone over the age of 18 is welcome to attend and try roller derby. We are a CO-ED league and all genders are welcome. \nFeel free to contact us with any questions or concerns. \nPlease RSVP Here to ensure that we have skates and gear for you.
URL:https://rvrollerderby.com/event/rocky-view-rollers-practice-26/
LOCATION:Kings Court Church\, 2964 Kingsview Blvd SE\, Airdrie\, Alberta\, T4A 0C9\, Canada
CATEGORIES:Public event,Try it Night
ATTACH;FMTTYPE=image/jpeg:https://rvrollerderby.com/wp-content/uploads/2018/09/try-it-jpeg.jpg
ORGANIZER;CN="RVRDA":MAILTO:rockyviewrollers@gmail.com
END:VEVENT
BEGIN:VEVENT
DTSTART;TZID=America/Edmonton:20190911T173000
DTEND;TZID=America/Edmonton:20190911T193000
DTSTAMP:20260423T171036
CREATED:20190423T225701Z
LAST-MODIFIED:20190812T234720Z
UID:2246-1568223000-1568230200@rvrollerderby.com
SUMMARY:First Ever Cochrane Try-It-Night
DESCRIPTION:You are invited to come try out Roller Derby!! \nRVRDA is expanding into the Cochrane area.This is our first try it night hosted in Cochrane and will kick off the start of our new Fresh Meat team. Practices start October 4th and will be on Fridays for 10 weeks. \nAs always\, anyone over the age of 18 is welcome to attend and try roller derby. We are a CO-ED league and all genders are welcome. Please RSVP Here – This will ensure that we have skates and gear for you. Thanks!! \nFeel free to contact us with any questions or concerns. \n 
URL:https://rvrollerderby.com/event/rocky-view-rollers-practice-25/
LOCATION:Spray Lake Sawmills Family Sports Center\, 800 Griffin Rd E\, Cochrane\, Alberta\, T4C 0A2\, Canada
CATEGORIES:Public event,Try it Night
ATTACH;FMTTYPE=image/jpeg:https://rvrollerderby.com/wp-content/uploads/2018/09/try-it-jpeg.jpg
ORGANIZER;CN="RVRDA":MAILTO:rockyviewrollers@gmail.com
END:VEVENT
END:VCALENDAR