BEGIN:VCALENDAR
VERSION:2.0
PRODID:-//Rocky View Roller Derby - ECPv6.15.10//NONSGML v1.0//EN
CALSCALE:GREGORIAN
METHOD:PUBLISH
X-ORIGINAL-URL:https://rvrollerderby.com
X-WR-CALDESC:Events for Rocky View Roller Derby
REFRESH-INTERVAL;VALUE=DURATION:PT1H
X-Robots-Tag:noindex
X-PUBLISHED-TTL:PT1H
BEGIN:VTIMEZONE
TZID:America/Edmonton
BEGIN:DAYLIGHT
TZOFFSETFROM:-0700
TZOFFSETTO:-0600
TZNAME:MDT
DTSTART:20170312T090000
END:DAYLIGHT
BEGIN:STANDARD
TZOFFSETFROM:-0600
TZOFFSETTO:-0700
TZNAME:MST
DTSTART:20171105T080000
END:STANDARD
BEGIN:DAYLIGHT
TZOFFSETFROM:-0700
TZOFFSETTO:-0600
TZNAME:MDT
DTSTART:20180311T090000
END:DAYLIGHT
BEGIN:STANDARD
TZOFFSETFROM:-0600
TZOFFSETTO:-0700
TZNAME:MST
DTSTART:20181104T080000
END:STANDARD
BEGIN:DAYLIGHT
TZOFFSETFROM:-0700
TZOFFSETTO:-0600
TZNAME:MDT
DTSTART:20190310T090000
END:DAYLIGHT
BEGIN:STANDARD
TZOFFSETFROM:-0600
TZOFFSETTO:-0700
TZNAME:MST
DTSTART:20191103T080000
END:STANDARD
END:VTIMEZONE
BEGIN:VTIMEZONE
TZID:America/Toronto
BEGIN:DAYLIGHT
TZOFFSETFROM:-0500
TZOFFSETTO:-0400
TZNAME:EDT
DTSTART:20170312T070000
END:DAYLIGHT
BEGIN:STANDARD
TZOFFSETFROM:-0400
TZOFFSETTO:-0500
TZNAME:EST
DTSTART:20171105T060000
END:STANDARD
BEGIN:DAYLIGHT
TZOFFSETFROM:-0500
TZOFFSETTO:-0400
TZNAME:EDT
DTSTART:20180311T070000
END:DAYLIGHT
BEGIN:STANDARD
TZOFFSETFROM:-0400
TZOFFSETTO:-0500
TZNAME:EST
DTSTART:20181104T060000
END:STANDARD
BEGIN:DAYLIGHT
TZOFFSETFROM:-0500
TZOFFSETTO:-0400
TZNAME:EDT
DTSTART:20190310T070000
END:DAYLIGHT
BEGIN:STANDARD
TZOFFSETFROM:-0400
TZOFFSETTO:-0500
TZNAME:EST
DTSTART:20191103T060000
END:STANDARD
END:VTIMEZONE
BEGIN:VEVENT
DTSTART;TZID=America/Edmonton:20181003T193000
DTEND;TZID=America/Edmonton:20181003T203000
DTSTAMP:20260423T201010
CREATED:20180924T195820Z
LAST-MODIFIED:20180924T195820Z
UID:1875-1538595000-1538598600@rvrollerderby.com
SUMMARY:Fall League Meeting
DESCRIPTION:The BOD is hosting a League Meeting to update skaters on current events. All league members are highly encouraged to be in attendance.
URL:https://rvrollerderby.com/event/fall-league-meeting/
LOCATION:Kings Court Church\, 2964 Kingsview Blvd SE\, Airdrie\, Alberta\, T4A 0C9\, Canada
CATEGORIES:Members
ORGANIZER;CN="RVRDA":MAILTO:rockyviewrollers@gmail.com
END:VEVENT
BEGIN:VEVENT
DTSTART;TZID=America/Edmonton:20181001T193000
DTEND;TZID=America/Edmonton:20181001T213000
DTSTAMP:20260423T201010
CREATED:20180924T202522Z
LAST-MODIFIED:20180924T205208Z
UID:1888-1538422200-1538429400@rvrollerderby.com
SUMMARY:Rice Ball Stride Clinic
DESCRIPTION:Everyone is welcome. Rice Ball is an incredible skater and has so much knowledge to share. Everyone can improve their stride so we highly recommend you make time to be there for this practice.
URL:https://rvrollerderby.com/event/fresh-meat-practice-2/
LOCATION:Kings Court Church\, 2964 Kingsview Blvd SE\, Airdrie\, Alberta\, T4A 0C9\, Canada
CATEGORIES:Members
END:VEVENT
BEGIN:VEVENT
DTSTART;TZID=America/Edmonton:20180924T193000
DTEND;TZID=America/Edmonton:20180924T213000
DTSTAMP:20260423T201010
CREATED:20180924T202413Z
LAST-MODIFIED:20180924T205322Z
UID:1887-1537817400-1537824600@rvrollerderby.com
SUMMARY:Fresh Meat Practice
DESCRIPTION:Monday night practice is for Fresh Meat. We welcome all skaters to these practices. Distressed Mode focuses on basic skilled\, endurance and fitness. Everyone always benefits from these practices. Don’t forget to bring running shoes for dry land warm-ups.
URL:https://rvrollerderby.com/event/fresh-meat-practice/
LOCATION:Kings Court Church\, 2964 Kingsview Blvd SE\, Airdrie\, Alberta\, T4A 0C9\, Canada
CATEGORIES:Members
END:VEVENT
BEGIN:VEVENT
DTSTART;TZID=America/Toronto:20180917T080000
DTEND;TZID=America/Toronto:20180917T170000
DTSTAMP:20260423T201010
CREATED:20180918T064008Z
LAST-MODIFIED:20180924T202332Z
UID:1350-1537171200-1537203600@rvrollerderby.com
SUMMARY:Fresh Meat Practice
DESCRIPTION:Monday night practice is for Fresh Meat. We welcome all skaters to these practices. Distressed Mode focuses on basic skilled\, endurance and fitness. Everyone always benefits from these practices. Don’t forget to bring running shoes for dry land warm-ups.
URL:https://rvrollerderby.com/event/roller-derby-practice-private/
LOCATION:Kings Court Church\, 2964 Kingsview Blvd SE\, Airdrie\, Alberta\, T4A 0C9\, Canada
CATEGORIES:Members
END:VEVENT
END:VCALENDAR